BEGIN:VCALENDAR
VERSION:2.0
PRODID:-//The Citizen - ECPv6.15.20//NONSGML v1.0//EN
CALSCALE:GREGORIAN
METHOD:PUBLISH
X-ORIGINAL-URL:https://thecitizen.com
X-WR-CALDESC:Events for The Citizen
REFRESH-INTERVAL;VALUE=DURATION:PT1H
X-Robots-Tag:noindex
X-PUBLISHED-TTL:PT1H
BEGIN:VTIMEZONE
TZID:America/New_York
BEGIN:DAYLIGHT
TZOFFSETFROM:-0500
TZOFFSETTO:-0400
TZNAME:EDT
DTSTART:20180311T070000
END:DAYLIGHT
BEGIN:STANDARD
TZOFFSETFROM:-0400
TZOFFSETTO:-0500
TZNAME:EST
DTSTART:20181104T060000
END:STANDARD
BEGIN:DAYLIGHT
TZOFFSETFROM:-0500
TZOFFSETTO:-0400
TZNAME:EDT
DTSTART:20190310T070000
END:DAYLIGHT
BEGIN:STANDARD
TZOFFSETFROM:-0400
TZOFFSETTO:-0500
TZNAME:EST
DTSTART:20191103T060000
END:STANDARD
BEGIN:DAYLIGHT
TZOFFSETFROM:-0500
TZOFFSETTO:-0400
TZNAME:EDT
DTSTART:20200308T070000
END:DAYLIGHT
BEGIN:STANDARD
TZOFFSETFROM:-0400
TZOFFSETTO:-0500
TZNAME:EST
DTSTART:20201101T060000
END:STANDARD
END:VTIMEZONE
BEGIN:VEVENT
DTSTART;TZID=America/New_York:20191208T150000
DTEND;TZID=America/New_York:20191208T170000
DTSTAMP:20260423T144141
CREATED:20191103T224910Z
LAST-MODIFIED:20191201T204320Z
UID:10000237-1575817200-1575824400@thecitizen.com
SUMMARY:Christmas with the Southern Crescent Chorale
DESCRIPTION:Christmas with the Southern Crescent Chorale is a holiday tradition in our community and is a delightful way to begin your holiday season. Joined by the Whitewater High School Chorale on Friday evening and Starr’s Mill High School Chanticleer on Sunday afternoon\, the Chorale will perform a concert of cherished Christmas favorites accompanied by a full professional orchestra. \nRichard Clement\nThe Chorale welcomes Grammy-winning American tenor\, Richard Clement\, as guest soloist for both concerts. Clement has performed with most of America’s major orchestras and their music directors\, bringing tonal beauty and superb musicality to repertoire from the baroque to the contemporary. He recently premiered–and recorded–Theofanides’ The Here and Now with Robert Spano and the Atlanta Symphony\, including performances in Atlanta and at Carnegie Hall. \nClement studied voice at Georgia State University and the Cincinnati Conservatory\, where he received his Master of Music degree. His dozen recordings include Britten’s War Requiem with the Washington Choral Society\, Bartók’s Cantata Profana with the Atlanta Symphony (both Grammy winners) and Tchaikovsky’s Pique Dame. Clement is currently an associate professor and Artist-in-Residence at Atlanta’s Georgia State University. \n\n“Christmas is a day of meaning and traditions\, a special day spent in the warm circle of family and friends.” ~ Margaret Thatcher. \n\nTickets are available at the Fayetteville Library or online at www.southerncrescentchorale.org. Advance tickets are $20 for adults\, $15 for students and seniors. Tickets are $25 at the door.
URL:https://thecitizen.com/event/christmas-with-the-southern-crescent-chorale/2019-12-08/
LOCATION:First Presbyterian Church\, 209 Willowbend Road\, Peachtree City\, GA\, 30269\, United States
CATEGORIES:Concerts,Holidays,Live Performances,Music
ATTACH;FMTTYPE=image/jpeg:https://thecitizen.com/wpimport/wp-content/uploads/2019/11/southern-crescent-chorale.jpg
GEO:33.3982281;-84.5835912
X-APPLE-STRUCTURED-LOCATION;VALUE=URI;X-ADDRESS=First Presbyterian Church 209 Willowbend Road Peachtree City GA 30269 United States;X-APPLE-RADIUS=500;X-TITLE=209 Willowbend Road:geo:-84.5835912,33.3982281
END:VEVENT
BEGIN:VEVENT
DTSTART;TZID=America/New_York:20191206T193000
DTEND;TZID=America/New_York:20191206T213000
DTSTAMP:20260423T144141
CREATED:20191103T224910Z
LAST-MODIFIED:20191201T204320Z
UID:10000236-1575660600-1575667800@thecitizen.com
SUMMARY:Christmas with the Southern Crescent Chorale
DESCRIPTION:Christmas with the Southern Crescent Chorale is a holiday tradition in our community and is a delightful way to begin your holiday season. Joined by the Whitewater High School Chorale on Friday evening and Starr’s Mill High School Chanticleer on Sunday afternoon\, the Chorale will perform a concert of cherished Christmas favorites accompanied by a full professional orchestra. \nRichard Clement\nThe Chorale welcomes Grammy-winning American tenor\, Richard Clement\, as guest soloist for both concerts. Clement has performed with most of America’s major orchestras and their music directors\, bringing tonal beauty and superb musicality to repertoire from the baroque to the contemporary. He recently premiered–and recorded–Theofanides’ The Here and Now with Robert Spano and the Atlanta Symphony\, including performances in Atlanta and at Carnegie Hall. \nClement studied voice at Georgia State University and the Cincinnati Conservatory\, where he received his Master of Music degree. His dozen recordings include Britten’s War Requiem with the Washington Choral Society\, Bartók’s Cantata Profana with the Atlanta Symphony (both Grammy winners) and Tchaikovsky’s Pique Dame. Clement is currently an associate professor and Artist-in-Residence at Atlanta’s Georgia State University. \n\n“Christmas is a day of meaning and traditions\, a special day spent in the warm circle of family and friends.” ~ Margaret Thatcher. \n\nTickets are available at the Fayetteville Library or online at www.southerncrescentchorale.org. Advance tickets are $20 for adults\, $15 for students and seniors. Tickets are $25 at the door.
URL:https://thecitizen.com/event/christmas-with-the-southern-crescent-chorale/2019-12-06/
LOCATION:First Presbyterian Church\, 209 Willowbend Road\, Peachtree City\, GA\, 30269\, United States
CATEGORIES:Concerts,Holidays,Live Performances,Music
ATTACH;FMTTYPE=image/jpeg:https://thecitizen.com/wpimport/wp-content/uploads/2019/11/southern-crescent-chorale.jpg
GEO:33.3982281;-84.5835912
X-APPLE-STRUCTURED-LOCATION;VALUE=URI;X-ADDRESS=First Presbyterian Church 209 Willowbend Road Peachtree City GA 30269 United States;X-APPLE-RADIUS=500;X-TITLE=209 Willowbend Road:geo:-84.5835912,33.3982281
END:VEVENT
END:VCALENDAR