BEGIN:VCALENDAR
VERSION:2.0
PRODID:-//The Citizen - ECPv6.15.20//NONSGML v1.0//EN
CALSCALE:GREGORIAN
METHOD:PUBLISH
X-ORIGINAL-URL:https://thecitizen.com
X-WR-CALDESC:Events for The Citizen
REFRESH-INTERVAL;VALUE=DURATION:PT1H
X-Robots-Tag:noindex
X-PUBLISHED-TTL:PT1H
BEGIN:VTIMEZONE
TZID:America/New_York
BEGIN:DAYLIGHT
TZOFFSETFROM:-0500
TZOFFSETTO:-0400
TZNAME:EDT
DTSTART:20180311T070000
END:DAYLIGHT
BEGIN:STANDARD
TZOFFSETFROM:-0400
TZOFFSETTO:-0500
TZNAME:EST
DTSTART:20181104T060000
END:STANDARD
BEGIN:DAYLIGHT
TZOFFSETFROM:-0500
TZOFFSETTO:-0400
TZNAME:EDT
DTSTART:20190310T070000
END:DAYLIGHT
BEGIN:STANDARD
TZOFFSETFROM:-0400
TZOFFSETTO:-0500
TZNAME:EST
DTSTART:20191103T060000
END:STANDARD
BEGIN:DAYLIGHT
TZOFFSETFROM:-0500
TZOFFSETTO:-0400
TZNAME:EDT
DTSTART:20200308T070000
END:DAYLIGHT
BEGIN:STANDARD
TZOFFSETFROM:-0400
TZOFFSETTO:-0500
TZNAME:EST
DTSTART:20201101T060000
END:STANDARD
END:VTIMEZONE
BEGIN:VEVENT
DTSTART;TZID=America/New_York:20191003T093000
DTEND;TZID=America/New_York:20191003T110000
DTSTAMP:20260421T221225
CREATED:20190830T212056Z
LAST-MODIFIED:20190830T212056Z
UID:10002098-1570095000-1570100400@thecitizen.com
SUMMARY:New Neighbors League meets in Peachtree City
DESCRIPTION:NEW NEIGHBORS LEAGUE CLUB meets the 1st Thursday of each month at 9:30 a.m. at Christ Our Shepherd Lutheran Church (Fellowship Hall)\, 101 N Peachtree Pkwy\, Peachtree City. Visitors are welcome. For more information\, contact Carol Jensen-Linton at 770-486-9116 or email CarolJL@bellsouth.net.
URL:https://thecitizen.com/event/new-neighbors-league-meets-in-peachtree-city/2019-10-03/
LOCATION:Christ Our Shepherd Lutheran Church\, 101 N. Peachtree Parkway\, Peachtree City\, GA\, 30269\, United States
CATEGORIES:Community,Events
ATTACH;FMTTYPE=image/jpeg:https://thecitizen.com/wpimport/wp-content/uploads/2017/01/new-neighbors-league-club-peachtree-city.jpg
ORGANIZER;CN="Carol Jensen-Linton":MAILTO:CarolJL@bellsouth.net
GEO:33.4077284;-84.5697307
X-APPLE-STRUCTURED-LOCATION;VALUE=URI;X-ADDRESS=Christ Our Shepherd Lutheran Church 101 N. Peachtree Parkway Peachtree City GA 30269 United States;X-APPLE-RADIUS=500;X-TITLE=101 N. Peachtree Parkway:geo:-84.5697307,33.4077284
END:VEVENT
BEGIN:VEVENT
DTSTART;TZID=America/New_York:20190905T093000
DTEND;TZID=America/New_York:20190905T110000
DTSTAMP:20260421T221225
CREATED:20190830T212056Z
LAST-MODIFIED:20190830T212056Z
UID:10002097-1567675800-1567681200@thecitizen.com
SUMMARY:New Neighbors League meets in Peachtree City
DESCRIPTION:NEW NEIGHBORS LEAGUE CLUB meets the 1st Thursday of each month at 9:30 a.m. at Christ Our Shepherd Lutheran Church (Fellowship Hall)\, 101 N Peachtree Pkwy\, Peachtree City. Visitors are welcome. For more information\, contact Carol Jensen-Linton at 770-486-9116 or email CarolJL@bellsouth.net.
URL:https://thecitizen.com/event/new-neighbors-league-meets-in-peachtree-city/2019-09-05/
LOCATION:Christ Our Shepherd Lutheran Church\, 101 N. Peachtree Parkway\, Peachtree City\, GA\, 30269\, United States
CATEGORIES:Community,Events
ATTACH;FMTTYPE=image/jpeg:https://thecitizen.com/wpimport/wp-content/uploads/2017/01/new-neighbors-league-club-peachtree-city.jpg
ORGANIZER;CN="Carol Jensen-Linton":MAILTO:CarolJL@bellsouth.net
GEO:33.4077284;-84.5697307
X-APPLE-STRUCTURED-LOCATION;VALUE=URI;X-ADDRESS=Christ Our Shepherd Lutheran Church 101 N. Peachtree Parkway Peachtree City GA 30269 United States;X-APPLE-RADIUS=500;X-TITLE=101 N. Peachtree Parkway:geo:-84.5697307,33.4077284
END:VEVENT
END:VCALENDAR