BEGIN:VCALENDAR
VERSION:2.0
PRODID:-//The Citizen - ECPv6.15.20//NONSGML v1.0//EN
CALSCALE:GREGORIAN
METHOD:PUBLISH
X-ORIGINAL-URL:https://thecitizen.com
X-WR-CALDESC:Events for The Citizen
REFRESH-INTERVAL;VALUE=DURATION:PT1H
X-Robots-Tag:noindex
X-PUBLISHED-TTL:PT1H
BEGIN:VTIMEZONE
TZID:America/New_York
BEGIN:DAYLIGHT
TZOFFSETFROM:-0500
TZOFFSETTO:-0400
TZNAME:EDT
DTSTART:20250309T070000
END:DAYLIGHT
BEGIN:STANDARD
TZOFFSETFROM:-0400
TZOFFSETTO:-0500
TZNAME:EST
DTSTART:20251102T060000
END:STANDARD
BEGIN:DAYLIGHT
TZOFFSETFROM:-0500
TZOFFSETTO:-0400
TZNAME:EDT
DTSTART:20260308T070000
END:DAYLIGHT
BEGIN:STANDARD
TZOFFSETFROM:-0400
TZOFFSETTO:-0500
TZNAME:EST
DTSTART:20261101T060000
END:STANDARD
BEGIN:DAYLIGHT
TZOFFSETFROM:-0500
TZOFFSETTO:-0400
TZNAME:EDT
DTSTART:20270314T070000
END:DAYLIGHT
BEGIN:STANDARD
TZOFFSETFROM:-0400
TZOFFSETTO:-0500
TZNAME:EST
DTSTART:20271107T060000
END:STANDARD
END:VTIMEZONE
BEGIN:VEVENT
DTSTART;TZID=America/New_York:20260430T130000
DTEND;TZID=America/New_York:20260430T150000
DTSTAMP:20260425T151743
CREATED:20260318T193327Z
LAST-MODIFIED:20260319T012123Z
UID:10002986-1777554000-1777561200@thecitizen.com
SUMMARY:Pasta La Vista!
DESCRIPTION:Thursday\, April 30 – 1 p.m. to 3 p.m. Fayette Senior Services (FSS) – Peachtree City location at The Gathering Place\, 203 McIntosh Trail: There’s nothing quite like the taste of fresh\, homemade pasta\, and now is your chance to roll up your sleeves and learn how to make it from scratch! In this hands-on class\, StuffedTastic Catering will help us discover the secrets of crafting perfect pasta\, from mixing the dough to shaping your favorite varieties. Best of all\, you’ll get to take home the delicious pasta you’ve created to share and enjoy. This fun\, interactive experience will teach you the timeless art of pasta making\, giving you the skills to create homemade dishes that wow every time. Get ready to impress with your own homemade creations! This program is $30 and pre-registration is required. Payment must be made at the time of registration. Call 770-461-0813 or stop by either location to register. FSS members and non-members welcome. www.Fayss.org.
URL:https://thecitizen.com/event/pasta-la-vista/
LOCATION:Fayette Senior Services Life Enrichment Center\, 4 Center Drive\, Fayetteville\, GA\, 30214\, United States
ORGANIZER;CN="Fayette Senior Services":MAILTO:register@fayss.org
GEO:33.441675;-84.448722
X-APPLE-STRUCTURED-LOCATION;VALUE=URI;X-ADDRESS=Fayette Senior Services Life Enrichment Center 4 Center Drive Fayetteville GA 30214 United States;X-APPLE-RADIUS=500;X-TITLE=4 Center Drive:geo:-84.448722,33.441675
END:VEVENT
END:VCALENDAR