BEGIN:VCALENDAR
VERSION:2.0
PRODID:-//The Citizen - ECPv6.15.20//NONSGML v1.0//EN
CALSCALE:GREGORIAN
METHOD:PUBLISH
X-ORIGINAL-URL:https://thecitizen.com
X-WR-CALDESC:Events for The Citizen
REFRESH-INTERVAL;VALUE=DURATION:PT1H
X-Robots-Tag:noindex
X-PUBLISHED-TTL:PT1H
BEGIN:VTIMEZONE
TZID:America/New_York
BEGIN:DAYLIGHT
TZOFFSETFROM:-0500
TZOFFSETTO:-0400
TZNAME:EDT
DTSTART:20190310T070000
END:DAYLIGHT
BEGIN:STANDARD
TZOFFSETFROM:-0400
TZOFFSETTO:-0500
TZNAME:EST
DTSTART:20191103T060000
END:STANDARD
BEGIN:DAYLIGHT
TZOFFSETFROM:-0500
TZOFFSETTO:-0400
TZNAME:EDT
DTSTART:20200308T070000
END:DAYLIGHT
BEGIN:STANDARD
TZOFFSETFROM:-0400
TZOFFSETTO:-0500
TZNAME:EST
DTSTART:20201101T060000
END:STANDARD
BEGIN:DAYLIGHT
TZOFFSETFROM:-0500
TZOFFSETTO:-0400
TZNAME:EDT
DTSTART:20210314T070000
END:DAYLIGHT
BEGIN:STANDARD
TZOFFSETFROM:-0400
TZOFFSETTO:-0500
TZNAME:EST
DTSTART:20211107T060000
END:STANDARD
END:VTIMEZONE
BEGIN:VEVENT
DTSTART;TZID=America/New_York:20200105T103000
DTEND;TZID=America/New_York:20200105T120000
DTSTAMP:20260421T062519
CREATED:20191215T224814Z
LAST-MODIFIED:20191215T231500Z
UID:10000779-1578220200-1578225600@thecitizen.com
SUMMARY:All Saints Christmas Celebrations
DESCRIPTION:The congregation at All Saints Anglican Church will celebrate the birth of Christ with several services. \nA service for families will be held at 5 p.m. on Christmas Eve\, with nursery provided. \nChristmas Lessons and Carols will be celebrated at 10:30 p.m. Christmas Eve followed by a midnight candlelight mass at 11 p.m. \nA Children’s Epiphany Pageant will be held at 10:30 a.m. on Sunday\, January 5. \nAll are invited to attend.
URL:https://thecitizen.com/event/all-saints-christmas-celebrations/2020-01-05/
LOCATION:All Saints Anglican Church\, 149 Ebenezer Rd.\, Fayetteville\, GA\, 30215\, United States
CATEGORIES:Christmas,Church,Holidays
ATTACH;FMTTYPE=image/jpeg:https://thecitizen.com/wpimport/wp-content/uploads/2019/12/AllSaints-970x250-120419.jpg
GEO:33.43507;-84.547642
X-APPLE-STRUCTURED-LOCATION;VALUE=URI;X-ADDRESS=All Saints Anglican Church 149 Ebenezer Rd. Fayetteville GA 30215 United States;X-APPLE-RADIUS=500;X-TITLE=149 Ebenezer Rd.:geo:-84.547642,33.43507
END:VEVENT
BEGIN:VEVENT
DTSTART;TZID=America/New_York:20200106T193000
DTEND;TZID=America/New_York:20200106T203000
DTSTAMP:20260421T062519
CREATED:20190901T204920Z
LAST-MODIFIED:20190901T204920Z
UID:10000371-1578339000-1578342600@thecitizen.com
SUMMARY:Peachtree City Running Club
DESCRIPTION:PEACHTREE CITY RUNNING CLUB holds its monthly meetings on the 1st Monday of every month (except July and December)\, at 7:30 p.m. at the Peachtree City Hotel and Conference Center (formerly known as the Wyndham). To confirm meeting location and for more information\, go to ptcrc.com.
URL:https://thecitizen.com/event/peachtree-city-running-club/2020-01-06/
LOCATION:GA
CATEGORIES:Sports
END:VEVENT
BEGIN:VEVENT
DTSTART;TZID=America/New_York:20200107T100000
DTEND;TZID=America/New_York:20200107T113000
DTSTAMP:20260421T062519
CREATED:20200105T200403Z
LAST-MODIFIED:20200812T161241Z
UID:10001991-1578391200-1578396600@thecitizen.com
SUMMARY:Peachtree City Garden Club
DESCRIPTION:PEACHTREE CITY GARDEN CLUB meets the first Tuesday of each month (Sept. – May) at 10 a.m. at The Bridge Community Center\, 225 Willowbend Rd.\, Peachtree City. Join us at 9:30 for refreshments and fellowship. Guests are welcome. Membership dues are $15 per year. For more information\, email helanderb@comcast.net.
URL:https://thecitizen.com/event/peachtree-city-garden-club/2020-01-07/
LOCATION:The Bridge Community Center\, 225 Willow Bend Road\, Peachtree City\, GA\, 30269\, United States
CATEGORIES:Gardening
ATTACH;FMTTYPE=image/jpeg:https://thecitizen.com/wpimport/wp-content/uploads/2020/01/linda_faulkner_karen_sagon_peachtree_city_garden_club_tour_2019.jpg
GEO:33.3982379;-84.5859554
X-APPLE-STRUCTURED-LOCATION;VALUE=URI;X-ADDRESS=The Bridge Community Center 225 Willow Bend Road Peachtree City GA 30269 United States;X-APPLE-RADIUS=500;X-TITLE=225 Willow Bend Road:geo:-84.5859554,33.3982379
END:VEVENT
BEGIN:VEVENT
DTSTART;TZID=America/New_York:20200107T183000
DTEND;TZID=America/New_York:20200107T203000
DTSTAMP:20260421T062519
CREATED:20190901T140958Z
LAST-MODIFIED:20241205T183215Z
UID:10000355-1578421800-1578429000@thecitizen.com
SUMMARY:Envision Support Group for Visually Impaired
DESCRIPTION:ENVISION SUPPORT GROUP FOR THE VISUALLY IMPAIRED meets the 1st Tuesday of each month at 6:30 – 8:30 p.m. at Arbor Terrace\, 201 Crosstown Dr.\, Peachtree City in the multi-purpose room on the second floor. \nThe purpose of this group is to educate\, encourage and empower those who are experiencing vision loss. Family and friends are welcome. Transportation can be arranged. \nFor more information\, call Audrey Demmitt at 770-631-6455 or email audreymagoo@gmail.com.
URL:https://thecitizen.com/event/envision-support-group-for-visually-impaired/2020-01-07/
LOCATION:Arbor Terrace\, 201 Crosstown Drive\, Peachtree City\, Georgia\, 30269
CATEGORIES:Support Groups
ORGANIZER;CN="Audrey Demmitt":MAILTO:audreymagoo@gmail.com
END:VEVENT
BEGIN:VEVENT
DTSTART;TZID=America/New_York:20200109T120000
DTEND;TZID=America/New_York:20200109T130000
DTSTAMP:20260421T062519
CREATED:20190830T230354Z
LAST-MODIFIED:20250408T022306Z
UID:10000799-1578571200-1578574800@thecitizen.com
SUMMARY:Rotary Club of Peachtree City meets on Thursdays
DESCRIPTION:ROTARY CLUB OF PEACHTREE CITY meets Thursdays at 12 p.m. at Peachtree Center Conference Center\, 2443 Highway 54 West\, Peachtree City. Rotary’s main objective is service in the community\, in the workplace\, and around the globe. The 1.2 million Rotarians who make up more than 34\,000 Rotary clubs in nearly every country in the world share a dedication to the ideal of  Service above Self. Rotary clubs are open to people of all cultures and ethnicities and are not affiliated with any political or religious organizations. \nFor more information\, visit www.peachtreecityrotary.org.
URL:https://thecitizen.com/event/rotary-club-of-peachtree-city-meets-on-thursdays/2020-01-09/
LOCATION:Peachtree City Atlanta Hotel and Conference Center\, 2443 Highway 54 West\, Peachtree City\, GA\, 30269\, United States
ATTACH;FMTTYPE=image/jpeg:https://thecitizen.com/wpimport/wp-content/uploads/2017/01/peachtree-city-rotary-club.jpg
GEO:33.404684;-84.5759171
X-APPLE-STRUCTURED-LOCATION;VALUE=URI;X-ADDRESS=Peachtree City Atlanta Hotel and Conference Center 2443 Highway 54 West Peachtree City GA 30269 United States;X-APPLE-RADIUS=500;X-TITLE=2443 Highway 54 West:geo:-84.5759171,33.404684
END:VEVENT
END:VCALENDAR