BEGIN:VCALENDAR
VERSION:2.0
PRODID:-//The Citizen - ECPv6.15.20//NONSGML v1.0//EN
CALSCALE:GREGORIAN
METHOD:PUBLISH
X-ORIGINAL-URL:https://thecitizen.com
X-WR-CALDESC:Events for The Citizen
REFRESH-INTERVAL;VALUE=DURATION:PT1H
X-Robots-Tag:noindex
X-PUBLISHED-TTL:PT1H
BEGIN:VTIMEZONE
TZID:America/New_York
BEGIN:DAYLIGHT
TZOFFSETFROM:-0500
TZOFFSETTO:-0400
TZNAME:EDT
DTSTART:20180311T070000
END:DAYLIGHT
BEGIN:STANDARD
TZOFFSETFROM:-0400
TZOFFSETTO:-0500
TZNAME:EST
DTSTART:20181104T060000
END:STANDARD
BEGIN:DAYLIGHT
TZOFFSETFROM:-0500
TZOFFSETTO:-0400
TZNAME:EDT
DTSTART:20190310T070000
END:DAYLIGHT
BEGIN:STANDARD
TZOFFSETFROM:-0400
TZOFFSETTO:-0500
TZNAME:EST
DTSTART:20191103T060000
END:STANDARD
BEGIN:DAYLIGHT
TZOFFSETFROM:-0500
TZOFFSETTO:-0400
TZNAME:EDT
DTSTART:20200308T070000
END:DAYLIGHT
BEGIN:STANDARD
TZOFFSETFROM:-0400
TZOFFSETTO:-0500
TZNAME:EST
DTSTART:20201101T060000
END:STANDARD
END:VTIMEZONE
BEGIN:VEVENT
DTSTART;TZID=America/New_York:20191006T080000
DTEND;TZID=America/New_York:20191006T170000
DTSTAMP:20260420T033226
CREATED:20190911T212758Z
LAST-MODIFIED:20190911T212841Z
UID:10000327-1570348800-1570381200@thecitizen.com
SUMMARY:The Cotton Pickin' Fair
DESCRIPTION:The Cotton Pickin’ Fair\, a national-award-winning festival held continuously since 1972 on the Gay Family Farmstead\, takes place October 5 and 6. \nMore than 350 artisans from across the United States are nestled in and around interesting farm buildings dating from 1891\, providing an exciting range of art\, antiques\, and crafts exhibits. A grand variety of delicious Southern food prepared on-site and excellent regional entertainment combine to make a unique family outing and a historic farm country experience. \nThe Cotton Pickin’ Fair is located at 18830 GA-85\, Gay\, Georgia 30218. The fair is open from 8 a.m. to 5 p.m. \nTickets are $10 for adults (13-64) ; $9 for seniors (65 and older);  $5 for Children (7 to 12. Children 6 and under are free.
URL:https://thecitizen.com/event/the-cotton-pickin-fair/2019-10-06/
LOCATION:Cotton Pickin’ Fair\, Gay Fairgrounds\, Gay\, GA
ATTACH;FMTTYPE=image/jpeg:https://thecitizen.com/wpimport/wp-content/uploads/2019/09/fayette_fiddlers_cotton_pickin_fair.jpg
GEO:33.094975;-84.575179
X-APPLE-STRUCTURED-LOCATION;VALUE=URI;X-ADDRESS=Cotton Pickin’ Fair Gay Fairgrounds Gay GA;X-APPLE-RADIUS=500;X-TITLE=Gay Fairgrounds:geo:-84.575179,33.094975
END:VEVENT
BEGIN:VEVENT
DTSTART;TZID=America/New_York:20191006T143000
DTEND;TZID=America/New_York:20191006T163000
DTSTAMP:20260420T033226
CREATED:20190920T220314Z
LAST-MODIFIED:20191007T012744Z
UID:10000346-1570372200-1570379400@thecitizen.com
SUMMARY:One Flew Over the Cuckoo's Nest
DESCRIPTION:One Flew Over the Cuckoo’s Nest opens at Southside Theatre Guild Thursday\, October 3. Written by Dale Wasserman\, the play is adapted form the novel by Ken Kesey and presented by special arrangement with Samuel French\, Inc.\, a Concord Theatricals Company. \nWhen Randle Patrick McMurphy gets transferred for evaluation from a prison farm to a mental institution\, he assumes it will be a less restrictive environment. But the martinet Nurse Ratched runs the psychiatric ward with an iron fist\, keeping her patients cowed through abuse\, medication\, and sessions of electroconvulsive therapy. The battle of wills between the rebellious McMurphy and the inflexible Ratched soon affects all the ward’s patients. \nPerformances are scheduled October 3\, 4\, and 6 and October 10-13 on Thursday\, Friday\, and Saturday at 8 p.m. and Sunday at 2:30 p.m. (There is no show on October 5.) \nTICKETS \nAdults: $20 each ($25 at the door) \nChildren under 12: $12 \nAll Thursday night adult tickets are discounted by $5. Discount will be applied at checkout. \nAbout Southside Theatre Guild \nSouthside Theatre Guild\, located in historic Fairburn\, is a 501c3\, non-profit organization staffed 100% by volunteers (no one gets paid!) For 47 years we have offered quality entertainment for the local community and is one of Metro Atlanta’s oldest\, continually operating community theatre. \nIn addition to theatrical productions\, we also offer improv workshops\, summer children’s theatre camp and special events for the community.\nWe are currently in desperate need of a new roof and have started a KEEP US COVERED fundraising campaign to help offset the costs (estimates range from $80-$100k). Donations can be made on our website.
URL:https://thecitizen.com/event/one-flew-over-the-cuckoos-nest/2019-10-06/
LOCATION:Southside Theatre Guild\, 20 W. Campbellton St.\, Fairburn\, GA\, 30213\, United States
CATEGORIES:Arts,Live Performances,Theater,Weekend
ATTACH;FMTTYPE=image/jpeg:https://thecitizen.com/wpimport/wp-content/uploads/2019/09/One_Flew_Over-Cuckoos_Nest_Southside_Theatre_Guild_Martini_Cheswick_Nurse_Flynn.jpg
GEO:33.5671605;-84.582259
X-APPLE-STRUCTURED-LOCATION;VALUE=URI;X-ADDRESS=Southside Theatre Guild 20 W. Campbellton St. Fairburn GA 30213 United States;X-APPLE-RADIUS=500;X-TITLE=20 W. Campbellton St.:geo:-84.582259,33.5671605
END:VEVENT
BEGIN:VEVENT
DTSTART;TZID=America/New_York:20191006T150000
DTEND;TZID=America/New_York:20191006T170000
DTSTAMP:20260420T033226
CREATED:20250702T225949Z
LAST-MODIFIED:20250702T225949Z
UID:10000341-1570374000-1570381200@thecitizen.com
SUMMARY:The Complete Works of Shakespeare on stage at The Legacy
DESCRIPTION:London’s longest-running comedy! Join these madcap men in tights as they weave their wicked way through all of Shakespeare’s plays in one wild ride that will leave you breathless and helpless with laughter.\nThe Complete Works of Shakespeare runs September 20 through October 13 with performances Fridays and Saturdays at 8 pm and Saturdays and Sundays at 3 pm.\nAdult tickets are $30-$35. Senior and student discounts are available as well as discounts for groups of 20 or more.\nTickets and subscriptions are available at www.thelegacytheatre.org\nby calling the Box Office at 404-895-1473.\nThe Legacy Theatre is located at 1175 Senoia Rd. in Tyrone\, Georgia.
URL:https://thecitizen.com/event/complete-works-shakespeare-stage-legacy/2019-10-06/
LOCATION:GA
CATEGORIES:Arts,Live Performances,Theater
ATTACH;FMTTYPE=image/png:https://thecitizen.com/wpimport/wp-content/uploads/2019/09/complete-works-shakespeare-legacy-theatre.png
END:VEVENT
BEGIN:VEVENT
DTSTART;TZID=America/New_York:20191007T193000
DTEND;TZID=America/New_York:20191007T203000
DTSTAMP:20260420T033226
CREATED:20190901T204920Z
LAST-MODIFIED:20190901T204920Z
UID:10000368-1570476600-1570480200@thecitizen.com
SUMMARY:Peachtree City Running Club
DESCRIPTION:PEACHTREE CITY RUNNING CLUB holds its monthly meetings on the 1st Monday of every month (except July and December)\, at 7:30 p.m. at the Peachtree City Hotel and Conference Center (formerly known as the Wyndham). To confirm meeting location and for more information\, go to ptcrc.com.
URL:https://thecitizen.com/event/peachtree-city-running-club/2019-10-07/
LOCATION:GA
CATEGORIES:Sports
END:VEVENT
BEGIN:VEVENT
DTSTART;TZID=America/New_York:20191008T193000
DTEND;TZID=America/New_York:20191008T203000
DTSTAMP:20260420T033226
CREATED:20190906T100812Z
LAST-MODIFIED:20190906T101142Z
UID:10000557-1570563000-1570566600@thecitizen.com
SUMMARY:High Holy Holiday Schedule
DESCRIPTION:Congregation B’nai Israel wishes all Jews a Happy New Year and invites all to join us for High Holy Holidays for the year 5780. \nTickets can be acquired\, there is no charge but a donation is encouraged\, by calling the office\, (678) 817-7162\, and leaving your name and phone number for more information. There is no charge but a donation is encouraged. \nRabbi Lou Feldstein will officiate the services. \nService times are: \nErev Rosh Hashana – Sunday\, September 29\, 2019\, at 7:30 p.m. \nRosh Hashana – Monday\, September 30\, 2019\, at 10 a.m. \nKol Nidre – Tuesday\, October 8\, 2019\, at 7:30 p.m. \nYom Kippur – Wednesday\, October 9\, 2019:  morning service at 10 a.m.\, Yizkor/Afternoon service at 4 p.m.
URL:https://thecitizen.com/event/high-holy-holiday-schedule/2019-10-08/
LOCATION:Congregation Bnai Israel\, 1633 GA-54\, Jonesboro\, Georgia\, 30238
CATEGORIES:Religion
END:VEVENT
BEGIN:VEVENT
DTSTART;TZID=America/New_York:20191009T100000
DTEND;TZID=America/New_York:20191009T110000
DTSTAMP:20260420T033226
CREATED:20190906T100812Z
LAST-MODIFIED:20190906T101142Z
UID:10000558-1570615200-1570618800@thecitizen.com
SUMMARY:High Holy Holiday Schedule
DESCRIPTION:Congregation B’nai Israel wishes all Jews a Happy New Year and invites all to join us for High Holy Holidays for the year 5780. \nTickets can be acquired\, there is no charge but a donation is encouraged\, by calling the office\, (678) 817-7162\, and leaving your name and phone number for more information. There is no charge but a donation is encouraged. \nRabbi Lou Feldstein will officiate the services. \nService times are: \nErev Rosh Hashana – Sunday\, September 29\, 2019\, at 7:30 p.m. \nRosh Hashana – Monday\, September 30\, 2019\, at 10 a.m. \nKol Nidre – Tuesday\, October 8\, 2019\, at 7:30 p.m. \nYom Kippur – Wednesday\, October 9\, 2019:  morning service at 10 a.m.\, Yizkor/Afternoon service at 4 p.m.
URL:https://thecitizen.com/event/high-holy-holiday-schedule/2019-10-09/1/
LOCATION:Congregation Bnai Israel\, 1633 GA-54\, Jonesboro\, Georgia\, 30238
CATEGORIES:Religion
END:VEVENT
BEGIN:VEVENT
DTSTART;TZID=America/New_York:20191009T160000
DTEND;TZID=America/New_York:20191009T170000
DTSTAMP:20260420T033226
CREATED:20190906T100812Z
LAST-MODIFIED:20190906T101142Z
UID:10000559-1570636800-1570640400@thecitizen.com
SUMMARY:High Holy Holiday Schedule
DESCRIPTION:Congregation B’nai Israel wishes all Jews a Happy New Year and invites all to join us for High Holy Holidays for the year 5780. \nTickets can be acquired\, there is no charge but a donation is encouraged\, by calling the office\, (678) 817-7162\, and leaving your name and phone number for more information. There is no charge but a donation is encouraged. \nRabbi Lou Feldstein will officiate the services. \nService times are: \nErev Rosh Hashana – Sunday\, September 29\, 2019\, at 7:30 p.m. \nRosh Hashana – Monday\, September 30\, 2019\, at 10 a.m. \nKol Nidre – Tuesday\, October 8\, 2019\, at 7:30 p.m. \nYom Kippur – Wednesday\, October 9\, 2019:  morning service at 10 a.m.\, Yizkor/Afternoon service at 4 p.m.
URL:https://thecitizen.com/event/high-holy-holiday-schedule/2019-10-09/2/
LOCATION:Congregation Bnai Israel\, 1633 GA-54\, Jonesboro\, Georgia\, 30238
CATEGORIES:Religion
END:VEVENT
BEGIN:VEVENT
DTSTART;TZID=America/New_York:20191010T120000
DTEND;TZID=America/New_York:20191010T130000
DTSTAMP:20260420T033226
CREATED:20190830T230354Z
LAST-MODIFIED:20250408T022306Z
UID:10000786-1570708800-1570712400@thecitizen.com
SUMMARY:Rotary Club of Peachtree City meets on Thursdays
DESCRIPTION:ROTARY CLUB OF PEACHTREE CITY meets Thursdays at 12 p.m. at Peachtree Center Conference Center\, 2443 Highway 54 West\, Peachtree City. Rotary’s main objective is service in the community\, in the workplace\, and around the globe. The 1.2 million Rotarians who make up more than 34\,000 Rotary clubs in nearly every country in the world share a dedication to the ideal of  Service above Self. Rotary clubs are open to people of all cultures and ethnicities and are not affiliated with any political or religious organizations. \nFor more information\, visit www.peachtreecityrotary.org.
URL:https://thecitizen.com/event/rotary-club-of-peachtree-city-meets-on-thursdays/2019-10-10/
LOCATION:Peachtree City Atlanta Hotel and Conference Center\, 2443 Highway 54 West\, Peachtree City\, GA\, 30269\, United States
ATTACH;FMTTYPE=image/jpeg:https://thecitizen.com/wpimport/wp-content/uploads/2017/01/peachtree-city-rotary-club.jpg
GEO:33.404684;-84.5759171
X-APPLE-STRUCTURED-LOCATION;VALUE=URI;X-ADDRESS=Peachtree City Atlanta Hotel and Conference Center 2443 Highway 54 West Peachtree City GA 30269 United States;X-APPLE-RADIUS=500;X-TITLE=2443 Highway 54 West:geo:-84.5759171,33.404684
END:VEVENT
BEGIN:VEVENT
DTSTART;TZID=America/New_York:20191010T200000
DTEND;TZID=America/New_York:20191010T220000
DTSTAMP:20260420T033226
CREATED:20190920T220314Z
LAST-MODIFIED:20191007T012744Z
UID:10000347-1570737600-1570744800@thecitizen.com
SUMMARY:One Flew Over the Cuckoo's Nest
DESCRIPTION:One Flew Over the Cuckoo’s Nest opens at Southside Theatre Guild Thursday\, October 3. Written by Dale Wasserman\, the play is adapted form the novel by Ken Kesey and presented by special arrangement with Samuel French\, Inc.\, a Concord Theatricals Company. \nWhen Randle Patrick McMurphy gets transferred for evaluation from a prison farm to a mental institution\, he assumes it will be a less restrictive environment. But the martinet Nurse Ratched runs the psychiatric ward with an iron fist\, keeping her patients cowed through abuse\, medication\, and sessions of electroconvulsive therapy. The battle of wills between the rebellious McMurphy and the inflexible Ratched soon affects all the ward’s patients. \nPerformances are scheduled October 3\, 4\, and 6 and October 10-13 on Thursday\, Friday\, and Saturday at 8 p.m. and Sunday at 2:30 p.m. (There is no show on October 5.) \nTICKETS \nAdults: $20 each ($25 at the door) \nChildren under 12: $12 \nAll Thursday night adult tickets are discounted by $5. Discount will be applied at checkout. \nAbout Southside Theatre Guild \nSouthside Theatre Guild\, located in historic Fairburn\, is a 501c3\, non-profit organization staffed 100% by volunteers (no one gets paid!) For 47 years we have offered quality entertainment for the local community and is one of Metro Atlanta’s oldest\, continually operating community theatre. \nIn addition to theatrical productions\, we also offer improv workshops\, summer children’s theatre camp and special events for the community.\nWe are currently in desperate need of a new roof and have started a KEEP US COVERED fundraising campaign to help offset the costs (estimates range from $80-$100k). Donations can be made on our website.
URL:https://thecitizen.com/event/one-flew-over-the-cuckoos-nest/2019-10-10/
LOCATION:Southside Theatre Guild\, 20 W. Campbellton St.\, Fairburn\, GA\, 30213\, United States
CATEGORIES:Arts,Live Performances,Theater,Weekend
ATTACH;FMTTYPE=image/jpeg:https://thecitizen.com/wpimport/wp-content/uploads/2019/09/One_Flew_Over-Cuckoos_Nest_Southside_Theatre_Guild_Martini_Cheswick_Nurse_Flynn.jpg
GEO:33.5671605;-84.582259
X-APPLE-STRUCTURED-LOCATION;VALUE=URI;X-ADDRESS=Southside Theatre Guild 20 W. Campbellton St. Fairburn GA 30213 United States;X-APPLE-RADIUS=500;X-TITLE=20 W. Campbellton St.:geo:-84.582259,33.5671605
END:VEVENT
BEGIN:VEVENT
DTSTART;TZID=America/New_York:20191011T200000
DTEND;TZID=America/New_York:20191011T220000
DTSTAMP:20260420T033226
CREATED:20190913T202038Z
LAST-MODIFIED:20190913T202244Z
UID:10000334-1570824000-1570831200@thecitizen.com
SUMMARY:The Complete Works of Shakespeare on stage at The Legacy
DESCRIPTION:London’s longest-running comedy! Join these madcap men in tights as they weave their wicked way through all of Shakespeare’s plays in one wild ride that will leave you breathless and helpless with laughter.\nThe Complete Works of Shakespeare runs September 20 through October 13 with performances Fridays and Saturdays at 8 pm and Saturdays and Sundays at 3 pm.\nAdult tickets are $30-$35. Senior and student discounts are available as well as discounts for groups of 20 or more.\nTickets and subscriptions are available at www.thelegacytheatre.org\nby calling the Box Office at 404-895-1473.\nThe Legacy Theatre is located at 1175 Senoia Rd. in Tyrone\, Georgia.
URL:https://thecitizen.com/event/complete-works-shakespeare-stage-legacy/2019-10-11/
LOCATION:GA
CATEGORIES:Arts,Live Performances,Theater
ATTACH;FMTTYPE=image/png:https://thecitizen.com/wpimport/wp-content/uploads/2019/09/complete-works-shakespeare-legacy-theatre.png
END:VEVENT
BEGIN:VEVENT
DTSTART;TZID=America/New_York:20191011T200000
DTEND;TZID=America/New_York:20191011T220000
DTSTAMP:20260420T033226
CREATED:20190920T220314Z
LAST-MODIFIED:20191007T012744Z
UID:10000348-1570824000-1570831200@thecitizen.com
SUMMARY:One Flew Over the Cuckoo's Nest
DESCRIPTION:One Flew Over the Cuckoo’s Nest opens at Southside Theatre Guild Thursday\, October 3. Written by Dale Wasserman\, the play is adapted form the novel by Ken Kesey and presented by special arrangement with Samuel French\, Inc.\, a Concord Theatricals Company. \nWhen Randle Patrick McMurphy gets transferred for evaluation from a prison farm to a mental institution\, he assumes it will be a less restrictive environment. But the martinet Nurse Ratched runs the psychiatric ward with an iron fist\, keeping her patients cowed through abuse\, medication\, and sessions of electroconvulsive therapy. The battle of wills between the rebellious McMurphy and the inflexible Ratched soon affects all the ward’s patients. \nPerformances are scheduled October 3\, 4\, and 6 and October 10-13 on Thursday\, Friday\, and Saturday at 8 p.m. and Sunday at 2:30 p.m. (There is no show on October 5.) \nTICKETS \nAdults: $20 each ($25 at the door) \nChildren under 12: $12 \nAll Thursday night adult tickets are discounted by $5. Discount will be applied at checkout. \nAbout Southside Theatre Guild \nSouthside Theatre Guild\, located in historic Fairburn\, is a 501c3\, non-profit organization staffed 100% by volunteers (no one gets paid!) For 47 years we have offered quality entertainment for the local community and is one of Metro Atlanta’s oldest\, continually operating community theatre. \nIn addition to theatrical productions\, we also offer improv workshops\, summer children’s theatre camp and special events for the community.\nWe are currently in desperate need of a new roof and have started a KEEP US COVERED fundraising campaign to help offset the costs (estimates range from $80-$100k). Donations can be made on our website.
URL:https://thecitizen.com/event/one-flew-over-the-cuckoos-nest/2019-10-11/
LOCATION:Southside Theatre Guild\, 20 W. Campbellton St.\, Fairburn\, GA\, 30213\, United States
CATEGORIES:Arts,Live Performances,Theater,Weekend
ATTACH;FMTTYPE=image/jpeg:https://thecitizen.com/wpimport/wp-content/uploads/2019/09/One_Flew_Over-Cuckoos_Nest_Southside_Theatre_Guild_Martini_Cheswick_Nurse_Flynn.jpg
GEO:33.5671605;-84.582259
X-APPLE-STRUCTURED-LOCATION;VALUE=URI;X-ADDRESS=Southside Theatre Guild 20 W. Campbellton St. Fairburn GA 30213 United States;X-APPLE-RADIUS=500;X-TITLE=20 W. Campbellton St.:geo:-84.582259,33.5671605
END:VEVENT
BEGIN:VEVENT
DTSTART;TZID=America/New_York:20191012T150000
DTEND;TZID=America/New_York:20191012T170000
DTSTAMP:20260420T033226
CREATED:20250702T225949Z
LAST-MODIFIED:20250702T225949Z
UID:10000342-1570892400-1570899600@thecitizen.com
SUMMARY:The Complete Works of Shakespeare on stage at The Legacy
DESCRIPTION:London’s longest-running comedy! Join these madcap men in tights as they weave their wicked way through all of Shakespeare’s plays in one wild ride that will leave you breathless and helpless with laughter.\nThe Complete Works of Shakespeare runs September 20 through October 13 with performances Fridays and Saturdays at 8 pm and Saturdays and Sundays at 3 pm.\nAdult tickets are $30-$35. Senior and student discounts are available as well as discounts for groups of 20 or more.\nTickets and subscriptions are available at www.thelegacytheatre.org\nby calling the Box Office at 404-895-1473.\nThe Legacy Theatre is located at 1175 Senoia Rd. in Tyrone\, Georgia.
URL:https://thecitizen.com/event/complete-works-shakespeare-stage-legacy/2019-10-12/
LOCATION:GA
CATEGORIES:Arts,Live Performances,Theater
ATTACH;FMTTYPE=image/png:https://thecitizen.com/wpimport/wp-content/uploads/2019/09/complete-works-shakespeare-legacy-theatre.png
END:VEVENT
BEGIN:VEVENT
DTSTART;TZID=America/New_York:20191012T200000
DTEND;TZID=America/New_York:20191012T220000
DTSTAMP:20260420T033226
CREATED:20190913T202038Z
LAST-MODIFIED:20190913T202244Z
UID:10000335-1570910400-1570917600@thecitizen.com
SUMMARY:The Complete Works of Shakespeare on stage at The Legacy
DESCRIPTION:London’s longest-running comedy! Join these madcap men in tights as they weave their wicked way through all of Shakespeare’s plays in one wild ride that will leave you breathless and helpless with laughter.\nThe Complete Works of Shakespeare runs September 20 through October 13 with performances Fridays and Saturdays at 8 pm and Saturdays and Sundays at 3 pm.\nAdult tickets are $30-$35. Senior and student discounts are available as well as discounts for groups of 20 or more.\nTickets and subscriptions are available at www.thelegacytheatre.org\nby calling the Box Office at 404-895-1473.\nThe Legacy Theatre is located at 1175 Senoia Rd. in Tyrone\, Georgia.
URL:https://thecitizen.com/event/complete-works-shakespeare-stage-legacy/2019-10-12/
LOCATION:GA
CATEGORIES:Arts,Live Performances,Theater
ATTACH;FMTTYPE=image/png:https://thecitizen.com/wpimport/wp-content/uploads/2019/09/complete-works-shakespeare-legacy-theatre.png
END:VEVENT
BEGIN:VEVENT
DTSTART;TZID=America/New_York:20191012T200000
DTEND;TZID=America/New_York:20191012T220000
DTSTAMP:20260420T033226
CREATED:20190920T220314Z
LAST-MODIFIED:20191007T012744Z
UID:10000349-1570910400-1570917600@thecitizen.com
SUMMARY:One Flew Over the Cuckoo's Nest
DESCRIPTION:One Flew Over the Cuckoo’s Nest opens at Southside Theatre Guild Thursday\, October 3. Written by Dale Wasserman\, the play is adapted form the novel by Ken Kesey and presented by special arrangement with Samuel French\, Inc.\, a Concord Theatricals Company. \nWhen Randle Patrick McMurphy gets transferred for evaluation from a prison farm to a mental institution\, he assumes it will be a less restrictive environment. But the martinet Nurse Ratched runs the psychiatric ward with an iron fist\, keeping her patients cowed through abuse\, medication\, and sessions of electroconvulsive therapy. The battle of wills between the rebellious McMurphy and the inflexible Ratched soon affects all the ward’s patients. \nPerformances are scheduled October 3\, 4\, and 6 and October 10-13 on Thursday\, Friday\, and Saturday at 8 p.m. and Sunday at 2:30 p.m. (There is no show on October 5.) \nTICKETS \nAdults: $20 each ($25 at the door) \nChildren under 12: $12 \nAll Thursday night adult tickets are discounted by $5. Discount will be applied at checkout. \nAbout Southside Theatre Guild \nSouthside Theatre Guild\, located in historic Fairburn\, is a 501c3\, non-profit organization staffed 100% by volunteers (no one gets paid!) For 47 years we have offered quality entertainment for the local community and is one of Metro Atlanta’s oldest\, continually operating community theatre. \nIn addition to theatrical productions\, we also offer improv workshops\, summer children’s theatre camp and special events for the community.\nWe are currently in desperate need of a new roof and have started a KEEP US COVERED fundraising campaign to help offset the costs (estimates range from $80-$100k). Donations can be made on our website.
URL:https://thecitizen.com/event/one-flew-over-the-cuckoos-nest/2019-10-12/
LOCATION:Southside Theatre Guild\, 20 W. Campbellton St.\, Fairburn\, GA\, 30213\, United States
CATEGORIES:Arts,Live Performances,Theater,Weekend
ATTACH;FMTTYPE=image/jpeg:https://thecitizen.com/wpimport/wp-content/uploads/2019/09/One_Flew_Over-Cuckoos_Nest_Southside_Theatre_Guild_Martini_Cheswick_Nurse_Flynn.jpg
GEO:33.5671605;-84.582259
X-APPLE-STRUCTURED-LOCATION;VALUE=URI;X-ADDRESS=Southside Theatre Guild 20 W. Campbellton St. Fairburn GA 30213 United States;X-APPLE-RADIUS=500;X-TITLE=20 W. Campbellton St.:geo:-84.582259,33.5671605
END:VEVENT
END:VCALENDAR