BEGIN:VCALENDAR
VERSION:2.0
PRODID:-//The Citizen - ECPv6.15.20//NONSGML v1.0//EN
CALSCALE:GREGORIAN
METHOD:PUBLISH
X-WR-CALNAME:The Citizen
X-ORIGINAL-URL:https://thecitizen.com
X-WR-CALDESC:Events for The Citizen
REFRESH-INTERVAL;VALUE=DURATION:PT1H
X-Robots-Tag:noindex
X-PUBLISHED-TTL:PT1H
BEGIN:VTIMEZONE
TZID:America/New_York
BEGIN:DAYLIGHT
TZOFFSETFROM:-0500
TZOFFSETTO:-0400
TZNAME:EDT
DTSTART:20290311T070000
END:DAYLIGHT
BEGIN:STANDARD
TZOFFSETFROM:-0400
TZOFFSETTO:-0500
TZNAME:EST
DTSTART:20291104T060000
END:STANDARD
BEGIN:DAYLIGHT
TZOFFSETFROM:-0500
TZOFFSETTO:-0400
TZNAME:EDT
DTSTART:20300310T070000
END:DAYLIGHT
BEGIN:STANDARD
TZOFFSETFROM:-0400
TZOFFSETTO:-0500
TZNAME:EST
DTSTART:20301103T060000
END:STANDARD
BEGIN:DAYLIGHT
TZOFFSETFROM:-0500
TZOFFSETTO:-0400
TZNAME:EDT
DTSTART:20310309T070000
END:DAYLIGHT
BEGIN:STANDARD
TZOFFSETFROM:-0400
TZOFFSETTO:-0500
TZNAME:EST
DTSTART:20311102T060000
END:STANDARD
END:VTIMEZONE
BEGIN:VEVENT
DTSTART;TZID=America/New_York:20301002T090000
DTEND;TZID=America/New_York:20301002T103000
DTSTAMP:20260424T123840
CREATED:20251225T032131Z
LAST-MODIFIED:20260122T024813Z
UID:10002777-1917162000-1917167400@thecitizen.com
SUMMARY:1 Million Cups
DESCRIPTION:1 Million Cups (1MC) is a national program designed for entrepreneurs to share their businesses and challenges with a supportive\, community-driven audience. It’s an opportunity to showcase what you’re working on\, get valuable feedback\, and connect with like-minded individuals who are all about helping each other grow.
URL:https://thecitizen.com/event/1-million-cups-2026/2030-10-02/
LOCATION:Launch Fayette\, 250 Peachtree Parkway\, Peachtree City\, GA\, 30259\, United States
CATEGORIES:Entrepreneurial,Networking
ORGANIZER;CN="Jason Bass":MAILTO:atlanta.south@1millioncups.com
GEO:33.402666831133;-84.569926673016
X-APPLE-STRUCTURED-LOCATION;VALUE=URI;X-ADDRESS=Launch Fayette 250 Peachtree Parkway Peachtree City GA 30259 United States;X-APPLE-RADIUS=500;X-TITLE=250 Peachtree Parkway:geo:-84.569926673016,33.402666831133
END:VEVENT
BEGIN:VEVENT
DTSTART;TZID=America/New_York:20301009T090000
DTEND;TZID=America/New_York:20301009T103000
DTSTAMP:20260424T123840
CREATED:20251225T032131Z
LAST-MODIFIED:20260122T024813Z
UID:10002778-1917766800-1917772200@thecitizen.com
SUMMARY:1 Million Cups
DESCRIPTION:1 Million Cups (1MC) is a national program designed for entrepreneurs to share their businesses and challenges with a supportive\, community-driven audience. It’s an opportunity to showcase what you’re working on\, get valuable feedback\, and connect with like-minded individuals who are all about helping each other grow.
URL:https://thecitizen.com/event/1-million-cups-2026/2030-10-09/
LOCATION:Launch Fayette\, 250 Peachtree Parkway\, Peachtree City\, GA\, 30259\, United States
CATEGORIES:Entrepreneurial,Networking
ORGANIZER;CN="Jason Bass":MAILTO:atlanta.south@1millioncups.com
GEO:33.402666831133;-84.569926673016
X-APPLE-STRUCTURED-LOCATION;VALUE=URI;X-ADDRESS=Launch Fayette 250 Peachtree Parkway Peachtree City GA 30259 United States;X-APPLE-RADIUS=500;X-TITLE=250 Peachtree Parkway:geo:-84.569926673016,33.402666831133
END:VEVENT
BEGIN:VEVENT
DTSTART;TZID=America/New_York:20301016T090000
DTEND;TZID=America/New_York:20301016T103000
DTSTAMP:20260424T123840
CREATED:20251225T032131Z
LAST-MODIFIED:20260122T024813Z
UID:10002779-1918371600-1918377000@thecitizen.com
SUMMARY:1 Million Cups
DESCRIPTION:1 Million Cups (1MC) is a national program designed for entrepreneurs to share their businesses and challenges with a supportive\, community-driven audience. It’s an opportunity to showcase what you’re working on\, get valuable feedback\, and connect with like-minded individuals who are all about helping each other grow.
URL:https://thecitizen.com/event/1-million-cups-2026/2030-10-16/
LOCATION:Launch Fayette\, 250 Peachtree Parkway\, Peachtree City\, GA\, 30259\, United States
CATEGORIES:Entrepreneurial,Networking
ORGANIZER;CN="Jason Bass":MAILTO:atlanta.south@1millioncups.com
GEO:33.402666831133;-84.569926673016
X-APPLE-STRUCTURED-LOCATION;VALUE=URI;X-ADDRESS=Launch Fayette 250 Peachtree Parkway Peachtree City GA 30259 United States;X-APPLE-RADIUS=500;X-TITLE=250 Peachtree Parkway:geo:-84.569926673016,33.402666831133
END:VEVENT
BEGIN:VEVENT
DTSTART;TZID=America/New_York:20301023T090000
DTEND;TZID=America/New_York:20301023T103000
DTSTAMP:20260424T123840
CREATED:20251225T032131Z
LAST-MODIFIED:20260122T024813Z
UID:10002780-1918976400-1918981800@thecitizen.com
SUMMARY:1 Million Cups
DESCRIPTION:1 Million Cups (1MC) is a national program designed for entrepreneurs to share their businesses and challenges with a supportive\, community-driven audience. It’s an opportunity to showcase what you’re working on\, get valuable feedback\, and connect with like-minded individuals who are all about helping each other grow.
URL:https://thecitizen.com/event/1-million-cups-2026/2030-10-23/
LOCATION:Launch Fayette\, 250 Peachtree Parkway\, Peachtree City\, GA\, 30259\, United States
CATEGORIES:Entrepreneurial,Networking
ORGANIZER;CN="Jason Bass":MAILTO:atlanta.south@1millioncups.com
GEO:33.402666831133;-84.569926673016
X-APPLE-STRUCTURED-LOCATION;VALUE=URI;X-ADDRESS=Launch Fayette 250 Peachtree Parkway Peachtree City GA 30259 United States;X-APPLE-RADIUS=500;X-TITLE=250 Peachtree Parkway:geo:-84.569926673016,33.402666831133
END:VEVENT
BEGIN:VEVENT
DTSTART;TZID=America/New_York:20301030T090000
DTEND;TZID=America/New_York:20301030T103000
DTSTAMP:20260424T123840
CREATED:20251225T032131Z
LAST-MODIFIED:20260122T024813Z
UID:10002781-1919581200-1919586600@thecitizen.com
SUMMARY:1 Million Cups
DESCRIPTION:1 Million Cups (1MC) is a national program designed for entrepreneurs to share their businesses and challenges with a supportive\, community-driven audience. It’s an opportunity to showcase what you’re working on\, get valuable feedback\, and connect with like-minded individuals who are all about helping each other grow.
URL:https://thecitizen.com/event/1-million-cups-2026/2030-10-30/
LOCATION:Launch Fayette\, 250 Peachtree Parkway\, Peachtree City\, GA\, 30259\, United States
CATEGORIES:Entrepreneurial,Networking
ORGANIZER;CN="Jason Bass":MAILTO:atlanta.south@1millioncups.com
GEO:33.402666831133;-84.569926673016
X-APPLE-STRUCTURED-LOCATION;VALUE=URI;X-ADDRESS=Launch Fayette 250 Peachtree Parkway Peachtree City GA 30259 United States;X-APPLE-RADIUS=500;X-TITLE=250 Peachtree Parkway:geo:-84.569926673016,33.402666831133
END:VEVENT
END:VCALENDAR