BEGIN:VCALENDAR
VERSION:2.0
PRODID:-//The Citizen - ECPv6.15.20//NONSGML v1.0//EN
CALSCALE:GREGORIAN
METHOD:PUBLISH
X-WR-CALNAME:The Citizen
X-ORIGINAL-URL:https://thecitizen.com
X-WR-CALDESC:Events for The Citizen
REFRESH-INTERVAL;VALUE=DURATION:PT1H
X-Robots-Tag:noindex
X-PUBLISHED-TTL:PT1H
BEGIN:VTIMEZONE
TZID:America/New_York
BEGIN:DAYLIGHT
TZOFFSETFROM:-0500
TZOFFSETTO:-0400
TZNAME:EDT
DTSTART:20190310T070000
END:DAYLIGHT
BEGIN:STANDARD
TZOFFSETFROM:-0400
TZOFFSETTO:-0500
TZNAME:EST
DTSTART:20191103T060000
END:STANDARD
BEGIN:DAYLIGHT
TZOFFSETFROM:-0500
TZOFFSETTO:-0400
TZNAME:EDT
DTSTART:20200308T070000
END:DAYLIGHT
BEGIN:STANDARD
TZOFFSETFROM:-0400
TZOFFSETTO:-0500
TZNAME:EST
DTSTART:20201101T060000
END:STANDARD
BEGIN:DAYLIGHT
TZOFFSETFROM:-0500
TZOFFSETTO:-0400
TZNAME:EDT
DTSTART:20210314T070000
END:DAYLIGHT
BEGIN:STANDARD
TZOFFSETFROM:-0400
TZOFFSETTO:-0500
TZNAME:EST
DTSTART:20211107T060000
END:STANDARD
END:VTIMEZONE
BEGIN:VEVENT
DTSTART;TZID=America/New_York:20200917T120000
DTEND;TZID=America/New_York:20200917T130000
DTSTAMP:20260424T112233
CREATED:20190830T230354Z
LAST-MODIFIED:20250408T022306Z
UID:10000835-1600344000-1600347600@thecitizen.com
SUMMARY:Rotary Club of Peachtree City meets on Thursdays
DESCRIPTION:ROTARY CLUB OF PEACHTREE CITY meets Thursdays at 12 p.m. at Peachtree Center Conference Center\, 2443 Highway 54 West\, Peachtree City. Rotary’s main objective is service in the community\, in the workplace\, and around the globe. The 1.2 million Rotarians who make up more than 34\,000 Rotary clubs in nearly every country in the world share a dedication to the ideal of  Service above Self. Rotary clubs are open to people of all cultures and ethnicities and are not affiliated with any political or religious organizations. \nFor more information\, visit www.peachtreecityrotary.org.
URL:https://thecitizen.com/event/rotary-club-of-peachtree-city-meets-on-thursdays/2020-09-17/
LOCATION:Peachtree City Atlanta Hotel and Conference Center\, 2443 Highway 54 West\, Peachtree City\, GA\, 30269\, United States
ATTACH;FMTTYPE=image/jpeg:https://thecitizen.com/wpimport/wp-content/uploads/2017/01/peachtree-city-rotary-club.jpg
GEO:33.404684;-84.5759171
X-APPLE-STRUCTURED-LOCATION;VALUE=URI;X-ADDRESS=Peachtree City Atlanta Hotel and Conference Center 2443 Highway 54 West Peachtree City GA 30269 United States;X-APPLE-RADIUS=500;X-TITLE=2443 Highway 54 West:geo:-84.5759171,33.404684
END:VEVENT
BEGIN:VEVENT
DTSTART;TZID=America/New_York:20200918T133000
DTEND;TZID=America/New_York:20200918T143000
DTSTAMP:20260424T112233
CREATED:20200826T175633Z
LAST-MODIFIED:20200826T175633Z
UID:10000165-1600435800-1600439400@thecitizen.com
SUMMARY:Inspector Home
DESCRIPTION:Linda Sorrows and Lee McKinney\, real estate specialist with Aberdeen Fine Properties\, will share the secrets to home inspections. \nKnow your options\, learn what you can do to prepare\, and what you should be aware of when negotiating the results of a home inspection. \nThis program is FREE but pre-registration is required. Call 770-461-0813 or email register@fayss.org (include name\, phone number\, and event title) to register. \nFSS members and non-members welcome. \nwww.Fayss.org. \n 
URL:https://thecitizen.com/event/inspector-home/
LOCATION:The Gathering Place\, 203 McIntosh Trail\, Peachtree City\, GA\, 30269\, United States
CATEGORIES:Fayette Senior Services,Informational,Peachtree City
ATTACH;FMTTYPE=image/jpeg:https://thecitizen.com/wpimport/wp-content/uploads/2020/08/home-inspections.jpg
GEO:33.3836625;-84.5690673
X-APPLE-STRUCTURED-LOCATION;VALUE=URI;X-ADDRESS=The Gathering Place 203 McIntosh Trail Peachtree City GA 30269 United States;X-APPLE-RADIUS=500;X-TITLE=203 McIntosh Trail:geo:-84.5690673,33.3836625
END:VEVENT
BEGIN:VEVENT
DTSTART;TZID=America/New_York:20200919T180000
DTEND;TZID=America/New_York:20200919T213000
DTSTAMP:20260424T112233
CREATED:20200812T170441Z
LAST-MODIFIED:20200827T145534Z
UID:10000216-1600538400-1600551000@thecitizen.com
SUMMARY:LIVE music with Claudius Caesar
DESCRIPTION:Claudius Caesar will be performing LIVE outdoors in the garden at The Quality Inn in Fayetteville Saturday\, Sept. 19. \nSaxophonist\, vocoderist\, and creative director\, Claudius is a graduate of Georgia Tech who hung up a master’s in urban design to pursue his passion for music. With just a sax\, an ewi vocoder\, and a love for R&B with jazz and hip-hop undertones\, CCII inspires his fans and audiences to get the most out of life every day. \nThe garden opens at 6 p.m. and the event lasts until 9:30. Food\, beer\, and wine are sold on the premises and you’re welcome to bring your own chairs. \nPurchase in-person ($20) or virtual ($10) tickets on ViewStub or at the door. \nCDC COVID-19 guidelines are enforced. Masks and social distancing required. \nCall 770-460-5600 for discounted rooms. \nFor more information about this event\, call 770-837-7067.
URL:https://thecitizen.com/event/live-music-with-claudius-caesar/
LOCATION:The Quality Inn\, 140 East Lanier Ave.\, Fayetteville\, GA\, 30214
CATEGORIES:Fayetteville,Live Performances,Music,Saturday Night
ATTACH;FMTTYPE=image/jpeg:https://thecitizen.com/wpimport/wp-content/uploads/2020/08/claudius-caesar-in-fayetteville-september-19.jpg
END:VEVENT
BEGIN:VEVENT
DTSTART;TZID=America/New_York:20200921T133000
DTEND;TZID=America/New_York:20200921T143000
DTSTAMP:20260424T112233
CREATED:20200826T180144Z
LAST-MODIFIED:20200826T180144Z
UID:10000163-1600695000-1600698600@thecitizen.com
SUMMARY:Storm Warning
DESCRIPTION:Adam Baker with The National Weather Service delves into the ins and outs of reading a radar map and other weather-related reports. \nWhen all the bad weather is coming through and the maps have so many symbols\, lines\, colors\, and codes it can be so overwhelming. Gain a better understanding so the next time a storm rolls through\, you’ll be in the know! \nThis program is FREE but pre-registration is required. Call 770-461-0813 or email register@fayss.org (include name\, phone number\, and event title) to register. FSS members and non-members welcome. \nwww.Fayss.org.
URL:https://thecitizen.com/event/storm-warning/
LOCATION:The Gathering Place\, 203 McIntosh Trail\, Peachtree City\, GA\, 30269\, United States
CATEGORIES:Community,Fayette Senior Services,Free Events,Informational,Peachtree City
ATTACH;FMTTYPE=image/jpeg:https://thecitizen.com/wpimport/wp-content/uploads/2020/08/storm-warning.jpg
GEO:33.3836625;-84.5690673
X-APPLE-STRUCTURED-LOCATION;VALUE=URI;X-ADDRESS=The Gathering Place 203 McIntosh Trail Peachtree City GA 30269 United States;X-APPLE-RADIUS=500;X-TITLE=203 McIntosh Trail:geo:-84.5690673,33.3836625
END:VEVENT
BEGIN:VEVENT
DTSTART;TZID=America/New_York:20200922T190000
DTEND;TZID=America/New_York:20200922T203000
DTSTAMP:20260424T112233
CREATED:20200105T190352Z
LAST-MODIFIED:20200105T190352Z
UID:10002225-1600801200-1600806600@thecitizen.com
SUMMARY:Prostate Cancer Information Group
DESCRIPTION:A support group for men with prostate cancer and their families meets the fourth Tuesday of each month. The group\, which is intended to share information and enhance prostate cancer understanding\, meets the fourth Tuesday of each month at 7 p.m. at the Thomas F. Chapman Family Cancer Wellness Center at Piedmont Fayette Hospital. \nCall 770.632.2898 for more information.
URL:https://thecitizen.com/event/prostate-cancer-information-group-2/2020-09-22/
LOCATION:Piedmont Fayette Hospital\, 1255 Hwy. 54 W.\, Fayetteville\, GA
GEO:33.452609;-84.5084829
X-APPLE-STRUCTURED-LOCATION;VALUE=URI;X-ADDRESS=Piedmont Fayette Hospital 1255 Hwy. 54 W. Fayetteville GA;X-APPLE-RADIUS=500;X-TITLE=1255 Hwy. 54 W.:geo:-84.5084829,33.452609
END:VEVENT
BEGIN:VEVENT
DTSTART;TZID=America/New_York:20200924T120000
DTEND;TZID=America/New_York:20200924T130000
DTSTAMP:20260424T112233
CREATED:20190830T230354Z
LAST-MODIFIED:20250408T022306Z
UID:10000836-1600948800-1600952400@thecitizen.com
SUMMARY:Rotary Club of Peachtree City meets on Thursdays
DESCRIPTION:ROTARY CLUB OF PEACHTREE CITY meets Thursdays at 12 p.m. at Peachtree Center Conference Center\, 2443 Highway 54 West\, Peachtree City. Rotary’s main objective is service in the community\, in the workplace\, and around the globe. The 1.2 million Rotarians who make up more than 34\,000 Rotary clubs in nearly every country in the world share a dedication to the ideal of  Service above Self. Rotary clubs are open to people of all cultures and ethnicities and are not affiliated with any political or religious organizations. \nFor more information\, visit www.peachtreecityrotary.org.
URL:https://thecitizen.com/event/rotary-club-of-peachtree-city-meets-on-thursdays/2020-09-24/
LOCATION:Peachtree City Atlanta Hotel and Conference Center\, 2443 Highway 54 West\, Peachtree City\, GA\, 30269\, United States
ATTACH;FMTTYPE=image/jpeg:https://thecitizen.com/wpimport/wp-content/uploads/2017/01/peachtree-city-rotary-club.jpg
GEO:33.404684;-84.5759171
X-APPLE-STRUCTURED-LOCATION;VALUE=URI;X-ADDRESS=Peachtree City Atlanta Hotel and Conference Center 2443 Highway 54 West Peachtree City GA 30269 United States;X-APPLE-RADIUS=500;X-TITLE=2443 Highway 54 West:geo:-84.5759171,33.404684
END:VEVENT
BEGIN:VEVENT
DTSTART;TZID=America/New_York:20200925T133000
DTEND;TZID=America/New_York:20200925T143000
DTSTAMP:20260424T112233
CREATED:20200826T193834Z
LAST-MODIFIED:20200826T193834Z
UID:10000164-1601040600-1601044200@thecitizen.com
SUMMARY:Just Shred It
DESCRIPTION:Fayette Senior Services will have a shredding truck from A1 Shredding on-site to take care of your shredding needs. Bring in your papers needing to be shred and have taken care of at a convenient and familiar site. \nFSS will not be handling any of your papers; each member is responsible for taking their shredding out to the trucks directly. \nThis event is sponsored and made possible by 101 Mobility of Atlanta. This program is FREE but pre-registration is required. Call 770-461-0813 or email register@fayss.org (include name\, phone number and event title) to register. \nFSS members and non-members welcome. \nwww.Fayss.org.
URL:https://thecitizen.com/event/just-shred-it/
LOCATION:Fayette Senior Services Life Enrichment Center\, 4 Center Drive\, Fayetteville\, GA\, 30214\, United States
CATEGORIES:Fayette Senior Services,Fayetteville,Free Events
ATTACH;FMTTYPE=image/jpeg:https://thecitizen.com/wpimport/wp-content/uploads/2020/08/just-shred-it.jpg
GEO:33.441675;-84.448722
X-APPLE-STRUCTURED-LOCATION;VALUE=URI;X-ADDRESS=Fayette Senior Services Life Enrichment Center 4 Center Drive Fayetteville GA 30214 United States;X-APPLE-RADIUS=500;X-TITLE=4 Center Drive:geo:-84.448722,33.441675
END:VEVENT
END:VCALENDAR