BEGIN:VCALENDAR
VERSION:2.0
PRODID:-//The Citizen - ECPv6.15.20//NONSGML v1.0//EN
CALSCALE:GREGORIAN
METHOD:PUBLISH
X-WR-CALNAME:The Citizen
X-ORIGINAL-URL:https://thecitizen.com
X-WR-CALDESC:Events for The Citizen
REFRESH-INTERVAL;VALUE=DURATION:PT1H
X-Robots-Tag:noindex
X-PUBLISHED-TTL:PT1H
BEGIN:VTIMEZONE
TZID:America/New_York
BEGIN:DAYLIGHT
TZOFFSETFROM:-0500
TZOFFSETTO:-0400
TZNAME:EDT
DTSTART:20180311T070000
END:DAYLIGHT
BEGIN:STANDARD
TZOFFSETFROM:-0400
TZOFFSETTO:-0500
TZNAME:EST
DTSTART:20181104T060000
END:STANDARD
BEGIN:DAYLIGHT
TZOFFSETFROM:-0500
TZOFFSETTO:-0400
TZNAME:EDT
DTSTART:20190310T070000
END:DAYLIGHT
BEGIN:STANDARD
TZOFFSETFROM:-0400
TZOFFSETTO:-0500
TZNAME:EST
DTSTART:20191103T060000
END:STANDARD
BEGIN:DAYLIGHT
TZOFFSETFROM:-0500
TZOFFSETTO:-0400
TZNAME:EDT
DTSTART:20200308T070000
END:DAYLIGHT
BEGIN:STANDARD
TZOFFSETFROM:-0400
TZOFFSETTO:-0500
TZNAME:EST
DTSTART:20201101T060000
END:STANDARD
END:VTIMEZONE
BEGIN:VEVENT
DTSTART;TZID=America/New_York:20191231T200000
DTEND;TZID=America/New_York:20191231T233000
DTSTAMP:20260419T143714
CREATED:20191215T155922Z
LAST-MODIFIED:20191215T155922Z
UID:10000683-1577822400-1577835000@thecitizen.com
SUMMARY:Merrill Chapel UMC sets Christmas Eve and New Year’s Eve services
DESCRIPTION:Merrill Chapel United Methodist Church of Fayetteville will be holding its Annual Christmas Eve Candlelight Service Tuesday\, December 24\, 2019 at 7:00 p.m. and the Watch Night Live Performance on New Year’s Eve Tuesday\, December 31\, 2019 at 8:00 p.m. \nThe church is located at 430 South Jeff Davis Drive in Fayetteville. Alpheia Murray is the pastor.
URL:https://thecitizen.com/event/merrill-chapel-umc-sets-christmas-eve-and-new-years-eve-services/2019-12-31/
LOCATION:GA
CATEGORIES:Christmas,Church,Holidays
ATTACH;FMTTYPE=image/jpeg:https://thecitizen.com/wpimport/wp-content/uploads/2017/12/news_stock-art_12-20-17_Christmas-His-name-will-be-called.jpg
END:VEVENT
END:VCALENDAR