BEGIN:VCALENDAR
VERSION:2.0
PRODID:-//The Citizen - ECPv6.15.20//NONSGML v1.0//EN
CALSCALE:GREGORIAN
METHOD:PUBLISH
X-WR-CALNAME:The Citizen
X-ORIGINAL-URL:https://thecitizen.com
X-WR-CALDESC:Events for The Citizen
REFRESH-INTERVAL;VALUE=DURATION:PT1H
X-Robots-Tag:noindex
X-PUBLISHED-TTL:PT1H
BEGIN:VTIMEZONE
TZID:America/New_York
BEGIN:DAYLIGHT
TZOFFSETFROM:-0500
TZOFFSETTO:-0400
TZNAME:EDT
DTSTART:20180311T070000
END:DAYLIGHT
BEGIN:STANDARD
TZOFFSETFROM:-0400
TZOFFSETTO:-0500
TZNAME:EST
DTSTART:20181104T060000
END:STANDARD
BEGIN:DAYLIGHT
TZOFFSETFROM:-0500
TZOFFSETTO:-0400
TZNAME:EDT
DTSTART:20190310T070000
END:DAYLIGHT
BEGIN:STANDARD
TZOFFSETFROM:-0400
TZOFFSETTO:-0500
TZNAME:EST
DTSTART:20191103T060000
END:STANDARD
BEGIN:DAYLIGHT
TZOFFSETFROM:-0500
TZOFFSETTO:-0400
TZNAME:EDT
DTSTART:20200308T070000
END:DAYLIGHT
BEGIN:STANDARD
TZOFFSETFROM:-0400
TZOFFSETTO:-0500
TZNAME:EST
DTSTART:20201101T060000
END:STANDARD
END:VTIMEZONE
BEGIN:VEVENT
DTSTART;TZID=America/New_York:20191129T173000
DTEND;TZID=America/New_York:20191129T210000
DTSTAMP:20260424T174708
CREATED:20191121T000004Z
LAST-MODIFIED:20191201T222742Z
UID:10000270-1575048600-1575061200@thecitizen.com
SUMMARY:Toy Drive
DESCRIPTION:LIGHT UP THE NIGHT TOY DRIVE\, Nov. 29\, 30 and Dec. 5\, 6\, 12\, 13 and 14\, 5:30 – 9:00 p.m.\, Wal-Mart Peachtree City \nThe Peachtree City Police Department and the CERT Program are teaming up for the annual Light Up the Night Toy Drive. Bring a new\, unwrapped toy and help make a child’s holiday season a little brighter this year. Dates subject to change based on weather. \nFor more information\, contact Asst. Chief Stan Pye at spye@peachtree-city.org.
URL:https://thecitizen.com/event/toy-drive/2019-11-29/
LOCATION:Walmart\, 2717 Ga. 54\, Peachtree City\, Georgia\, 30269
CATEGORIES:Community,Holidays
ATTACH;FMTTYPE=image/jpeg:https://thecitizen.com/wpimport/wp-content/uploads/imagesdrup/field/image/151202ToyDrive_web.jpg
END:VEVENT
BEGIN:VEVENT
DTSTART;TZID=America/New_York:20191129T200000
DTEND;TZID=America/New_York:20191129T220000
DTSTAMP:20260424T174708
CREATED:20191118T185526Z
LAST-MODIFIED:20191118T185647Z
UID:10000245-1575057600-1575064800@thecitizen.com
SUMMARY:Sanders Family Christmas
DESCRIPTION:The heartfelt holiday musical\, Sanders Family Christmas is the sequel to the bluegrass hit\,Smoke on the Mountain! Sanders Family Christmas opens November 22 and runs through December 22 at The Legacy Theatre in Tyrone. \n“Sanders Family Christmas is a great holiday show for everyone. The cast is full of talented actor/musicians. I think the best part is seeing these characters play all the music live as well as act and sing.” says Mark Smith\, director. “We’ve produced Smoke on the Mountain and Sanders Family Christmas before\, and they’ve both been audience favorites. So\, we decided it was time to bring back the Sanders family for Christmas!” \nSanders Family Christmas runs November 22 through December 22 with performances Fridays & Saturdays at 8 pm and Saturdays & Sundays at 3 pm. Adult tickets are $30-$40\, Senior & Student discounts are available as well as discounts for groups. Tickets can be purchased online at www.thelegacytheatre.org or by calling the Box Office at 404-895-1473. The Legacy Theatre is located at 1175 Senoia Rd. in Tyrone\, GA.
URL:https://thecitizen.com/event/sanders-family-christmas/2019-11-29/
LOCATION:The Legacy Theatre\, 1175 Senoia Road\, Tyrone\, GA\, 30290\, United States
CATEGORIES:Arts,Friday Night,Holidays,Live Performances,Music,Saturday Night,Sunday,Theater
ATTACH;FMTTYPE=image/jpeg:https://thecitizen.com/wpimport/wp-content/uploads/2019/11/Sanders_Family_Christmas_Legacy_Theatre_2019.jpg
GEO:33.4891702;-84.5826316
X-APPLE-STRUCTURED-LOCATION;VALUE=URI;X-ADDRESS=The Legacy Theatre 1175 Senoia Road Tyrone GA 30290 United States;X-APPLE-RADIUS=500;X-TITLE=1175 Senoia Road:geo:-84.5826316,33.4891702
END:VEVENT
BEGIN:VEVENT
DTSTART;TZID=America/New_York:20191130T150000
DTEND;TZID=America/New_York:20191130T170000
DTSTAMP:20260424T174708
CREATED:20250702T225947Z
LAST-MODIFIED:20250702T225947Z
UID:10000259-1575126000-1575133200@thecitizen.com
SUMMARY:Sanders Family Christmas
DESCRIPTION:The heartfelt holiday musical\, Sanders Family Christmas is the sequel to the bluegrass hit\,Smoke on the Mountain! Sanders Family Christmas opens November 22 and runs through December 22 at The Legacy Theatre in Tyrone. \n“Sanders Family Christmas is a great holiday show for everyone. The cast is full of talented actor/musicians. I think the best part is seeing these characters play all the music live as well as act and sing.” says Mark Smith\, director. “We’ve produced Smoke on the Mountain and Sanders Family Christmas before\, and they’ve both been audience favorites. So\, we decided it was time to bring back the Sanders family for Christmas!” \nSanders Family Christmas runs November 22 through December 22 with performances Fridays & Saturdays at 8 pm and Saturdays & Sundays at 3 pm. Adult tickets are $30-$40\, Senior & Student discounts are available as well as discounts for groups. Tickets can be purchased online at www.thelegacytheatre.org or by calling the Box Office at 404-895-1473. The Legacy Theatre is located at 1175 Senoia Rd. in Tyrone\, GA.
URL:https://thecitizen.com/event/sanders-family-christmas/2019-11-30/
LOCATION:The Legacy Theatre\, 1175 Senoia Road\, Tyrone\, GA\, 30290\, United States
CATEGORIES:Arts,Friday Night,Holidays,Live Performances,Music,Saturday Night,Sunday,Theater
ATTACH;FMTTYPE=image/jpeg:https://thecitizen.com/wpimport/wp-content/uploads/2019/11/Sanders_Family_Christmas_Legacy_Theatre_2019.jpg
GEO:33.4891702;-84.5826316
X-APPLE-STRUCTURED-LOCATION;VALUE=URI;X-ADDRESS=The Legacy Theatre 1175 Senoia Road Tyrone GA 30290 United States;X-APPLE-RADIUS=500;X-TITLE=1175 Senoia Road:geo:-84.5826316,33.4891702
END:VEVENT
BEGIN:VEVENT
DTSTART;TZID=America/New_York:20191130T173000
DTEND;TZID=America/New_York:20191130T210000
DTSTAMP:20260424T174708
CREATED:20191121T000004Z
LAST-MODIFIED:20191201T222742Z
UID:10000271-1575135000-1575147600@thecitizen.com
SUMMARY:Toy Drive
DESCRIPTION:LIGHT UP THE NIGHT TOY DRIVE\, Nov. 29\, 30 and Dec. 5\, 6\, 12\, 13 and 14\, 5:30 – 9:00 p.m.\, Wal-Mart Peachtree City \nThe Peachtree City Police Department and the CERT Program are teaming up for the annual Light Up the Night Toy Drive. Bring a new\, unwrapped toy and help make a child’s holiday season a little brighter this year. Dates subject to change based on weather. \nFor more information\, contact Asst. Chief Stan Pye at spye@peachtree-city.org.
URL:https://thecitizen.com/event/toy-drive/2019-11-30/
LOCATION:Walmart\, 2717 Ga. 54\, Peachtree City\, Georgia\, 30269
CATEGORIES:Community,Holidays
ATTACH;FMTTYPE=image/jpeg:https://thecitizen.com/wpimport/wp-content/uploads/imagesdrup/field/image/151202ToyDrive_web.jpg
END:VEVENT
BEGIN:VEVENT
DTSTART;TZID=America/New_York:20191130T200000
DTEND;TZID=America/New_York:20191130T220000
DTSTAMP:20260424T174708
CREATED:20191118T185526Z
LAST-MODIFIED:20191118T185647Z
UID:10000246-1575144000-1575151200@thecitizen.com
SUMMARY:Sanders Family Christmas
DESCRIPTION:The heartfelt holiday musical\, Sanders Family Christmas is the sequel to the bluegrass hit\,Smoke on the Mountain! Sanders Family Christmas opens November 22 and runs through December 22 at The Legacy Theatre in Tyrone. \n“Sanders Family Christmas is a great holiday show for everyone. The cast is full of talented actor/musicians. I think the best part is seeing these characters play all the music live as well as act and sing.” says Mark Smith\, director. “We’ve produced Smoke on the Mountain and Sanders Family Christmas before\, and they’ve both been audience favorites. So\, we decided it was time to bring back the Sanders family for Christmas!” \nSanders Family Christmas runs November 22 through December 22 with performances Fridays & Saturdays at 8 pm and Saturdays & Sundays at 3 pm. Adult tickets are $30-$40\, Senior & Student discounts are available as well as discounts for groups. Tickets can be purchased online at www.thelegacytheatre.org or by calling the Box Office at 404-895-1473. The Legacy Theatre is located at 1175 Senoia Rd. in Tyrone\, GA.
URL:https://thecitizen.com/event/sanders-family-christmas/2019-11-30/
LOCATION:The Legacy Theatre\, 1175 Senoia Road\, Tyrone\, GA\, 30290\, United States
CATEGORIES:Arts,Friday Night,Holidays,Live Performances,Music,Saturday Night,Sunday,Theater
ATTACH;FMTTYPE=image/jpeg:https://thecitizen.com/wpimport/wp-content/uploads/2019/11/Sanders_Family_Christmas_Legacy_Theatre_2019.jpg
GEO:33.4891702;-84.5826316
X-APPLE-STRUCTURED-LOCATION;VALUE=URI;X-ADDRESS=The Legacy Theatre 1175 Senoia Road Tyrone GA 30290 United States;X-APPLE-RADIUS=500;X-TITLE=1175 Senoia Road:geo:-84.5826316,33.4891702
END:VEVENT
BEGIN:VEVENT
DTSTART;TZID=America/New_York:20191201T150000
DTEND;TZID=America/New_York:20191201T170000
DTSTAMP:20260424T174708
CREATED:20250702T225947Z
LAST-MODIFIED:20250702T225947Z
UID:10000260-1575212400-1575219600@thecitizen.com
SUMMARY:Sanders Family Christmas
DESCRIPTION:The heartfelt holiday musical\, Sanders Family Christmas is the sequel to the bluegrass hit\,Smoke on the Mountain! Sanders Family Christmas opens November 22 and runs through December 22 at The Legacy Theatre in Tyrone. \n“Sanders Family Christmas is a great holiday show for everyone. The cast is full of talented actor/musicians. I think the best part is seeing these characters play all the music live as well as act and sing.” says Mark Smith\, director. “We’ve produced Smoke on the Mountain and Sanders Family Christmas before\, and they’ve both been audience favorites. So\, we decided it was time to bring back the Sanders family for Christmas!” \nSanders Family Christmas runs November 22 through December 22 with performances Fridays & Saturdays at 8 pm and Saturdays & Sundays at 3 pm. Adult tickets are $30-$40\, Senior & Student discounts are available as well as discounts for groups. Tickets can be purchased online at www.thelegacytheatre.org or by calling the Box Office at 404-895-1473. The Legacy Theatre is located at 1175 Senoia Rd. in Tyrone\, GA.
URL:https://thecitizen.com/event/sanders-family-christmas/2019-12-01/
LOCATION:The Legacy Theatre\, 1175 Senoia Road\, Tyrone\, GA\, 30290\, United States
CATEGORIES:Arts,Friday Night,Holidays,Live Performances,Music,Saturday Night,Sunday,Theater
ATTACH;FMTTYPE=image/jpeg:https://thecitizen.com/wpimport/wp-content/uploads/2019/11/Sanders_Family_Christmas_Legacy_Theatre_2019.jpg
GEO:33.4891702;-84.5826316
X-APPLE-STRUCTURED-LOCATION;VALUE=URI;X-ADDRESS=The Legacy Theatre 1175 Senoia Road Tyrone GA 30290 United States;X-APPLE-RADIUS=500;X-TITLE=1175 Senoia Road:geo:-84.5826316,33.4891702
END:VEVENT
BEGIN:VEVENT
DTSTART;TZID=America/New_York:20191202T193000
DTEND;TZID=America/New_York:20191202T203000
DTSTAMP:20260424T174708
CREATED:20190901T204920Z
LAST-MODIFIED:20190901T204920Z
UID:10000370-1575315000-1575318600@thecitizen.com
SUMMARY:Peachtree City Running Club
DESCRIPTION:PEACHTREE CITY RUNNING CLUB holds its monthly meetings on the 1st Monday of every month (except July and December)\, at 7:30 p.m. at the Peachtree City Hotel and Conference Center (formerly known as the Wyndham). To confirm meeting location and for more information\, go to ptcrc.com.
URL:https://thecitizen.com/event/peachtree-city-running-club/2019-12-02/
LOCATION:GA
CATEGORIES:Sports
END:VEVENT
BEGIN:VEVENT
DTSTART;TZID=America/New_York:20191203T183000
DTEND;TZID=America/New_York:20191203T203000
DTSTAMP:20260424T174708
CREATED:20190901T140958Z
LAST-MODIFIED:20241205T183215Z
UID:10000354-1575397800-1575405000@thecitizen.com
SUMMARY:Envision Support Group for Visually Impaired
DESCRIPTION:ENVISION SUPPORT GROUP FOR THE VISUALLY IMPAIRED meets the 1st Tuesday of each month at 6:30 – 8:30 p.m. at Arbor Terrace\, 201 Crosstown Dr.\, Peachtree City in the multi-purpose room on the second floor. \nThe purpose of this group is to educate\, encourage and empower those who are experiencing vision loss. Family and friends are welcome. Transportation can be arranged. \nFor more information\, call Audrey Demmitt at 770-631-6455 or email audreymagoo@gmail.com.
URL:https://thecitizen.com/event/envision-support-group-for-visually-impaired/2019-12-03/
LOCATION:Arbor Terrace\, 201 Crosstown Drive\, Peachtree City\, Georgia\, 30269
CATEGORIES:Support Groups
ORGANIZER;CN="Audrey Demmitt":MAILTO:audreymagoo@gmail.com
END:VEVENT
BEGIN:VEVENT
DTSTART;TZID=America/New_York:20191205T093000
DTEND;TZID=America/New_York:20191205T110000
DTSTAMP:20260424T174708
CREATED:20190830T212056Z
LAST-MODIFIED:20190830T212056Z
UID:10002100-1575538200-1575543600@thecitizen.com
SUMMARY:New Neighbors League meets in Peachtree City
DESCRIPTION:NEW NEIGHBORS LEAGUE CLUB meets the 1st Thursday of each month at 9:30 a.m. at Christ Our Shepherd Lutheran Church (Fellowship Hall)\, 101 N Peachtree Pkwy\, Peachtree City. Visitors are welcome. For more information\, contact Carol Jensen-Linton at 770-486-9116 or email CarolJL@bellsouth.net.
URL:https://thecitizen.com/event/new-neighbors-league-meets-in-peachtree-city/2019-12-05/
LOCATION:Christ Our Shepherd Lutheran Church\, 101 N. Peachtree Parkway\, Peachtree City\, GA\, 30269\, United States
CATEGORIES:Community,Events
ATTACH;FMTTYPE=image/jpeg:https://thecitizen.com/wpimport/wp-content/uploads/2017/01/new-neighbors-league-club-peachtree-city.jpg
ORGANIZER;CN="Carol Jensen-Linton":MAILTO:CarolJL@bellsouth.net
GEO:33.4077284;-84.5697307
X-APPLE-STRUCTURED-LOCATION;VALUE=URI;X-ADDRESS=Christ Our Shepherd Lutheran Church 101 N. Peachtree Parkway Peachtree City GA 30269 United States;X-APPLE-RADIUS=500;X-TITLE=101 N. Peachtree Parkway:geo:-84.5697307,33.4077284
END:VEVENT
BEGIN:VEVENT
DTSTART;TZID=America/New_York:20191205T120000
DTEND;TZID=America/New_York:20191205T130000
DTSTAMP:20260424T174708
CREATED:20190830T230354Z
LAST-MODIFIED:20250408T022306Z
UID:10000794-1575547200-1575550800@thecitizen.com
SUMMARY:Rotary Club of Peachtree City meets on Thursdays
DESCRIPTION:ROTARY CLUB OF PEACHTREE CITY meets Thursdays at 12 p.m. at Peachtree Center Conference Center\, 2443 Highway 54 West\, Peachtree City. Rotary’s main objective is service in the community\, in the workplace\, and around the globe. The 1.2 million Rotarians who make up more than 34\,000 Rotary clubs in nearly every country in the world share a dedication to the ideal of  Service above Self. Rotary clubs are open to people of all cultures and ethnicities and are not affiliated with any political or religious organizations. \nFor more information\, visit www.peachtreecityrotary.org.
URL:https://thecitizen.com/event/rotary-club-of-peachtree-city-meets-on-thursdays/2019-12-05/
LOCATION:Peachtree City Atlanta Hotel and Conference Center\, 2443 Highway 54 West\, Peachtree City\, GA\, 30269\, United States
ATTACH;FMTTYPE=image/jpeg:https://thecitizen.com/wpimport/wp-content/uploads/2017/01/peachtree-city-rotary-club.jpg
GEO:33.404684;-84.5759171
X-APPLE-STRUCTURED-LOCATION;VALUE=URI;X-ADDRESS=Peachtree City Atlanta Hotel and Conference Center 2443 Highway 54 West Peachtree City GA 30269 United States;X-APPLE-RADIUS=500;X-TITLE=2443 Highway 54 West:geo:-84.5759171,33.404684
END:VEVENT
BEGIN:VEVENT
DTSTART;TZID=America/New_York:20191205T173000
DTEND;TZID=America/New_York:20191205T210000
DTSTAMP:20260424T174708
CREATED:20191121T000004Z
LAST-MODIFIED:20191201T222742Z
UID:10000272-1575567000-1575579600@thecitizen.com
SUMMARY:Toy Drive
DESCRIPTION:LIGHT UP THE NIGHT TOY DRIVE\, Nov. 29\, 30 and Dec. 5\, 6\, 12\, 13 and 14\, 5:30 – 9:00 p.m.\, Wal-Mart Peachtree City \nThe Peachtree City Police Department and the CERT Program are teaming up for the annual Light Up the Night Toy Drive. Bring a new\, unwrapped toy and help make a child’s holiday season a little brighter this year. Dates subject to change based on weather. \nFor more information\, contact Asst. Chief Stan Pye at spye@peachtree-city.org.
URL:https://thecitizen.com/event/toy-drive/2019-12-05/
LOCATION:Walmart\, 2717 Ga. 54\, Peachtree City\, Georgia\, 30269
CATEGORIES:Community,Holidays
ATTACH;FMTTYPE=image/jpeg:https://thecitizen.com/wpimport/wp-content/uploads/imagesdrup/field/image/151202ToyDrive_web.jpg
END:VEVENT
BEGIN:VEVENT
DTSTART;TZID=America/New_York:20191205T200000
DTEND;TZID=America/New_York:20191205T220000
DTSTAMP:20260424T174708
CREATED:20191201T233755Z
LAST-MODIFIED:20191208T233653Z
UID:10002206-1575576000-1575583200@thecitizen.com
SUMMARY:A Tuna Christmas
DESCRIPTION:“A Tuna Christmas” opens December 5 at Southside Theatre Guild. \nWritten by Jaston Williams\, Joe Sears\, and Ed Howard\, and originally produced by Charles H. Duggan\, “A Tuna Christmas” takes place in the made-up town of Tuna\, Texas\, where two men\, Aries Struvie and Thurston Wheeler\, run a local radio station. It’s Christmas time in Tuna and a lot is going on. \nThe show stars Sharpsburgh’s Glen Heath and Fayetteville’s Jason Lindsey. \n“A Tuna Christmas” runs Thursdays through Sundays\, December 5 -15\, at Southside Theatre Guild in Fairburn. Showtimes are 8 pm Thursday through Saturday and 2:30 pm on Sundays. \nTickets are $12 for students\, $15 for Thursday performances and $20 for weekend shows if purchased online. \nVisit stgplays.com for tickets and additional information.
URL:https://thecitizen.com/event/a-tuna-christmas/2019-12-05/
LOCATION:Southside Theatre Guild\, 20 W. Campbellton St.\, Fairburn\, GA\, 30213\, United States
CATEGORIES:Arts,Friday Night,Holidays,Live Performances,Saturday Night,Sunday,Theater
ATTACH;FMTTYPE=image/jpeg:https://thecitizen.com/wpimport/wp-content/uploads/2019/12/a-tuna-christmas.jpg
GEO:33.5671605;-84.582259
X-APPLE-STRUCTURED-LOCATION;VALUE=URI;X-ADDRESS=Southside Theatre Guild 20 W. Campbellton St. Fairburn GA 30213 United States;X-APPLE-RADIUS=500;X-TITLE=20 W. Campbellton St.:geo:-84.582259,33.5671605
END:VEVENT
END:VCALENDAR