BEGIN:VCALENDAR
VERSION:2.0
PRODID:-//The Citizen - ECPv6.15.20//NONSGML v1.0//EN
CALSCALE:GREGORIAN
METHOD:PUBLISH
X-WR-CALNAME:The Citizen
X-ORIGINAL-URL:https://thecitizen.com
X-WR-CALDESC:Events for The Citizen
REFRESH-INTERVAL;VALUE=DURATION:PT1H
X-Robots-Tag:noindex
X-PUBLISHED-TTL:PT1H
BEGIN:VTIMEZONE
TZID:America/New_York
BEGIN:DAYLIGHT
TZOFFSETFROM:-0500
TZOFFSETTO:-0400
TZNAME:EDT
DTSTART:20240310T070000
END:DAYLIGHT
BEGIN:STANDARD
TZOFFSETFROM:-0400
TZOFFSETTO:-0500
TZNAME:EST
DTSTART:20241103T060000
END:STANDARD
BEGIN:DAYLIGHT
TZOFFSETFROM:-0500
TZOFFSETTO:-0400
TZNAME:EDT
DTSTART:20250309T070000
END:DAYLIGHT
BEGIN:STANDARD
TZOFFSETFROM:-0400
TZOFFSETTO:-0500
TZNAME:EST
DTSTART:20251102T060000
END:STANDARD
BEGIN:DAYLIGHT
TZOFFSETFROM:-0500
TZOFFSETTO:-0400
TZNAME:EDT
DTSTART:20260308T070000
END:DAYLIGHT
BEGIN:STANDARD
TZOFFSETFROM:-0400
TZOFFSETTO:-0500
TZNAME:EST
DTSTART:20261101T060000
END:STANDARD
END:VTIMEZONE
BEGIN:VEVENT
DTSTART;TZID=America/New_York:20250215T083000
DTEND;TZID=America/New_York:20250215T093000
DTSTAMP:20260420T023239
CREATED:20190830T234559Z
LAST-MODIFIED:20250408T022415Z
UID:10001581-1739608200-1739611800@thecitizen.com
SUMMARY:Overeaters Anonymous 12-step program
DESCRIPTION:OVEREATERS ANONYMOUS offers a 12-step program of recovery from compulsive eating. Meetings are free.\nOvereaters Anonymous meets twice a week at St. Andrews in the Pines Episcopal Church\, 316 North Peachtree Parkway\, Peachtree City\, at 6:30 p.m. on Tuesdays and 8:30 a.m. on Saturdays.\nFor information about the Peachtree City meetings\, call Bonita at: 404-234-7545 or Mike at 770-268-1430.\nFor information\, visit standrews316.org/ministries/outreach. \n 
URL:https://thecitizen.com/event/overeaters-anonymous-12-step-program-2022-06-18/2025-02-15/
CATEGORIES:Health
END:VEVENT
BEGIN:VEVENT
DTSTART;TZID=America/New_York:20250215T183000
DTEND;TZID=America/New_York:20250215T193000
DTSTAMP:20260420T023239
CREATED:20250702T225956Z
LAST-MODIFIED:20250702T225956Z
UID:10001843-1739644200-1739647800@thecitizen.com
SUMMARY:Overeaters Anonymous 12-step program
DESCRIPTION:OVEREATERS ANONYMOUS offers a 12-step program of recovery from compulsive eating. Meetings are free.\nOvereaters Anonymous meets twice a week at St. Andrews in the Pines Episcopal Church\, 316 North Peachtree Parkway\, Peachtree City\, at 6:30 p.m. on Tuesdays and 8:30 a.m. on Saturdays.\nFor information about the Peachtree City meetings\, call Bonita at: 404-234-7545 or Mike at 770-268-1430.\nFor information\, visit standrews316.org/ministries/outreach. \n 
URL:https://thecitizen.com/event/overeaters-anonymous-12-step-program-2022-06-18/2025-02-15/
CATEGORIES:Health
END:VEVENT
BEGIN:VEVENT
DTSTART;TZID=America/New_York:20250222T083000
DTEND;TZID=America/New_York:20250222T093000
DTSTAMP:20260420T023239
CREATED:20190830T234559Z
LAST-MODIFIED:20250408T022415Z
UID:10001582-1740213000-1740216600@thecitizen.com
SUMMARY:Overeaters Anonymous 12-step program
DESCRIPTION:OVEREATERS ANONYMOUS offers a 12-step program of recovery from compulsive eating. Meetings are free.\nOvereaters Anonymous meets twice a week at St. Andrews in the Pines Episcopal Church\, 316 North Peachtree Parkway\, Peachtree City\, at 6:30 p.m. on Tuesdays and 8:30 a.m. on Saturdays.\nFor information about the Peachtree City meetings\, call Bonita at: 404-234-7545 or Mike at 770-268-1430.\nFor information\, visit standrews316.org/ministries/outreach. \n 
URL:https://thecitizen.com/event/overeaters-anonymous-12-step-program-2022-06-18/2025-02-22/
CATEGORIES:Health
END:VEVENT
BEGIN:VEVENT
DTSTART;TZID=America/New_York:20250222T183000
DTEND;TZID=America/New_York:20250222T193000
DTSTAMP:20260420T023239
CREATED:20250702T225956Z
LAST-MODIFIED:20250702T225956Z
UID:10001844-1740249000-1740252600@thecitizen.com
SUMMARY:Overeaters Anonymous 12-step program
DESCRIPTION:OVEREATERS ANONYMOUS offers a 12-step program of recovery from compulsive eating. Meetings are free.\nOvereaters Anonymous meets twice a week at St. Andrews in the Pines Episcopal Church\, 316 North Peachtree Parkway\, Peachtree City\, at 6:30 p.m. on Tuesdays and 8:30 a.m. on Saturdays.\nFor information about the Peachtree City meetings\, call Bonita at: 404-234-7545 or Mike at 770-268-1430.\nFor information\, visit standrews316.org/ministries/outreach. \n 
URL:https://thecitizen.com/event/overeaters-anonymous-12-step-program-2022-06-18/2025-02-22/
CATEGORIES:Health
END:VEVENT
BEGIN:VEVENT
DTSTART;TZID=America/New_York:20250301T083000
DTEND;TZID=America/New_York:20250301T093000
DTSTAMP:20260420T023239
CREATED:20190830T234559Z
LAST-MODIFIED:20250408T022415Z
UID:10001583-1740817800-1740821400@thecitizen.com
SUMMARY:Overeaters Anonymous 12-step program
DESCRIPTION:OVEREATERS ANONYMOUS offers a 12-step program of recovery from compulsive eating. Meetings are free.\nOvereaters Anonymous meets twice a week at St. Andrews in the Pines Episcopal Church\, 316 North Peachtree Parkway\, Peachtree City\, at 6:30 p.m. on Tuesdays and 8:30 a.m. on Saturdays.\nFor information about the Peachtree City meetings\, call Bonita at: 404-234-7545 or Mike at 770-268-1430.\nFor information\, visit standrews316.org/ministries/outreach. \n 
URL:https://thecitizen.com/event/overeaters-anonymous-12-step-program-2022-06-18/2025-03-01/
CATEGORIES:Health
END:VEVENT
BEGIN:VEVENT
DTSTART;TZID=America/New_York:20250301T183000
DTEND;TZID=America/New_York:20250301T193000
DTSTAMP:20260420T023239
CREATED:20250702T225956Z
LAST-MODIFIED:20250702T225956Z
UID:10001845-1740853800-1740857400@thecitizen.com
SUMMARY:Overeaters Anonymous 12-step program
DESCRIPTION:OVEREATERS ANONYMOUS offers a 12-step program of recovery from compulsive eating. Meetings are free.\nOvereaters Anonymous meets twice a week at St. Andrews in the Pines Episcopal Church\, 316 North Peachtree Parkway\, Peachtree City\, at 6:30 p.m. on Tuesdays and 8:30 a.m. on Saturdays.\nFor information about the Peachtree City meetings\, call Bonita at: 404-234-7545 or Mike at 770-268-1430.\nFor information\, visit standrews316.org/ministries/outreach. \n 
URL:https://thecitizen.com/event/overeaters-anonymous-12-step-program-2022-06-18/2025-03-01/
CATEGORIES:Health
END:VEVENT
BEGIN:VEVENT
DTSTART;TZID=America/New_York:20250308T083000
DTEND;TZID=America/New_York:20250308T093000
DTSTAMP:20260420T023239
CREATED:20190830T234559Z
LAST-MODIFIED:20250408T022415Z
UID:10001584-1741422600-1741426200@thecitizen.com
SUMMARY:Overeaters Anonymous 12-step program
DESCRIPTION:OVEREATERS ANONYMOUS offers a 12-step program of recovery from compulsive eating. Meetings are free.\nOvereaters Anonymous meets twice a week at St. Andrews in the Pines Episcopal Church\, 316 North Peachtree Parkway\, Peachtree City\, at 6:30 p.m. on Tuesdays and 8:30 a.m. on Saturdays.\nFor information about the Peachtree City meetings\, call Bonita at: 404-234-7545 or Mike at 770-268-1430.\nFor information\, visit standrews316.org/ministries/outreach. \n 
URL:https://thecitizen.com/event/overeaters-anonymous-12-step-program-2022-06-18/2025-03-08/
CATEGORIES:Health
END:VEVENT
BEGIN:VEVENT
DTSTART;TZID=America/New_York:20250308T183000
DTEND;TZID=America/New_York:20250308T193000
DTSTAMP:20260420T023239
CREATED:20250702T225956Z
LAST-MODIFIED:20250702T225956Z
UID:10001846-1741458600-1741462200@thecitizen.com
SUMMARY:Overeaters Anonymous 12-step program
DESCRIPTION:OVEREATERS ANONYMOUS offers a 12-step program of recovery from compulsive eating. Meetings are free.\nOvereaters Anonymous meets twice a week at St. Andrews in the Pines Episcopal Church\, 316 North Peachtree Parkway\, Peachtree City\, at 6:30 p.m. on Tuesdays and 8:30 a.m. on Saturdays.\nFor information about the Peachtree City meetings\, call Bonita at: 404-234-7545 or Mike at 770-268-1430.\nFor information\, visit standrews316.org/ministries/outreach. \n 
URL:https://thecitizen.com/event/overeaters-anonymous-12-step-program-2022-06-18/2025-03-08/
CATEGORIES:Health
END:VEVENT
BEGIN:VEVENT
DTSTART;TZID=America/New_York:20250315T083000
DTEND;TZID=America/New_York:20250315T093000
DTSTAMP:20260420T023239
CREATED:20190830T234559Z
LAST-MODIFIED:20250408T022415Z
UID:10001585-1742027400-1742031000@thecitizen.com
SUMMARY:Overeaters Anonymous 12-step program
DESCRIPTION:OVEREATERS ANONYMOUS offers a 12-step program of recovery from compulsive eating. Meetings are free.\nOvereaters Anonymous meets twice a week at St. Andrews in the Pines Episcopal Church\, 316 North Peachtree Parkway\, Peachtree City\, at 6:30 p.m. on Tuesdays and 8:30 a.m. on Saturdays.\nFor information about the Peachtree City meetings\, call Bonita at: 404-234-7545 or Mike at 770-268-1430.\nFor information\, visit standrews316.org/ministries/outreach. \n 
URL:https://thecitizen.com/event/overeaters-anonymous-12-step-program-2022-06-18/2025-03-15/
CATEGORIES:Health
END:VEVENT
BEGIN:VEVENT
DTSTART;TZID=America/New_York:20250315T183000
DTEND;TZID=America/New_York:20250315T193000
DTSTAMP:20260420T023239
CREATED:20250702T225956Z
LAST-MODIFIED:20250702T225956Z
UID:10001847-1742063400-1742067000@thecitizen.com
SUMMARY:Overeaters Anonymous 12-step program
DESCRIPTION:OVEREATERS ANONYMOUS offers a 12-step program of recovery from compulsive eating. Meetings are free.\nOvereaters Anonymous meets twice a week at St. Andrews in the Pines Episcopal Church\, 316 North Peachtree Parkway\, Peachtree City\, at 6:30 p.m. on Tuesdays and 8:30 a.m. on Saturdays.\nFor information about the Peachtree City meetings\, call Bonita at: 404-234-7545 or Mike at 770-268-1430.\nFor information\, visit standrews316.org/ministries/outreach. \n 
URL:https://thecitizen.com/event/overeaters-anonymous-12-step-program-2022-06-18/2025-03-15/
CATEGORIES:Health
END:VEVENT
BEGIN:VEVENT
DTSTART;TZID=America/New_York:20250322T083000
DTEND;TZID=America/New_York:20250322T093000
DTSTAMP:20260420T023239
CREATED:20190830T234559Z
LAST-MODIFIED:20250408T022415Z
UID:10001586-1742632200-1742635800@thecitizen.com
SUMMARY:Overeaters Anonymous 12-step program
DESCRIPTION:OVEREATERS ANONYMOUS offers a 12-step program of recovery from compulsive eating. Meetings are free.\nOvereaters Anonymous meets twice a week at St. Andrews in the Pines Episcopal Church\, 316 North Peachtree Parkway\, Peachtree City\, at 6:30 p.m. on Tuesdays and 8:30 a.m. on Saturdays.\nFor information about the Peachtree City meetings\, call Bonita at: 404-234-7545 or Mike at 770-268-1430.\nFor information\, visit standrews316.org/ministries/outreach. \n 
URL:https://thecitizen.com/event/overeaters-anonymous-12-step-program-2022-06-18/2025-03-22/
CATEGORIES:Health
END:VEVENT
BEGIN:VEVENT
DTSTART;TZID=America/New_York:20250322T183000
DTEND;TZID=America/New_York:20250322T193000
DTSTAMP:20260420T023239
CREATED:20250702T225956Z
LAST-MODIFIED:20250702T225956Z
UID:10001848-1742668200-1742671800@thecitizen.com
SUMMARY:Overeaters Anonymous 12-step program
DESCRIPTION:OVEREATERS ANONYMOUS offers a 12-step program of recovery from compulsive eating. Meetings are free.\nOvereaters Anonymous meets twice a week at St. Andrews in the Pines Episcopal Church\, 316 North Peachtree Parkway\, Peachtree City\, at 6:30 p.m. on Tuesdays and 8:30 a.m. on Saturdays.\nFor information about the Peachtree City meetings\, call Bonita at: 404-234-7545 or Mike at 770-268-1430.\nFor information\, visit standrews316.org/ministries/outreach. \n 
URL:https://thecitizen.com/event/overeaters-anonymous-12-step-program-2022-06-18/2025-03-22/
CATEGORIES:Health
END:VEVENT
BEGIN:VEVENT
DTSTART;TZID=America/New_York:20250329T083000
DTEND;TZID=America/New_York:20250329T093000
DTSTAMP:20260420T023239
CREATED:20190830T234559Z
LAST-MODIFIED:20250408T022415Z
UID:10001587-1743237000-1743240600@thecitizen.com
SUMMARY:Overeaters Anonymous 12-step program
DESCRIPTION:OVEREATERS ANONYMOUS offers a 12-step program of recovery from compulsive eating. Meetings are free.\nOvereaters Anonymous meets twice a week at St. Andrews in the Pines Episcopal Church\, 316 North Peachtree Parkway\, Peachtree City\, at 6:30 p.m. on Tuesdays and 8:30 a.m. on Saturdays.\nFor information about the Peachtree City meetings\, call Bonita at: 404-234-7545 or Mike at 770-268-1430.\nFor information\, visit standrews316.org/ministries/outreach. \n 
URL:https://thecitizen.com/event/overeaters-anonymous-12-step-program-2022-06-18/2025-03-29/
CATEGORIES:Health
END:VEVENT
BEGIN:VEVENT
DTSTART;TZID=America/New_York:20250329T183000
DTEND;TZID=America/New_York:20250329T193000
DTSTAMP:20260420T023239
CREATED:20250702T225956Z
LAST-MODIFIED:20250702T225956Z
UID:10001849-1743273000-1743276600@thecitizen.com
SUMMARY:Overeaters Anonymous 12-step program
DESCRIPTION:OVEREATERS ANONYMOUS offers a 12-step program of recovery from compulsive eating. Meetings are free.\nOvereaters Anonymous meets twice a week at St. Andrews in the Pines Episcopal Church\, 316 North Peachtree Parkway\, Peachtree City\, at 6:30 p.m. on Tuesdays and 8:30 a.m. on Saturdays.\nFor information about the Peachtree City meetings\, call Bonita at: 404-234-7545 or Mike at 770-268-1430.\nFor information\, visit standrews316.org/ministries/outreach. \n 
URL:https://thecitizen.com/event/overeaters-anonymous-12-step-program-2022-06-18/2025-03-29/
CATEGORIES:Health
END:VEVENT
BEGIN:VEVENT
DTSTART;TZID=America/New_York:20250405T083000
DTEND;TZID=America/New_York:20250405T093000
DTSTAMP:20260420T023239
CREATED:20190830T234559Z
LAST-MODIFIED:20250408T022415Z
UID:10001588-1743841800-1743845400@thecitizen.com
SUMMARY:Overeaters Anonymous 12-step program
DESCRIPTION:OVEREATERS ANONYMOUS offers a 12-step program of recovery from compulsive eating. Meetings are free.\nOvereaters Anonymous meets twice a week at St. Andrews in the Pines Episcopal Church\, 316 North Peachtree Parkway\, Peachtree City\, at 6:30 p.m. on Tuesdays and 8:30 a.m. on Saturdays.\nFor information about the Peachtree City meetings\, call Bonita at: 404-234-7545 or Mike at 770-268-1430.\nFor information\, visit standrews316.org/ministries/outreach. \n 
URL:https://thecitizen.com/event/overeaters-anonymous-12-step-program-2022-06-18/2025-04-05/
CATEGORIES:Health
END:VEVENT
BEGIN:VEVENT
DTSTART;TZID=America/New_York:20250405T183000
DTEND;TZID=America/New_York:20250405T193000
DTSTAMP:20260420T023239
CREATED:20250702T225956Z
LAST-MODIFIED:20250702T225956Z
UID:10001850-1743877800-1743881400@thecitizen.com
SUMMARY:Overeaters Anonymous 12-step program
DESCRIPTION:OVEREATERS ANONYMOUS offers a 12-step program of recovery from compulsive eating. Meetings are free.\nOvereaters Anonymous meets twice a week at St. Andrews in the Pines Episcopal Church\, 316 North Peachtree Parkway\, Peachtree City\, at 6:30 p.m. on Tuesdays and 8:30 a.m. on Saturdays.\nFor information about the Peachtree City meetings\, call Bonita at: 404-234-7545 or Mike at 770-268-1430.\nFor information\, visit standrews316.org/ministries/outreach. \n 
URL:https://thecitizen.com/event/overeaters-anonymous-12-step-program-2022-06-18/2025-04-05/
CATEGORIES:Health
END:VEVENT
BEGIN:VEVENT
DTSTART;TZID=America/New_York:20250412T083000
DTEND;TZID=America/New_York:20250412T093000
DTSTAMP:20260420T023239
CREATED:20190830T234559Z
LAST-MODIFIED:20250408T022415Z
UID:10001589-1744446600-1744450200@thecitizen.com
SUMMARY:Overeaters Anonymous 12-step program
DESCRIPTION:OVEREATERS ANONYMOUS offers a 12-step program of recovery from compulsive eating. Meetings are free.\nOvereaters Anonymous meets twice a week at St. Andrews in the Pines Episcopal Church\, 316 North Peachtree Parkway\, Peachtree City\, at 6:30 p.m. on Tuesdays and 8:30 a.m. on Saturdays.\nFor information about the Peachtree City meetings\, call Bonita at: 404-234-7545 or Mike at 770-268-1430.\nFor information\, visit standrews316.org/ministries/outreach. \n 
URL:https://thecitizen.com/event/overeaters-anonymous-12-step-program-2022-06-18/2025-04-12/
CATEGORIES:Health
END:VEVENT
BEGIN:VEVENT
DTSTART;TZID=America/New_York:20250412T183000
DTEND;TZID=America/New_York:20250412T193000
DTSTAMP:20260420T023239
CREATED:20250702T225956Z
LAST-MODIFIED:20250702T225956Z
UID:10001851-1744482600-1744486200@thecitizen.com
SUMMARY:Overeaters Anonymous 12-step program
DESCRIPTION:OVEREATERS ANONYMOUS offers a 12-step program of recovery from compulsive eating. Meetings are free.\nOvereaters Anonymous meets twice a week at St. Andrews in the Pines Episcopal Church\, 316 North Peachtree Parkway\, Peachtree City\, at 6:30 p.m. on Tuesdays and 8:30 a.m. on Saturdays.\nFor information about the Peachtree City meetings\, call Bonita at: 404-234-7545 or Mike at 770-268-1430.\nFor information\, visit standrews316.org/ministries/outreach. \n 
URL:https://thecitizen.com/event/overeaters-anonymous-12-step-program-2022-06-18/2025-04-12/
CATEGORIES:Health
END:VEVENT
BEGIN:VEVENT
DTSTART;TZID=America/New_York:20250419T083000
DTEND;TZID=America/New_York:20250419T093000
DTSTAMP:20260420T023239
CREATED:20190830T234559Z
LAST-MODIFIED:20250408T022415Z
UID:10001590-1745051400-1745055000@thecitizen.com
SUMMARY:Overeaters Anonymous 12-step program
DESCRIPTION:OVEREATERS ANONYMOUS offers a 12-step program of recovery from compulsive eating. Meetings are free.\nOvereaters Anonymous meets twice a week at St. Andrews in the Pines Episcopal Church\, 316 North Peachtree Parkway\, Peachtree City\, at 6:30 p.m. on Tuesdays and 8:30 a.m. on Saturdays.\nFor information about the Peachtree City meetings\, call Bonita at: 404-234-7545 or Mike at 770-268-1430.\nFor information\, visit standrews316.org/ministries/outreach. \n 
URL:https://thecitizen.com/event/overeaters-anonymous-12-step-program-2022-06-18/2025-04-19/
CATEGORIES:Health
END:VEVENT
BEGIN:VEVENT
DTSTART;TZID=America/New_York:20250419T183000
DTEND;TZID=America/New_York:20250419T193000
DTSTAMP:20260420T023239
CREATED:20250702T225956Z
LAST-MODIFIED:20250702T225956Z
UID:10001852-1745087400-1745091000@thecitizen.com
SUMMARY:Overeaters Anonymous 12-step program
DESCRIPTION:OVEREATERS ANONYMOUS offers a 12-step program of recovery from compulsive eating. Meetings are free.\nOvereaters Anonymous meets twice a week at St. Andrews in the Pines Episcopal Church\, 316 North Peachtree Parkway\, Peachtree City\, at 6:30 p.m. on Tuesdays and 8:30 a.m. on Saturdays.\nFor information about the Peachtree City meetings\, call Bonita at: 404-234-7545 or Mike at 770-268-1430.\nFor information\, visit standrews316.org/ministries/outreach. \n 
URL:https://thecitizen.com/event/overeaters-anonymous-12-step-program-2022-06-18/2025-04-19/
CATEGORIES:Health
END:VEVENT
BEGIN:VEVENT
DTSTART;TZID=America/New_York:20250426T083000
DTEND;TZID=America/New_York:20250426T093000
DTSTAMP:20260420T023239
CREATED:20190830T234559Z
LAST-MODIFIED:20250408T022415Z
UID:10001591-1745656200-1745659800@thecitizen.com
SUMMARY:Overeaters Anonymous 12-step program
DESCRIPTION:OVEREATERS ANONYMOUS offers a 12-step program of recovery from compulsive eating. Meetings are free.\nOvereaters Anonymous meets twice a week at St. Andrews in the Pines Episcopal Church\, 316 North Peachtree Parkway\, Peachtree City\, at 6:30 p.m. on Tuesdays and 8:30 a.m. on Saturdays.\nFor information about the Peachtree City meetings\, call Bonita at: 404-234-7545 or Mike at 770-268-1430.\nFor information\, visit standrews316.org/ministries/outreach. \n 
URL:https://thecitizen.com/event/overeaters-anonymous-12-step-program-2022-06-18/2025-04-26/
CATEGORIES:Health
END:VEVENT
BEGIN:VEVENT
DTSTART;TZID=America/New_York:20250426T183000
DTEND;TZID=America/New_York:20250426T193000
DTSTAMP:20260420T023239
CREATED:20250702T225956Z
LAST-MODIFIED:20250702T225956Z
UID:10001853-1745692200-1745695800@thecitizen.com
SUMMARY:Overeaters Anonymous 12-step program
DESCRIPTION:OVEREATERS ANONYMOUS offers a 12-step program of recovery from compulsive eating. Meetings are free.\nOvereaters Anonymous meets twice a week at St. Andrews in the Pines Episcopal Church\, 316 North Peachtree Parkway\, Peachtree City\, at 6:30 p.m. on Tuesdays and 8:30 a.m. on Saturdays.\nFor information about the Peachtree City meetings\, call Bonita at: 404-234-7545 or Mike at 770-268-1430.\nFor information\, visit standrews316.org/ministries/outreach. \n 
URL:https://thecitizen.com/event/overeaters-anonymous-12-step-program-2022-06-18/2025-04-26/
CATEGORIES:Health
END:VEVENT
BEGIN:VEVENT
DTSTART;TZID=America/New_York:20250501T100000
DTEND;TZID=America/New_York:20250501T110000
DTSTAMP:20260420T023239
CREATED:20250430T132149Z
LAST-MODIFIED:20250430T132419Z
UID:10002336-1746093600-1746097200@thecitizen.com
SUMMARY:Chair Yoga with Sweet Tea Yoga
DESCRIPTION:Join Sweet Tea Yoga for Chair Yoga\, a gentle form of yoga done using a chair that assists with strength and balance. This event is free and open to the public. Ages 16+. Space is limited. Registration and waiver are required. Registration Opens: Monday\, April 14th; Register at https://ptclibrary.eventbrite.com.
URL:https://thecitizen.com/event/chair-yoga-with-sweet-tea-yoga/
LOCATION:Peachtree City Library\, 201 Willow Bend\, Peachtree City\, GA\, 30269\, United States
CATEGORIES:Health
ATTACH;FMTTYPE=image/png:https://thecitizen.com/wpimport/wp-content/uploads/2025/04/Chair-Yoga-by-Sweet-Tea-Yoga.png
GEO:33.400456;-84.5805645
X-APPLE-STRUCTURED-LOCATION;VALUE=URI;X-ADDRESS=Peachtree City Library 201 Willow Bend Peachtree City GA 30269 United States;X-APPLE-RADIUS=500;X-TITLE=201 Willow Bend:geo:-84.5805645,33.400456
END:VEVENT
BEGIN:VEVENT
DTSTART;TZID=America/New_York:20250503T083000
DTEND;TZID=America/New_York:20250503T093000
DTSTAMP:20260420T023239
CREATED:20190830T234559Z
LAST-MODIFIED:20250408T022415Z
UID:10001592-1746261000-1746264600@thecitizen.com
SUMMARY:Overeaters Anonymous 12-step program
DESCRIPTION:OVEREATERS ANONYMOUS offers a 12-step program of recovery from compulsive eating. Meetings are free.\nOvereaters Anonymous meets twice a week at St. Andrews in the Pines Episcopal Church\, 316 North Peachtree Parkway\, Peachtree City\, at 6:30 p.m. on Tuesdays and 8:30 a.m. on Saturdays.\nFor information about the Peachtree City meetings\, call Bonita at: 404-234-7545 or Mike at 770-268-1430.\nFor information\, visit standrews316.org/ministries/outreach. \n 
URL:https://thecitizen.com/event/overeaters-anonymous-12-step-program-2022-06-18/2025-05-03/
CATEGORIES:Health
END:VEVENT
BEGIN:VEVENT
DTSTART;TZID=America/New_York:20250503T163000
DTEND;TZID=America/New_York:20250503T173000
DTSTAMP:20260420T023239
CREATED:20250430T132757Z
LAST-MODIFIED:20250430T132909Z
UID:10000192-1746289800-1746293400@thecitizen.com
SUMMARY:Breathe & Meditate Session
DESCRIPTION:An introduction to the Art of Living breathwork and meditation session. You’ll clear your mind through calming breathing and guided mediation. This 60-minute session is a free event open to the public. Registration is encouraged. Seating is limited. Register at https://ptclibrary.eventbrite.com.
URL:https://thecitizen.com/event/breathe-meditate-session/2025-05-03/
LOCATION:Peachtree City Library\, 201 Willow Bend\, Peachtree City\, GA\, 30269\, United States
CATEGORIES:Health
ATTACH;FMTTYPE=image/png:https://thecitizen.com/wpimport/wp-content/uploads/2025/04/Generic.png
GEO:33.400456;-84.5805645
X-APPLE-STRUCTURED-LOCATION;VALUE=URI;X-ADDRESS=Peachtree City Library 201 Willow Bend Peachtree City GA 30269 United States;X-APPLE-RADIUS=500;X-TITLE=201 Willow Bend:geo:-84.5805645,33.400456
END:VEVENT
BEGIN:VEVENT
DTSTART;TZID=America/New_York:20250503T183000
DTEND;TZID=America/New_York:20250503T193000
DTSTAMP:20260420T023239
CREATED:20250702T225956Z
LAST-MODIFIED:20250702T225956Z
UID:10001854-1746297000-1746300600@thecitizen.com
SUMMARY:Overeaters Anonymous 12-step program
DESCRIPTION:OVEREATERS ANONYMOUS offers a 12-step program of recovery from compulsive eating. Meetings are free.\nOvereaters Anonymous meets twice a week at St. Andrews in the Pines Episcopal Church\, 316 North Peachtree Parkway\, Peachtree City\, at 6:30 p.m. on Tuesdays and 8:30 a.m. on Saturdays.\nFor information about the Peachtree City meetings\, call Bonita at: 404-234-7545 or Mike at 770-268-1430.\nFor information\, visit standrews316.org/ministries/outreach. \n 
URL:https://thecitizen.com/event/overeaters-anonymous-12-step-program-2022-06-18/2025-05-03/
CATEGORIES:Health
END:VEVENT
BEGIN:VEVENT
DTSTART;TZID=America/New_York:20250510T083000
DTEND;TZID=America/New_York:20250510T093000
DTSTAMP:20260420T023239
CREATED:20190830T234559Z
LAST-MODIFIED:20250408T022415Z
UID:10001593-1746865800-1746869400@thecitizen.com
SUMMARY:Overeaters Anonymous 12-step program
DESCRIPTION:OVEREATERS ANONYMOUS offers a 12-step program of recovery from compulsive eating. Meetings are free.\nOvereaters Anonymous meets twice a week at St. Andrews in the Pines Episcopal Church\, 316 North Peachtree Parkway\, Peachtree City\, at 6:30 p.m. on Tuesdays and 8:30 a.m. on Saturdays.\nFor information about the Peachtree City meetings\, call Bonita at: 404-234-7545 or Mike at 770-268-1430.\nFor information\, visit standrews316.org/ministries/outreach. \n 
URL:https://thecitizen.com/event/overeaters-anonymous-12-step-program-2022-06-18/2025-05-10/
CATEGORIES:Health
END:VEVENT
BEGIN:VEVENT
DTSTART;TZID=America/New_York:20250510T183000
DTEND;TZID=America/New_York:20250510T193000
DTSTAMP:20260420T023239
CREATED:20250702T225956Z
LAST-MODIFIED:20250702T225956Z
UID:10001855-1746901800-1746905400@thecitizen.com
SUMMARY:Overeaters Anonymous 12-step program
DESCRIPTION:OVEREATERS ANONYMOUS offers a 12-step program of recovery from compulsive eating. Meetings are free.\nOvereaters Anonymous meets twice a week at St. Andrews in the Pines Episcopal Church\, 316 North Peachtree Parkway\, Peachtree City\, at 6:30 p.m. on Tuesdays and 8:30 a.m. on Saturdays.\nFor information about the Peachtree City meetings\, call Bonita at: 404-234-7545 or Mike at 770-268-1430.\nFor information\, visit standrews316.org/ministries/outreach. \n 
URL:https://thecitizen.com/event/overeaters-anonymous-12-step-program-2022-06-18/2025-05-10/
CATEGORIES:Health
END:VEVENT
BEGIN:VEVENT
DTSTART;TZID=America/New_York:20250517T083000
DTEND;TZID=America/New_York:20250517T093000
DTSTAMP:20260420T023239
CREATED:20190830T234559Z
LAST-MODIFIED:20250408T022415Z
UID:10001594-1747470600-1747474200@thecitizen.com
SUMMARY:Overeaters Anonymous 12-step program
DESCRIPTION:OVEREATERS ANONYMOUS offers a 12-step program of recovery from compulsive eating. Meetings are free.\nOvereaters Anonymous meets twice a week at St. Andrews in the Pines Episcopal Church\, 316 North Peachtree Parkway\, Peachtree City\, at 6:30 p.m. on Tuesdays and 8:30 a.m. on Saturdays.\nFor information about the Peachtree City meetings\, call Bonita at: 404-234-7545 or Mike at 770-268-1430.\nFor information\, visit standrews316.org/ministries/outreach. \n 
URL:https://thecitizen.com/event/overeaters-anonymous-12-step-program-2022-06-18/2025-05-17/
CATEGORIES:Health
END:VEVENT
BEGIN:VEVENT
DTSTART;TZID=America/New_York:20250517T183000
DTEND;TZID=America/New_York:20250517T193000
DTSTAMP:20260420T023239
CREATED:20250702T225956Z
LAST-MODIFIED:20250702T225956Z
UID:10001856-1747506600-1747510200@thecitizen.com
SUMMARY:Overeaters Anonymous 12-step program
DESCRIPTION:OVEREATERS ANONYMOUS offers a 12-step program of recovery from compulsive eating. Meetings are free.\nOvereaters Anonymous meets twice a week at St. Andrews in the Pines Episcopal Church\, 316 North Peachtree Parkway\, Peachtree City\, at 6:30 p.m. on Tuesdays and 8:30 a.m. on Saturdays.\nFor information about the Peachtree City meetings\, call Bonita at: 404-234-7545 or Mike at 770-268-1430.\nFor information\, visit standrews316.org/ministries/outreach. \n 
URL:https://thecitizen.com/event/overeaters-anonymous-12-step-program-2022-06-18/2025-05-17/
CATEGORIES:Health
END:VEVENT
END:VCALENDAR