BEGIN:VCALENDAR
VERSION:2.0
PRODID:-//The Citizen - ECPv6.15.20//NONSGML v1.0//EN
CALSCALE:GREGORIAN
METHOD:PUBLISH
X-WR-CALNAME:The Citizen
X-ORIGINAL-URL:https://thecitizen.com
X-WR-CALDESC:Events for The Citizen
REFRESH-INTERVAL;VALUE=DURATION:PT1H
X-Robots-Tag:noindex
X-PUBLISHED-TTL:PT1H
BEGIN:VTIMEZONE
TZID:America/New_York
BEGIN:DAYLIGHT
TZOFFSETFROM:-0500
TZOFFSETTO:-0400
TZNAME:EDT
DTSTART:20240310T070000
END:DAYLIGHT
BEGIN:STANDARD
TZOFFSETFROM:-0400
TZOFFSETTO:-0500
TZNAME:EST
DTSTART:20241103T060000
END:STANDARD
BEGIN:DAYLIGHT
TZOFFSETFROM:-0500
TZOFFSETTO:-0400
TZNAME:EDT
DTSTART:20250309T070000
END:DAYLIGHT
BEGIN:STANDARD
TZOFFSETFROM:-0400
TZOFFSETTO:-0500
TZNAME:EST
DTSTART:20251102T060000
END:STANDARD
BEGIN:DAYLIGHT
TZOFFSETFROM:-0500
TZOFFSETTO:-0400
TZNAME:EDT
DTSTART:20260308T070000
END:DAYLIGHT
BEGIN:STANDARD
TZOFFSETFROM:-0400
TZOFFSETTO:-0500
TZNAME:EST
DTSTART:20261101T060000
END:STANDARD
END:VTIMEZONE
BEGIN:VEVENT
DTSTART;TZID=America/New_York:20250726T183000
DTEND;TZID=America/New_York:20250726T193000
DTSTAMP:20260420T022218
CREATED:20250702T225956Z
LAST-MODIFIED:20250702T225956Z
UID:10001866-1753554600-1753558200@thecitizen.com
SUMMARY:Overeaters Anonymous 12-step program
DESCRIPTION:OVEREATERS ANONYMOUS offers a 12-step program of recovery from compulsive eating. Meetings are free.\nOvereaters Anonymous meets twice a week at St. Andrews in the Pines Episcopal Church\, 316 North Peachtree Parkway\, Peachtree City\, at 6:30 p.m. on Tuesdays and 8:30 a.m. on Saturdays.\nFor information about the Peachtree City meetings\, call Bonita at: 404-234-7545 or Mike at 770-268-1430.\nFor information\, visit standrews316.org/ministries/outreach. \n 
URL:https://thecitizen.com/event/overeaters-anonymous-12-step-program-2022-06-18/2025-07-26/
CATEGORIES:Health
END:VEVENT
BEGIN:VEVENT
DTSTART;TZID=America/New_York:20250802T083000
DTEND;TZID=America/New_York:20250802T093000
DTSTAMP:20260420T022218
CREATED:20190830T234559Z
LAST-MODIFIED:20250408T022415Z
UID:10001605-1754123400-1754127000@thecitizen.com
SUMMARY:Overeaters Anonymous 12-step program
DESCRIPTION:OVEREATERS ANONYMOUS offers a 12-step program of recovery from compulsive eating. Meetings are free.\nOvereaters Anonymous meets twice a week at St. Andrews in the Pines Episcopal Church\, 316 North Peachtree Parkway\, Peachtree City\, at 6:30 p.m. on Tuesdays and 8:30 a.m. on Saturdays.\nFor information about the Peachtree City meetings\, call Bonita at: 404-234-7545 or Mike at 770-268-1430.\nFor information\, visit standrews316.org/ministries/outreach. \n 
URL:https://thecitizen.com/event/overeaters-anonymous-12-step-program-2022-06-18/2025-08-02/
CATEGORIES:Health
END:VEVENT
BEGIN:VEVENT
DTSTART;TZID=America/New_York:20250802T163000
DTEND;TZID=America/New_York:20250802T173000
DTSTAMP:20260420T022218
CREATED:20250430T132757Z
LAST-MODIFIED:20250430T132909Z
UID:10000195-1754152200-1754155800@thecitizen.com
SUMMARY:Breathe & Meditate Session
DESCRIPTION:An introduction to the Art of Living breathwork and meditation session. You’ll clear your mind through calming breathing and guided mediation. This 60-minute session is a free event open to the public. Registration is encouraged. Seating is limited. Register at https://ptclibrary.eventbrite.com.
URL:https://thecitizen.com/event/breathe-meditate-session/2025-08-02/
LOCATION:Peachtree City Library\, 201 Willow Bend\, Peachtree City\, GA\, 30269\, United States
CATEGORIES:Health
ATTACH;FMTTYPE=image/png:https://thecitizen.com/wpimport/wp-content/uploads/2025/04/Generic.png
GEO:33.400456;-84.5805645
X-APPLE-STRUCTURED-LOCATION;VALUE=URI;X-ADDRESS=Peachtree City Library 201 Willow Bend Peachtree City GA 30269 United States;X-APPLE-RADIUS=500;X-TITLE=201 Willow Bend:geo:-84.5805645,33.400456
END:VEVENT
BEGIN:VEVENT
DTSTART;TZID=America/New_York:20250802T183000
DTEND;TZID=America/New_York:20250802T193000
DTSTAMP:20260420T022218
CREATED:20250702T225956Z
LAST-MODIFIED:20250702T225956Z
UID:10001867-1754159400-1754163000@thecitizen.com
SUMMARY:Overeaters Anonymous 12-step program
DESCRIPTION:OVEREATERS ANONYMOUS offers a 12-step program of recovery from compulsive eating. Meetings are free.\nOvereaters Anonymous meets twice a week at St. Andrews in the Pines Episcopal Church\, 316 North Peachtree Parkway\, Peachtree City\, at 6:30 p.m. on Tuesdays and 8:30 a.m. on Saturdays.\nFor information about the Peachtree City meetings\, call Bonita at: 404-234-7545 or Mike at 770-268-1430.\nFor information\, visit standrews316.org/ministries/outreach. \n 
URL:https://thecitizen.com/event/overeaters-anonymous-12-step-program-2022-06-18/2025-08-02/
CATEGORIES:Health
END:VEVENT
BEGIN:VEVENT
DTSTART;TZID=America/New_York:20250809T083000
DTEND;TZID=America/New_York:20250809T093000
DTSTAMP:20260420T022218
CREATED:20190830T234559Z
LAST-MODIFIED:20250408T022415Z
UID:10001606-1754728200-1754731800@thecitizen.com
SUMMARY:Overeaters Anonymous 12-step program
DESCRIPTION:OVEREATERS ANONYMOUS offers a 12-step program of recovery from compulsive eating. Meetings are free.\nOvereaters Anonymous meets twice a week at St. Andrews in the Pines Episcopal Church\, 316 North Peachtree Parkway\, Peachtree City\, at 6:30 p.m. on Tuesdays and 8:30 a.m. on Saturdays.\nFor information about the Peachtree City meetings\, call Bonita at: 404-234-7545 or Mike at 770-268-1430.\nFor information\, visit standrews316.org/ministries/outreach. \n 
URL:https://thecitizen.com/event/overeaters-anonymous-12-step-program-2022-06-18/2025-08-09/
CATEGORIES:Health
END:VEVENT
BEGIN:VEVENT
DTSTART;TZID=America/New_York:20250809T183000
DTEND;TZID=America/New_York:20250809T193000
DTSTAMP:20260420T022218
CREATED:20250702T225956Z
LAST-MODIFIED:20250702T225956Z
UID:10001868-1754764200-1754767800@thecitizen.com
SUMMARY:Overeaters Anonymous 12-step program
DESCRIPTION:OVEREATERS ANONYMOUS offers a 12-step program of recovery from compulsive eating. Meetings are free.\nOvereaters Anonymous meets twice a week at St. Andrews in the Pines Episcopal Church\, 316 North Peachtree Parkway\, Peachtree City\, at 6:30 p.m. on Tuesdays and 8:30 a.m. on Saturdays.\nFor information about the Peachtree City meetings\, call Bonita at: 404-234-7545 or Mike at 770-268-1430.\nFor information\, visit standrews316.org/ministries/outreach. \n 
URL:https://thecitizen.com/event/overeaters-anonymous-12-step-program-2022-06-18/2025-08-09/
CATEGORIES:Health
END:VEVENT
BEGIN:VEVENT
DTSTART;TZID=America/New_York:20250816T083000
DTEND;TZID=America/New_York:20250816T093000
DTSTAMP:20260420T022218
CREATED:20190830T234559Z
LAST-MODIFIED:20250408T022415Z
UID:10001607-1755333000-1755336600@thecitizen.com
SUMMARY:Overeaters Anonymous 12-step program
DESCRIPTION:OVEREATERS ANONYMOUS offers a 12-step program of recovery from compulsive eating. Meetings are free.\nOvereaters Anonymous meets twice a week at St. Andrews in the Pines Episcopal Church\, 316 North Peachtree Parkway\, Peachtree City\, at 6:30 p.m. on Tuesdays and 8:30 a.m. on Saturdays.\nFor information about the Peachtree City meetings\, call Bonita at: 404-234-7545 or Mike at 770-268-1430.\nFor information\, visit standrews316.org/ministries/outreach. \n 
URL:https://thecitizen.com/event/overeaters-anonymous-12-step-program-2022-06-18/2025-08-16/
CATEGORIES:Health
END:VEVENT
BEGIN:VEVENT
DTSTART;TZID=America/New_York:20250816T183000
DTEND;TZID=America/New_York:20250816T193000
DTSTAMP:20260420T022218
CREATED:20250702T225956Z
LAST-MODIFIED:20250702T225956Z
UID:10001869-1755369000-1755372600@thecitizen.com
SUMMARY:Overeaters Anonymous 12-step program
DESCRIPTION:OVEREATERS ANONYMOUS offers a 12-step program of recovery from compulsive eating. Meetings are free.\nOvereaters Anonymous meets twice a week at St. Andrews in the Pines Episcopal Church\, 316 North Peachtree Parkway\, Peachtree City\, at 6:30 p.m. on Tuesdays and 8:30 a.m. on Saturdays.\nFor information about the Peachtree City meetings\, call Bonita at: 404-234-7545 or Mike at 770-268-1430.\nFor information\, visit standrews316.org/ministries/outreach. \n 
URL:https://thecitizen.com/event/overeaters-anonymous-12-step-program-2022-06-18/2025-08-16/
CATEGORIES:Health
END:VEVENT
BEGIN:VEVENT
DTSTART;TZID=America/New_York:20250823T083000
DTEND;TZID=America/New_York:20250823T093000
DTSTAMP:20260420T022218
CREATED:20190830T234559Z
LAST-MODIFIED:20250408T022415Z
UID:10001608-1755937800-1755941400@thecitizen.com
SUMMARY:Overeaters Anonymous 12-step program
DESCRIPTION:OVEREATERS ANONYMOUS offers a 12-step program of recovery from compulsive eating. Meetings are free.\nOvereaters Anonymous meets twice a week at St. Andrews in the Pines Episcopal Church\, 316 North Peachtree Parkway\, Peachtree City\, at 6:30 p.m. on Tuesdays and 8:30 a.m. on Saturdays.\nFor information about the Peachtree City meetings\, call Bonita at: 404-234-7545 or Mike at 770-268-1430.\nFor information\, visit standrews316.org/ministries/outreach. \n 
URL:https://thecitizen.com/event/overeaters-anonymous-12-step-program-2022-06-18/2025-08-23/
CATEGORIES:Health
END:VEVENT
BEGIN:VEVENT
DTSTART;TZID=America/New_York:20250823T183000
DTEND;TZID=America/New_York:20250823T193000
DTSTAMP:20260420T022218
CREATED:20250702T225956Z
LAST-MODIFIED:20250702T225956Z
UID:10001870-1755973800-1755977400@thecitizen.com
SUMMARY:Overeaters Anonymous 12-step program
DESCRIPTION:OVEREATERS ANONYMOUS offers a 12-step program of recovery from compulsive eating. Meetings are free.\nOvereaters Anonymous meets twice a week at St. Andrews in the Pines Episcopal Church\, 316 North Peachtree Parkway\, Peachtree City\, at 6:30 p.m. on Tuesdays and 8:30 a.m. on Saturdays.\nFor information about the Peachtree City meetings\, call Bonita at: 404-234-7545 or Mike at 770-268-1430.\nFor information\, visit standrews316.org/ministries/outreach. \n 
URL:https://thecitizen.com/event/overeaters-anonymous-12-step-program-2022-06-18/2025-08-23/
CATEGORIES:Health
END:VEVENT
BEGIN:VEVENT
DTSTART;TZID=America/New_York:20250830T083000
DTEND;TZID=America/New_York:20250830T093000
DTSTAMP:20260420T022218
CREATED:20190830T234559Z
LAST-MODIFIED:20250408T022415Z
UID:10001609-1756542600-1756546200@thecitizen.com
SUMMARY:Overeaters Anonymous 12-step program
DESCRIPTION:OVEREATERS ANONYMOUS offers a 12-step program of recovery from compulsive eating. Meetings are free.\nOvereaters Anonymous meets twice a week at St. Andrews in the Pines Episcopal Church\, 316 North Peachtree Parkway\, Peachtree City\, at 6:30 p.m. on Tuesdays and 8:30 a.m. on Saturdays.\nFor information about the Peachtree City meetings\, call Bonita at: 404-234-7545 or Mike at 770-268-1430.\nFor information\, visit standrews316.org/ministries/outreach. \n 
URL:https://thecitizen.com/event/overeaters-anonymous-12-step-program-2022-06-18/2025-08-30/
CATEGORIES:Health
END:VEVENT
BEGIN:VEVENT
DTSTART;TZID=America/New_York:20250830T183000
DTEND;TZID=America/New_York:20250830T193000
DTSTAMP:20260420T022218
CREATED:20250702T225956Z
LAST-MODIFIED:20250702T225956Z
UID:10001871-1756578600-1756582200@thecitizen.com
SUMMARY:Overeaters Anonymous 12-step program
DESCRIPTION:OVEREATERS ANONYMOUS offers a 12-step program of recovery from compulsive eating. Meetings are free.\nOvereaters Anonymous meets twice a week at St. Andrews in the Pines Episcopal Church\, 316 North Peachtree Parkway\, Peachtree City\, at 6:30 p.m. on Tuesdays and 8:30 a.m. on Saturdays.\nFor information about the Peachtree City meetings\, call Bonita at: 404-234-7545 or Mike at 770-268-1430.\nFor information\, visit standrews316.org/ministries/outreach. \n 
URL:https://thecitizen.com/event/overeaters-anonymous-12-step-program-2022-06-18/2025-08-30/
CATEGORIES:Health
END:VEVENT
BEGIN:VEVENT
DTSTART;TZID=America/New_York:20250906T083000
DTEND;TZID=America/New_York:20250906T093000
DTSTAMP:20260420T022218
CREATED:20190830T234559Z
LAST-MODIFIED:20250408T022415Z
UID:10001610-1757147400-1757151000@thecitizen.com
SUMMARY:Overeaters Anonymous 12-step program
DESCRIPTION:OVEREATERS ANONYMOUS offers a 12-step program of recovery from compulsive eating. Meetings are free.\nOvereaters Anonymous meets twice a week at St. Andrews in the Pines Episcopal Church\, 316 North Peachtree Parkway\, Peachtree City\, at 6:30 p.m. on Tuesdays and 8:30 a.m. on Saturdays.\nFor information about the Peachtree City meetings\, call Bonita at: 404-234-7545 or Mike at 770-268-1430.\nFor information\, visit standrews316.org/ministries/outreach. \n 
URL:https://thecitizen.com/event/overeaters-anonymous-12-step-program-2022-06-18/2025-09-06/
CATEGORIES:Health
END:VEVENT
BEGIN:VEVENT
DTSTART;TZID=America/New_York:20250906T183000
DTEND;TZID=America/New_York:20250906T193000
DTSTAMP:20260420T022218
CREATED:20250702T225956Z
LAST-MODIFIED:20250702T225956Z
UID:10001872-1757183400-1757187000@thecitizen.com
SUMMARY:Overeaters Anonymous 12-step program
DESCRIPTION:OVEREATERS ANONYMOUS offers a 12-step program of recovery from compulsive eating. Meetings are free.\nOvereaters Anonymous meets twice a week at St. Andrews in the Pines Episcopal Church\, 316 North Peachtree Parkway\, Peachtree City\, at 6:30 p.m. on Tuesdays and 8:30 a.m. on Saturdays.\nFor information about the Peachtree City meetings\, call Bonita at: 404-234-7545 or Mike at 770-268-1430.\nFor information\, visit standrews316.org/ministries/outreach. \n 
URL:https://thecitizen.com/event/overeaters-anonymous-12-step-program-2022-06-18/2025-09-06/
CATEGORIES:Health
END:VEVENT
BEGIN:VEVENT
DTSTART;TZID=America/New_York:20250913T083000
DTEND;TZID=America/New_York:20250913T093000
DTSTAMP:20260420T022218
CREATED:20190830T234559Z
LAST-MODIFIED:20250408T022415Z
UID:10001611-1757752200-1757755800@thecitizen.com
SUMMARY:Overeaters Anonymous 12-step program
DESCRIPTION:OVEREATERS ANONYMOUS offers a 12-step program of recovery from compulsive eating. Meetings are free.\nOvereaters Anonymous meets twice a week at St. Andrews in the Pines Episcopal Church\, 316 North Peachtree Parkway\, Peachtree City\, at 6:30 p.m. on Tuesdays and 8:30 a.m. on Saturdays.\nFor information about the Peachtree City meetings\, call Bonita at: 404-234-7545 or Mike at 770-268-1430.\nFor information\, visit standrews316.org/ministries/outreach. \n 
URL:https://thecitizen.com/event/overeaters-anonymous-12-step-program-2022-06-18/2025-09-13/
CATEGORIES:Health
END:VEVENT
BEGIN:VEVENT
DTSTART;TZID=America/New_York:20250913T183000
DTEND;TZID=America/New_York:20250913T193000
DTSTAMP:20260420T022218
CREATED:20250702T225956Z
LAST-MODIFIED:20250702T225956Z
UID:10001873-1757788200-1757791800@thecitizen.com
SUMMARY:Overeaters Anonymous 12-step program
DESCRIPTION:OVEREATERS ANONYMOUS offers a 12-step program of recovery from compulsive eating. Meetings are free.\nOvereaters Anonymous meets twice a week at St. Andrews in the Pines Episcopal Church\, 316 North Peachtree Parkway\, Peachtree City\, at 6:30 p.m. on Tuesdays and 8:30 a.m. on Saturdays.\nFor information about the Peachtree City meetings\, call Bonita at: 404-234-7545 or Mike at 770-268-1430.\nFor information\, visit standrews316.org/ministries/outreach. \n 
URL:https://thecitizen.com/event/overeaters-anonymous-12-step-program-2022-06-18/2025-09-13/
CATEGORIES:Health
END:VEVENT
BEGIN:VEVENT
DTSTART;TZID=America/New_York:20250920T083000
DTEND;TZID=America/New_York:20250920T093000
DTSTAMP:20260420T022218
CREATED:20190830T234559Z
LAST-MODIFIED:20250408T022415Z
UID:10001612-1758357000-1758360600@thecitizen.com
SUMMARY:Overeaters Anonymous 12-step program
DESCRIPTION:OVEREATERS ANONYMOUS offers a 12-step program of recovery from compulsive eating. Meetings are free.\nOvereaters Anonymous meets twice a week at St. Andrews in the Pines Episcopal Church\, 316 North Peachtree Parkway\, Peachtree City\, at 6:30 p.m. on Tuesdays and 8:30 a.m. on Saturdays.\nFor information about the Peachtree City meetings\, call Bonita at: 404-234-7545 or Mike at 770-268-1430.\nFor information\, visit standrews316.org/ministries/outreach. \n 
URL:https://thecitizen.com/event/overeaters-anonymous-12-step-program-2022-06-18/2025-09-20/
CATEGORIES:Health
END:VEVENT
BEGIN:VEVENT
DTSTART;TZID=America/New_York:20250920T183000
DTEND;TZID=America/New_York:20250920T193000
DTSTAMP:20260420T022218
CREATED:20250702T225956Z
LAST-MODIFIED:20250702T225956Z
UID:10001874-1758393000-1758396600@thecitizen.com
SUMMARY:Overeaters Anonymous 12-step program
DESCRIPTION:OVEREATERS ANONYMOUS offers a 12-step program of recovery from compulsive eating. Meetings are free.\nOvereaters Anonymous meets twice a week at St. Andrews in the Pines Episcopal Church\, 316 North Peachtree Parkway\, Peachtree City\, at 6:30 p.m. on Tuesdays and 8:30 a.m. on Saturdays.\nFor information about the Peachtree City meetings\, call Bonita at: 404-234-7545 or Mike at 770-268-1430.\nFor information\, visit standrews316.org/ministries/outreach. \n 
URL:https://thecitizen.com/event/overeaters-anonymous-12-step-program-2022-06-18/2025-09-20/
CATEGORIES:Health
END:VEVENT
BEGIN:VEVENT
DTSTART;TZID=America/New_York:20250927T083000
DTEND;TZID=America/New_York:20250927T093000
DTSTAMP:20260420T022218
CREATED:20190830T234559Z
LAST-MODIFIED:20250408T022415Z
UID:10001613-1758961800-1758965400@thecitizen.com
SUMMARY:Overeaters Anonymous 12-step program
DESCRIPTION:OVEREATERS ANONYMOUS offers a 12-step program of recovery from compulsive eating. Meetings are free.\nOvereaters Anonymous meets twice a week at St. Andrews in the Pines Episcopal Church\, 316 North Peachtree Parkway\, Peachtree City\, at 6:30 p.m. on Tuesdays and 8:30 a.m. on Saturdays.\nFor information about the Peachtree City meetings\, call Bonita at: 404-234-7545 or Mike at 770-268-1430.\nFor information\, visit standrews316.org/ministries/outreach. \n 
URL:https://thecitizen.com/event/overeaters-anonymous-12-step-program-2022-06-18/2025-09-27/
CATEGORIES:Health
END:VEVENT
BEGIN:VEVENT
DTSTART;TZID=America/New_York:20250927T183000
DTEND;TZID=America/New_York:20250927T193000
DTSTAMP:20260420T022218
CREATED:20250702T225956Z
LAST-MODIFIED:20250702T225956Z
UID:10001875-1758997800-1759001400@thecitizen.com
SUMMARY:Overeaters Anonymous 12-step program
DESCRIPTION:OVEREATERS ANONYMOUS offers a 12-step program of recovery from compulsive eating. Meetings are free.\nOvereaters Anonymous meets twice a week at St. Andrews in the Pines Episcopal Church\, 316 North Peachtree Parkway\, Peachtree City\, at 6:30 p.m. on Tuesdays and 8:30 a.m. on Saturdays.\nFor information about the Peachtree City meetings\, call Bonita at: 404-234-7545 or Mike at 770-268-1430.\nFor information\, visit standrews316.org/ministries/outreach. \n 
URL:https://thecitizen.com/event/overeaters-anonymous-12-step-program-2022-06-18/2025-09-27/
CATEGORIES:Health
END:VEVENT
BEGIN:VEVENT
DTSTART;TZID=America/New_York:20251004T083000
DTEND;TZID=America/New_York:20251004T093000
DTSTAMP:20260420T022218
CREATED:20190830T234559Z
LAST-MODIFIED:20250408T022415Z
UID:10001614-1759566600-1759570200@thecitizen.com
SUMMARY:Overeaters Anonymous 12-step program
DESCRIPTION:OVEREATERS ANONYMOUS offers a 12-step program of recovery from compulsive eating. Meetings are free.\nOvereaters Anonymous meets twice a week at St. Andrews in the Pines Episcopal Church\, 316 North Peachtree Parkway\, Peachtree City\, at 6:30 p.m. on Tuesdays and 8:30 a.m. on Saturdays.\nFor information about the Peachtree City meetings\, call Bonita at: 404-234-7545 or Mike at 770-268-1430.\nFor information\, visit standrews316.org/ministries/outreach. \n 
URL:https://thecitizen.com/event/overeaters-anonymous-12-step-program-2022-06-18/2025-10-04/
CATEGORIES:Health
END:VEVENT
BEGIN:VEVENT
DTSTART;TZID=America/New_York:20251004T183000
DTEND;TZID=America/New_York:20251004T193000
DTSTAMP:20260420T022218
CREATED:20250702T225956Z
LAST-MODIFIED:20250702T225956Z
UID:10001876-1759602600-1759606200@thecitizen.com
SUMMARY:Overeaters Anonymous 12-step program
DESCRIPTION:OVEREATERS ANONYMOUS offers a 12-step program of recovery from compulsive eating. Meetings are free.\nOvereaters Anonymous meets twice a week at St. Andrews in the Pines Episcopal Church\, 316 North Peachtree Parkway\, Peachtree City\, at 6:30 p.m. on Tuesdays and 8:30 a.m. on Saturdays.\nFor information about the Peachtree City meetings\, call Bonita at: 404-234-7545 or Mike at 770-268-1430.\nFor information\, visit standrews316.org/ministries/outreach. \n 
URL:https://thecitizen.com/event/overeaters-anonymous-12-step-program-2022-06-18/2025-10-04/
CATEGORIES:Health
END:VEVENT
BEGIN:VEVENT
DTSTART;TZID=America/New_York:20251011T083000
DTEND;TZID=America/New_York:20251011T093000
DTSTAMP:20260420T022218
CREATED:20190830T234559Z
LAST-MODIFIED:20250408T022415Z
UID:10001615-1760171400-1760175000@thecitizen.com
SUMMARY:Overeaters Anonymous 12-step program
DESCRIPTION:OVEREATERS ANONYMOUS offers a 12-step program of recovery from compulsive eating. Meetings are free.\nOvereaters Anonymous meets twice a week at St. Andrews in the Pines Episcopal Church\, 316 North Peachtree Parkway\, Peachtree City\, at 6:30 p.m. on Tuesdays and 8:30 a.m. on Saturdays.\nFor information about the Peachtree City meetings\, call Bonita at: 404-234-7545 or Mike at 770-268-1430.\nFor information\, visit standrews316.org/ministries/outreach. \n 
URL:https://thecitizen.com/event/overeaters-anonymous-12-step-program-2022-06-18/2025-10-11/
CATEGORIES:Health
END:VEVENT
BEGIN:VEVENT
DTSTART;TZID=America/New_York:20251011T183000
DTEND;TZID=America/New_York:20251011T193000
DTSTAMP:20260420T022218
CREATED:20250702T225956Z
LAST-MODIFIED:20250702T225956Z
UID:10001877-1760207400-1760211000@thecitizen.com
SUMMARY:Overeaters Anonymous 12-step program
DESCRIPTION:OVEREATERS ANONYMOUS offers a 12-step program of recovery from compulsive eating. Meetings are free.\nOvereaters Anonymous meets twice a week at St. Andrews in the Pines Episcopal Church\, 316 North Peachtree Parkway\, Peachtree City\, at 6:30 p.m. on Tuesdays and 8:30 a.m. on Saturdays.\nFor information about the Peachtree City meetings\, call Bonita at: 404-234-7545 or Mike at 770-268-1430.\nFor information\, visit standrews316.org/ministries/outreach. \n 
URL:https://thecitizen.com/event/overeaters-anonymous-12-step-program-2022-06-18/2025-10-11/
CATEGORIES:Health
END:VEVENT
BEGIN:VEVENT
DTSTART;TZID=America/New_York:20251018T083000
DTEND;TZID=America/New_York:20251018T093000
DTSTAMP:20260420T022218
CREATED:20190830T234559Z
LAST-MODIFIED:20250408T022415Z
UID:10001616-1760776200-1760779800@thecitizen.com
SUMMARY:Overeaters Anonymous 12-step program
DESCRIPTION:OVEREATERS ANONYMOUS offers a 12-step program of recovery from compulsive eating. Meetings are free.\nOvereaters Anonymous meets twice a week at St. Andrews in the Pines Episcopal Church\, 316 North Peachtree Parkway\, Peachtree City\, at 6:30 p.m. on Tuesdays and 8:30 a.m. on Saturdays.\nFor information about the Peachtree City meetings\, call Bonita at: 404-234-7545 or Mike at 770-268-1430.\nFor information\, visit standrews316.org/ministries/outreach. \n 
URL:https://thecitizen.com/event/overeaters-anonymous-12-step-program-2022-06-18/2025-10-18/
CATEGORIES:Health
END:VEVENT
BEGIN:VEVENT
DTSTART;TZID=America/New_York:20251018T183000
DTEND;TZID=America/New_York:20251018T193000
DTSTAMP:20260420T022218
CREATED:20250702T225956Z
LAST-MODIFIED:20250702T225956Z
UID:10001878-1760812200-1760815800@thecitizen.com
SUMMARY:Overeaters Anonymous 12-step program
DESCRIPTION:OVEREATERS ANONYMOUS offers a 12-step program of recovery from compulsive eating. Meetings are free.\nOvereaters Anonymous meets twice a week at St. Andrews in the Pines Episcopal Church\, 316 North Peachtree Parkway\, Peachtree City\, at 6:30 p.m. on Tuesdays and 8:30 a.m. on Saturdays.\nFor information about the Peachtree City meetings\, call Bonita at: 404-234-7545 or Mike at 770-268-1430.\nFor information\, visit standrews316.org/ministries/outreach. \n 
URL:https://thecitizen.com/event/overeaters-anonymous-12-step-program-2022-06-18/2025-10-18/
CATEGORIES:Health
END:VEVENT
BEGIN:VEVENT
DTSTART;TZID=America/New_York:20251025T083000
DTEND;TZID=America/New_York:20251025T093000
DTSTAMP:20260420T022218
CREATED:20190830T234559Z
LAST-MODIFIED:20250408T022415Z
UID:10001617-1761381000-1761384600@thecitizen.com
SUMMARY:Overeaters Anonymous 12-step program
DESCRIPTION:OVEREATERS ANONYMOUS offers a 12-step program of recovery from compulsive eating. Meetings are free.\nOvereaters Anonymous meets twice a week at St. Andrews in the Pines Episcopal Church\, 316 North Peachtree Parkway\, Peachtree City\, at 6:30 p.m. on Tuesdays and 8:30 a.m. on Saturdays.\nFor information about the Peachtree City meetings\, call Bonita at: 404-234-7545 or Mike at 770-268-1430.\nFor information\, visit standrews316.org/ministries/outreach. \n 
URL:https://thecitizen.com/event/overeaters-anonymous-12-step-program-2022-06-18/2025-10-25/
CATEGORIES:Health
END:VEVENT
BEGIN:VEVENT
DTSTART;TZID=America/New_York:20251025T183000
DTEND;TZID=America/New_York:20251025T193000
DTSTAMP:20260420T022218
CREATED:20250702T225956Z
LAST-MODIFIED:20250702T225956Z
UID:10001879-1761417000-1761420600@thecitizen.com
SUMMARY:Overeaters Anonymous 12-step program
DESCRIPTION:OVEREATERS ANONYMOUS offers a 12-step program of recovery from compulsive eating. Meetings are free.\nOvereaters Anonymous meets twice a week at St. Andrews in the Pines Episcopal Church\, 316 North Peachtree Parkway\, Peachtree City\, at 6:30 p.m. on Tuesdays and 8:30 a.m. on Saturdays.\nFor information about the Peachtree City meetings\, call Bonita at: 404-234-7545 or Mike at 770-268-1430.\nFor information\, visit standrews316.org/ministries/outreach. \n 
URL:https://thecitizen.com/event/overeaters-anonymous-12-step-program-2022-06-18/2025-10-25/
CATEGORIES:Health
END:VEVENT
BEGIN:VEVENT
DTSTART;TZID=America/New_York:20251101T083000
DTEND;TZID=America/New_York:20251101T093000
DTSTAMP:20260420T022218
CREATED:20190830T234559Z
LAST-MODIFIED:20250408T022415Z
UID:10001618-1761985800-1761989400@thecitizen.com
SUMMARY:Overeaters Anonymous 12-step program
DESCRIPTION:OVEREATERS ANONYMOUS offers a 12-step program of recovery from compulsive eating. Meetings are free.\nOvereaters Anonymous meets twice a week at St. Andrews in the Pines Episcopal Church\, 316 North Peachtree Parkway\, Peachtree City\, at 6:30 p.m. on Tuesdays and 8:30 a.m. on Saturdays.\nFor information about the Peachtree City meetings\, call Bonita at: 404-234-7545 or Mike at 770-268-1430.\nFor information\, visit standrews316.org/ministries/outreach. \n 
URL:https://thecitizen.com/event/overeaters-anonymous-12-step-program-2022-06-18/2025-11-01/
CATEGORIES:Health
END:VEVENT
BEGIN:VEVENT
DTSTART;TZID=America/New_York:20251101T183000
DTEND;TZID=America/New_York:20251101T193000
DTSTAMP:20260420T022218
CREATED:20250702T225956Z
LAST-MODIFIED:20250702T225956Z
UID:10001880-1762021800-1762025400@thecitizen.com
SUMMARY:Overeaters Anonymous 12-step program
DESCRIPTION:OVEREATERS ANONYMOUS offers a 12-step program of recovery from compulsive eating. Meetings are free.\nOvereaters Anonymous meets twice a week at St. Andrews in the Pines Episcopal Church\, 316 North Peachtree Parkway\, Peachtree City\, at 6:30 p.m. on Tuesdays and 8:30 a.m. on Saturdays.\nFor information about the Peachtree City meetings\, call Bonita at: 404-234-7545 or Mike at 770-268-1430.\nFor information\, visit standrews316.org/ministries/outreach. \n 
URL:https://thecitizen.com/event/overeaters-anonymous-12-step-program-2022-06-18/2025-11-01/
CATEGORIES:Health
END:VEVENT
END:VCALENDAR