BEGIN:VCALENDAR
VERSION:2.0
PRODID:-//The Citizen - ECPv6.15.20//NONSGML v1.0//EN
CALSCALE:GREGORIAN
METHOD:PUBLISH
X-WR-CALNAME:The Citizen
X-ORIGINAL-URL:https://thecitizen.com
X-WR-CALDESC:Events for The Citizen
REFRESH-INTERVAL;VALUE=DURATION:PT1H
X-Robots-Tag:noindex
X-PUBLISHED-TTL:PT1H
BEGIN:VTIMEZONE
TZID:America/New_York
BEGIN:DAYLIGHT
TZOFFSETFROM:-0500
TZOFFSETTO:-0400
TZNAME:EDT
DTSTART:20230312T070000
END:DAYLIGHT
BEGIN:STANDARD
TZOFFSETFROM:-0400
TZOFFSETTO:-0500
TZNAME:EST
DTSTART:20231105T060000
END:STANDARD
BEGIN:DAYLIGHT
TZOFFSETFROM:-0500
TZOFFSETTO:-0400
TZNAME:EDT
DTSTART:20240310T070000
END:DAYLIGHT
BEGIN:STANDARD
TZOFFSETFROM:-0400
TZOFFSETTO:-0500
TZNAME:EST
DTSTART:20241103T060000
END:STANDARD
BEGIN:DAYLIGHT
TZOFFSETFROM:-0500
TZOFFSETTO:-0400
TZNAME:EDT
DTSTART:20250309T070000
END:DAYLIGHT
BEGIN:STANDARD
TZOFFSETFROM:-0400
TZOFFSETTO:-0500
TZNAME:EST
DTSTART:20251102T060000
END:STANDARD
BEGIN:DAYLIGHT
TZOFFSETFROM:-0500
TZOFFSETTO:-0400
TZNAME:EDT
DTSTART:20260308T070000
END:DAYLIGHT
BEGIN:STANDARD
TZOFFSETFROM:-0400
TZOFFSETTO:-0500
TZNAME:EST
DTSTART:20261101T060000
END:STANDARD
END:VTIMEZONE
BEGIN:VEVENT
DTSTART;TZID=America/New_York:20240928T083000
DTEND;TZID=America/New_York:20240928T093000
DTSTAMP:20260419T182026
CREATED:20190830T234559Z
LAST-MODIFIED:20250408T022415Z
UID:10001561-1727512200-1727515800@thecitizen.com
SUMMARY:Overeaters Anonymous 12-step program
DESCRIPTION:OVEREATERS ANONYMOUS offers a 12-step program of recovery from compulsive eating. Meetings are free.\nOvereaters Anonymous meets twice a week at St. Andrews in the Pines Episcopal Church\, 316 North Peachtree Parkway\, Peachtree City\, at 6:30 p.m. on Tuesdays and 8:30 a.m. on Saturdays.\nFor information about the Peachtree City meetings\, call Bonita at: 404-234-7545 or Mike at 770-268-1430.\nFor information\, visit standrews316.org/ministries/outreach. \n 
URL:https://thecitizen.com/event/overeaters-anonymous-12-step-program-2022-06-18/2024-09-28/
CATEGORIES:Health
END:VEVENT
BEGIN:VEVENT
DTSTART;TZID=America/New_York:20240928T183000
DTEND;TZID=America/New_York:20240928T193000
DTSTAMP:20260419T182026
CREATED:20250702T225956Z
LAST-MODIFIED:20250702T225956Z
UID:10001823-1727548200-1727551800@thecitizen.com
SUMMARY:Overeaters Anonymous 12-step program
DESCRIPTION:OVEREATERS ANONYMOUS offers a 12-step program of recovery from compulsive eating. Meetings are free.\nOvereaters Anonymous meets twice a week at St. Andrews in the Pines Episcopal Church\, 316 North Peachtree Parkway\, Peachtree City\, at 6:30 p.m. on Tuesdays and 8:30 a.m. on Saturdays.\nFor information about the Peachtree City meetings\, call Bonita at: 404-234-7545 or Mike at 770-268-1430.\nFor information\, visit standrews316.org/ministries/outreach. \n 
URL:https://thecitizen.com/event/overeaters-anonymous-12-step-program-2022-06-18/2024-09-28/
CATEGORIES:Health
END:VEVENT
BEGIN:VEVENT
DTSTART;TZID=America/New_York:20241005T083000
DTEND;TZID=America/New_York:20241005T093000
DTSTAMP:20260419T182026
CREATED:20190830T234559Z
LAST-MODIFIED:20250408T022415Z
UID:10001562-1728117000-1728120600@thecitizen.com
SUMMARY:Overeaters Anonymous 12-step program
DESCRIPTION:OVEREATERS ANONYMOUS offers a 12-step program of recovery from compulsive eating. Meetings are free.\nOvereaters Anonymous meets twice a week at St. Andrews in the Pines Episcopal Church\, 316 North Peachtree Parkway\, Peachtree City\, at 6:30 p.m. on Tuesdays and 8:30 a.m. on Saturdays.\nFor information about the Peachtree City meetings\, call Bonita at: 404-234-7545 or Mike at 770-268-1430.\nFor information\, visit standrews316.org/ministries/outreach. \n 
URL:https://thecitizen.com/event/overeaters-anonymous-12-step-program-2022-06-18/2024-10-05/
CATEGORIES:Health
END:VEVENT
BEGIN:VEVENT
DTSTART;TZID=America/New_York:20241005T183000
DTEND;TZID=America/New_York:20241005T193000
DTSTAMP:20260419T182026
CREATED:20250702T225956Z
LAST-MODIFIED:20250702T225956Z
UID:10001824-1728153000-1728156600@thecitizen.com
SUMMARY:Overeaters Anonymous 12-step program
DESCRIPTION:OVEREATERS ANONYMOUS offers a 12-step program of recovery from compulsive eating. Meetings are free.\nOvereaters Anonymous meets twice a week at St. Andrews in the Pines Episcopal Church\, 316 North Peachtree Parkway\, Peachtree City\, at 6:30 p.m. on Tuesdays and 8:30 a.m. on Saturdays.\nFor information about the Peachtree City meetings\, call Bonita at: 404-234-7545 or Mike at 770-268-1430.\nFor information\, visit standrews316.org/ministries/outreach. \n 
URL:https://thecitizen.com/event/overeaters-anonymous-12-step-program-2022-06-18/2024-10-05/
CATEGORIES:Health
END:VEVENT
BEGIN:VEVENT
DTSTART;TZID=America/New_York:20241012T083000
DTEND;TZID=America/New_York:20241012T093000
DTSTAMP:20260419T182026
CREATED:20190830T234559Z
LAST-MODIFIED:20250408T022415Z
UID:10001563-1728721800-1728725400@thecitizen.com
SUMMARY:Overeaters Anonymous 12-step program
DESCRIPTION:OVEREATERS ANONYMOUS offers a 12-step program of recovery from compulsive eating. Meetings are free.\nOvereaters Anonymous meets twice a week at St. Andrews in the Pines Episcopal Church\, 316 North Peachtree Parkway\, Peachtree City\, at 6:30 p.m. on Tuesdays and 8:30 a.m. on Saturdays.\nFor information about the Peachtree City meetings\, call Bonita at: 404-234-7545 or Mike at 770-268-1430.\nFor information\, visit standrews316.org/ministries/outreach. \n 
URL:https://thecitizen.com/event/overeaters-anonymous-12-step-program-2022-06-18/2024-10-12/
CATEGORIES:Health
END:VEVENT
BEGIN:VEVENT
DTSTART;TZID=America/New_York:20241012T183000
DTEND;TZID=America/New_York:20241012T193000
DTSTAMP:20260419T182026
CREATED:20250702T225956Z
LAST-MODIFIED:20250702T225956Z
UID:10001825-1728757800-1728761400@thecitizen.com
SUMMARY:Overeaters Anonymous 12-step program
DESCRIPTION:OVEREATERS ANONYMOUS offers a 12-step program of recovery from compulsive eating. Meetings are free.\nOvereaters Anonymous meets twice a week at St. Andrews in the Pines Episcopal Church\, 316 North Peachtree Parkway\, Peachtree City\, at 6:30 p.m. on Tuesdays and 8:30 a.m. on Saturdays.\nFor information about the Peachtree City meetings\, call Bonita at: 404-234-7545 or Mike at 770-268-1430.\nFor information\, visit standrews316.org/ministries/outreach. \n 
URL:https://thecitizen.com/event/overeaters-anonymous-12-step-program-2022-06-18/2024-10-12/
CATEGORIES:Health
END:VEVENT
BEGIN:VEVENT
DTSTART;TZID=America/New_York:20241019T083000
DTEND;TZID=America/New_York:20241019T093000
DTSTAMP:20260419T182026
CREATED:20190830T234559Z
LAST-MODIFIED:20250408T022415Z
UID:10001564-1729326600-1729330200@thecitizen.com
SUMMARY:Overeaters Anonymous 12-step program
DESCRIPTION:OVEREATERS ANONYMOUS offers a 12-step program of recovery from compulsive eating. Meetings are free.\nOvereaters Anonymous meets twice a week at St. Andrews in the Pines Episcopal Church\, 316 North Peachtree Parkway\, Peachtree City\, at 6:30 p.m. on Tuesdays and 8:30 a.m. on Saturdays.\nFor information about the Peachtree City meetings\, call Bonita at: 404-234-7545 or Mike at 770-268-1430.\nFor information\, visit standrews316.org/ministries/outreach. \n 
URL:https://thecitizen.com/event/overeaters-anonymous-12-step-program-2022-06-18/2024-10-19/
CATEGORIES:Health
END:VEVENT
BEGIN:VEVENT
DTSTART;TZID=America/New_York:20241019T183000
DTEND;TZID=America/New_York:20241019T193000
DTSTAMP:20260419T182026
CREATED:20250702T225956Z
LAST-MODIFIED:20250702T225956Z
UID:10001826-1729362600-1729366200@thecitizen.com
SUMMARY:Overeaters Anonymous 12-step program
DESCRIPTION:OVEREATERS ANONYMOUS offers a 12-step program of recovery from compulsive eating. Meetings are free.\nOvereaters Anonymous meets twice a week at St. Andrews in the Pines Episcopal Church\, 316 North Peachtree Parkway\, Peachtree City\, at 6:30 p.m. on Tuesdays and 8:30 a.m. on Saturdays.\nFor information about the Peachtree City meetings\, call Bonita at: 404-234-7545 or Mike at 770-268-1430.\nFor information\, visit standrews316.org/ministries/outreach. \n 
URL:https://thecitizen.com/event/overeaters-anonymous-12-step-program-2022-06-18/2024-10-19/
CATEGORIES:Health
END:VEVENT
BEGIN:VEVENT
DTSTART;TZID=America/New_York:20241026T083000
DTEND;TZID=America/New_York:20241026T093000
DTSTAMP:20260419T182026
CREATED:20190830T234559Z
LAST-MODIFIED:20250408T022415Z
UID:10001565-1729931400-1729935000@thecitizen.com
SUMMARY:Overeaters Anonymous 12-step program
DESCRIPTION:OVEREATERS ANONYMOUS offers a 12-step program of recovery from compulsive eating. Meetings are free.\nOvereaters Anonymous meets twice a week at St. Andrews in the Pines Episcopal Church\, 316 North Peachtree Parkway\, Peachtree City\, at 6:30 p.m. on Tuesdays and 8:30 a.m. on Saturdays.\nFor information about the Peachtree City meetings\, call Bonita at: 404-234-7545 or Mike at 770-268-1430.\nFor information\, visit standrews316.org/ministries/outreach. \n 
URL:https://thecitizen.com/event/overeaters-anonymous-12-step-program-2022-06-18/2024-10-26/
CATEGORIES:Health
END:VEVENT
BEGIN:VEVENT
DTSTART;TZID=America/New_York:20241026T183000
DTEND;TZID=America/New_York:20241026T193000
DTSTAMP:20260419T182026
CREATED:20250702T225956Z
LAST-MODIFIED:20250702T225956Z
UID:10001827-1729967400-1729971000@thecitizen.com
SUMMARY:Overeaters Anonymous 12-step program
DESCRIPTION:OVEREATERS ANONYMOUS offers a 12-step program of recovery from compulsive eating. Meetings are free.\nOvereaters Anonymous meets twice a week at St. Andrews in the Pines Episcopal Church\, 316 North Peachtree Parkway\, Peachtree City\, at 6:30 p.m. on Tuesdays and 8:30 a.m. on Saturdays.\nFor information about the Peachtree City meetings\, call Bonita at: 404-234-7545 or Mike at 770-268-1430.\nFor information\, visit standrews316.org/ministries/outreach. \n 
URL:https://thecitizen.com/event/overeaters-anonymous-12-step-program-2022-06-18/2024-10-26/
CATEGORIES:Health
END:VEVENT
BEGIN:VEVENT
DTSTART;TZID=America/New_York:20241102T083000
DTEND;TZID=America/New_York:20241102T093000
DTSTAMP:20260419T182026
CREATED:20190830T234559Z
LAST-MODIFIED:20250408T022415Z
UID:10001566-1730536200-1730539800@thecitizen.com
SUMMARY:Overeaters Anonymous 12-step program
DESCRIPTION:OVEREATERS ANONYMOUS offers a 12-step program of recovery from compulsive eating. Meetings are free.\nOvereaters Anonymous meets twice a week at St. Andrews in the Pines Episcopal Church\, 316 North Peachtree Parkway\, Peachtree City\, at 6:30 p.m. on Tuesdays and 8:30 a.m. on Saturdays.\nFor information about the Peachtree City meetings\, call Bonita at: 404-234-7545 or Mike at 770-268-1430.\nFor information\, visit standrews316.org/ministries/outreach. \n 
URL:https://thecitizen.com/event/overeaters-anonymous-12-step-program-2022-06-18/2024-11-02/
CATEGORIES:Health
END:VEVENT
BEGIN:VEVENT
DTSTART;TZID=America/New_York:20241102T183000
DTEND;TZID=America/New_York:20241102T193000
DTSTAMP:20260419T182026
CREATED:20250702T225956Z
LAST-MODIFIED:20250702T225956Z
UID:10001828-1730572200-1730575800@thecitizen.com
SUMMARY:Overeaters Anonymous 12-step program
DESCRIPTION:OVEREATERS ANONYMOUS offers a 12-step program of recovery from compulsive eating. Meetings are free.\nOvereaters Anonymous meets twice a week at St. Andrews in the Pines Episcopal Church\, 316 North Peachtree Parkway\, Peachtree City\, at 6:30 p.m. on Tuesdays and 8:30 a.m. on Saturdays.\nFor information about the Peachtree City meetings\, call Bonita at: 404-234-7545 or Mike at 770-268-1430.\nFor information\, visit standrews316.org/ministries/outreach. \n 
URL:https://thecitizen.com/event/overeaters-anonymous-12-step-program-2022-06-18/2024-11-02/
CATEGORIES:Health
END:VEVENT
BEGIN:VEVENT
DTSTART;TZID=America/New_York:20241109T083000
DTEND;TZID=America/New_York:20241109T093000
DTSTAMP:20260419T182026
CREATED:20190830T234559Z
LAST-MODIFIED:20250408T022415Z
UID:10001567-1731141000-1731144600@thecitizen.com
SUMMARY:Overeaters Anonymous 12-step program
DESCRIPTION:OVEREATERS ANONYMOUS offers a 12-step program of recovery from compulsive eating. Meetings are free.\nOvereaters Anonymous meets twice a week at St. Andrews in the Pines Episcopal Church\, 316 North Peachtree Parkway\, Peachtree City\, at 6:30 p.m. on Tuesdays and 8:30 a.m. on Saturdays.\nFor information about the Peachtree City meetings\, call Bonita at: 404-234-7545 or Mike at 770-268-1430.\nFor information\, visit standrews316.org/ministries/outreach. \n 
URL:https://thecitizen.com/event/overeaters-anonymous-12-step-program-2022-06-18/2024-11-09/
CATEGORIES:Health
END:VEVENT
BEGIN:VEVENT
DTSTART;TZID=America/New_York:20241109T183000
DTEND;TZID=America/New_York:20241109T193000
DTSTAMP:20260419T182026
CREATED:20250702T225956Z
LAST-MODIFIED:20250702T225956Z
UID:10001829-1731177000-1731180600@thecitizen.com
SUMMARY:Overeaters Anonymous 12-step program
DESCRIPTION:OVEREATERS ANONYMOUS offers a 12-step program of recovery from compulsive eating. Meetings are free.\nOvereaters Anonymous meets twice a week at St. Andrews in the Pines Episcopal Church\, 316 North Peachtree Parkway\, Peachtree City\, at 6:30 p.m. on Tuesdays and 8:30 a.m. on Saturdays.\nFor information about the Peachtree City meetings\, call Bonita at: 404-234-7545 or Mike at 770-268-1430.\nFor information\, visit standrews316.org/ministries/outreach. \n 
URL:https://thecitizen.com/event/overeaters-anonymous-12-step-program-2022-06-18/2024-11-09/
CATEGORIES:Health
END:VEVENT
BEGIN:VEVENT
DTSTART;TZID=America/New_York:20241116T083000
DTEND;TZID=America/New_York:20241116T093000
DTSTAMP:20260419T182026
CREATED:20190830T234559Z
LAST-MODIFIED:20250408T022415Z
UID:10001568-1731745800-1731749400@thecitizen.com
SUMMARY:Overeaters Anonymous 12-step program
DESCRIPTION:OVEREATERS ANONYMOUS offers a 12-step program of recovery from compulsive eating. Meetings are free.\nOvereaters Anonymous meets twice a week at St. Andrews in the Pines Episcopal Church\, 316 North Peachtree Parkway\, Peachtree City\, at 6:30 p.m. on Tuesdays and 8:30 a.m. on Saturdays.\nFor information about the Peachtree City meetings\, call Bonita at: 404-234-7545 or Mike at 770-268-1430.\nFor information\, visit standrews316.org/ministries/outreach. \n 
URL:https://thecitizen.com/event/overeaters-anonymous-12-step-program-2022-06-18/2024-11-16/
CATEGORIES:Health
END:VEVENT
BEGIN:VEVENT
DTSTART;TZID=America/New_York:20241116T183000
DTEND;TZID=America/New_York:20241116T193000
DTSTAMP:20260419T182026
CREATED:20250702T225956Z
LAST-MODIFIED:20250702T225956Z
UID:10001830-1731781800-1731785400@thecitizen.com
SUMMARY:Overeaters Anonymous 12-step program
DESCRIPTION:OVEREATERS ANONYMOUS offers a 12-step program of recovery from compulsive eating. Meetings are free.\nOvereaters Anonymous meets twice a week at St. Andrews in the Pines Episcopal Church\, 316 North Peachtree Parkway\, Peachtree City\, at 6:30 p.m. on Tuesdays and 8:30 a.m. on Saturdays.\nFor information about the Peachtree City meetings\, call Bonita at: 404-234-7545 or Mike at 770-268-1430.\nFor information\, visit standrews316.org/ministries/outreach. \n 
URL:https://thecitizen.com/event/overeaters-anonymous-12-step-program-2022-06-18/2024-11-16/
CATEGORIES:Health
END:VEVENT
BEGIN:VEVENT
DTSTART;TZID=America/New_York:20241123T083000
DTEND;TZID=America/New_York:20241123T093000
DTSTAMP:20260419T182026
CREATED:20190830T234559Z
LAST-MODIFIED:20250408T022415Z
UID:10001569-1732350600-1732354200@thecitizen.com
SUMMARY:Overeaters Anonymous 12-step program
DESCRIPTION:OVEREATERS ANONYMOUS offers a 12-step program of recovery from compulsive eating. Meetings are free.\nOvereaters Anonymous meets twice a week at St. Andrews in the Pines Episcopal Church\, 316 North Peachtree Parkway\, Peachtree City\, at 6:30 p.m. on Tuesdays and 8:30 a.m. on Saturdays.\nFor information about the Peachtree City meetings\, call Bonita at: 404-234-7545 or Mike at 770-268-1430.\nFor information\, visit standrews316.org/ministries/outreach. \n 
URL:https://thecitizen.com/event/overeaters-anonymous-12-step-program-2022-06-18/2024-11-23/
CATEGORIES:Health
END:VEVENT
BEGIN:VEVENT
DTSTART;TZID=America/New_York:20241123T183000
DTEND;TZID=America/New_York:20241123T193000
DTSTAMP:20260419T182026
CREATED:20250702T225956Z
LAST-MODIFIED:20250702T225956Z
UID:10001831-1732386600-1732390200@thecitizen.com
SUMMARY:Overeaters Anonymous 12-step program
DESCRIPTION:OVEREATERS ANONYMOUS offers a 12-step program of recovery from compulsive eating. Meetings are free.\nOvereaters Anonymous meets twice a week at St. Andrews in the Pines Episcopal Church\, 316 North Peachtree Parkway\, Peachtree City\, at 6:30 p.m. on Tuesdays and 8:30 a.m. on Saturdays.\nFor information about the Peachtree City meetings\, call Bonita at: 404-234-7545 or Mike at 770-268-1430.\nFor information\, visit standrews316.org/ministries/outreach. \n 
URL:https://thecitizen.com/event/overeaters-anonymous-12-step-program-2022-06-18/2024-11-23/
CATEGORIES:Health
END:VEVENT
BEGIN:VEVENT
DTSTART;TZID=America/New_York:20241130T083000
DTEND;TZID=America/New_York:20241130T093000
DTSTAMP:20260419T182026
CREATED:20190830T234559Z
LAST-MODIFIED:20250408T022415Z
UID:10001570-1732955400-1732959000@thecitizen.com
SUMMARY:Overeaters Anonymous 12-step program
DESCRIPTION:OVEREATERS ANONYMOUS offers a 12-step program of recovery from compulsive eating. Meetings are free.\nOvereaters Anonymous meets twice a week at St. Andrews in the Pines Episcopal Church\, 316 North Peachtree Parkway\, Peachtree City\, at 6:30 p.m. on Tuesdays and 8:30 a.m. on Saturdays.\nFor information about the Peachtree City meetings\, call Bonita at: 404-234-7545 or Mike at 770-268-1430.\nFor information\, visit standrews316.org/ministries/outreach. \n 
URL:https://thecitizen.com/event/overeaters-anonymous-12-step-program-2022-06-18/2024-11-30/
CATEGORIES:Health
END:VEVENT
BEGIN:VEVENT
DTSTART;TZID=America/New_York:20241130T183000
DTEND;TZID=America/New_York:20241130T193000
DTSTAMP:20260419T182026
CREATED:20250702T225956Z
LAST-MODIFIED:20250702T225956Z
UID:10001832-1732991400-1732995000@thecitizen.com
SUMMARY:Overeaters Anonymous 12-step program
DESCRIPTION:OVEREATERS ANONYMOUS offers a 12-step program of recovery from compulsive eating. Meetings are free.\nOvereaters Anonymous meets twice a week at St. Andrews in the Pines Episcopal Church\, 316 North Peachtree Parkway\, Peachtree City\, at 6:30 p.m. on Tuesdays and 8:30 a.m. on Saturdays.\nFor information about the Peachtree City meetings\, call Bonita at: 404-234-7545 or Mike at 770-268-1430.\nFor information\, visit standrews316.org/ministries/outreach. \n 
URL:https://thecitizen.com/event/overeaters-anonymous-12-step-program-2022-06-18/2024-11-30/
CATEGORIES:Health
END:VEVENT
BEGIN:VEVENT
DTSTART;TZID=America/New_York:20241207T083000
DTEND;TZID=America/New_York:20241207T093000
DTSTAMP:20260419T182026
CREATED:20190830T234559Z
LAST-MODIFIED:20250408T022415Z
UID:10001571-1733560200-1733563800@thecitizen.com
SUMMARY:Overeaters Anonymous 12-step program
DESCRIPTION:OVEREATERS ANONYMOUS offers a 12-step program of recovery from compulsive eating. Meetings are free.\nOvereaters Anonymous meets twice a week at St. Andrews in the Pines Episcopal Church\, 316 North Peachtree Parkway\, Peachtree City\, at 6:30 p.m. on Tuesdays and 8:30 a.m. on Saturdays.\nFor information about the Peachtree City meetings\, call Bonita at: 404-234-7545 or Mike at 770-268-1430.\nFor information\, visit standrews316.org/ministries/outreach. \n 
URL:https://thecitizen.com/event/overeaters-anonymous-12-step-program-2022-06-18/2024-12-07/
CATEGORIES:Health
END:VEVENT
BEGIN:VEVENT
DTSTART;TZID=America/New_York:20241207T183000
DTEND;TZID=America/New_York:20241207T193000
DTSTAMP:20260419T182026
CREATED:20250702T225956Z
LAST-MODIFIED:20250702T225956Z
UID:10001833-1733596200-1733599800@thecitizen.com
SUMMARY:Overeaters Anonymous 12-step program
DESCRIPTION:OVEREATERS ANONYMOUS offers a 12-step program of recovery from compulsive eating. Meetings are free.\nOvereaters Anonymous meets twice a week at St. Andrews in the Pines Episcopal Church\, 316 North Peachtree Parkway\, Peachtree City\, at 6:30 p.m. on Tuesdays and 8:30 a.m. on Saturdays.\nFor information about the Peachtree City meetings\, call Bonita at: 404-234-7545 or Mike at 770-268-1430.\nFor information\, visit standrews316.org/ministries/outreach. \n 
URL:https://thecitizen.com/event/overeaters-anonymous-12-step-program-2022-06-18/2024-12-07/
CATEGORIES:Health
END:VEVENT
BEGIN:VEVENT
DTSTART;TZID=America/New_York:20241214T083000
DTEND;TZID=America/New_York:20241214T093000
DTSTAMP:20260419T182026
CREATED:20190830T234559Z
LAST-MODIFIED:20250408T022415Z
UID:10001572-1734165000-1734168600@thecitizen.com
SUMMARY:Overeaters Anonymous 12-step program
DESCRIPTION:OVEREATERS ANONYMOUS offers a 12-step program of recovery from compulsive eating. Meetings are free.\nOvereaters Anonymous meets twice a week at St. Andrews in the Pines Episcopal Church\, 316 North Peachtree Parkway\, Peachtree City\, at 6:30 p.m. on Tuesdays and 8:30 a.m. on Saturdays.\nFor information about the Peachtree City meetings\, call Bonita at: 404-234-7545 or Mike at 770-268-1430.\nFor information\, visit standrews316.org/ministries/outreach. \n 
URL:https://thecitizen.com/event/overeaters-anonymous-12-step-program-2022-06-18/2024-12-14/
CATEGORIES:Health
END:VEVENT
BEGIN:VEVENT
DTSTART;TZID=America/New_York:20241214T183000
DTEND;TZID=America/New_York:20241214T193000
DTSTAMP:20260419T182026
CREATED:20250702T225956Z
LAST-MODIFIED:20250702T225956Z
UID:10001834-1734201000-1734204600@thecitizen.com
SUMMARY:Overeaters Anonymous 12-step program
DESCRIPTION:OVEREATERS ANONYMOUS offers a 12-step program of recovery from compulsive eating. Meetings are free.\nOvereaters Anonymous meets twice a week at St. Andrews in the Pines Episcopal Church\, 316 North Peachtree Parkway\, Peachtree City\, at 6:30 p.m. on Tuesdays and 8:30 a.m. on Saturdays.\nFor information about the Peachtree City meetings\, call Bonita at: 404-234-7545 or Mike at 770-268-1430.\nFor information\, visit standrews316.org/ministries/outreach. \n 
URL:https://thecitizen.com/event/overeaters-anonymous-12-step-program-2022-06-18/2024-12-14/
CATEGORIES:Health
END:VEVENT
BEGIN:VEVENT
DTSTART;TZID=America/New_York:20241221T083000
DTEND;TZID=America/New_York:20241221T093000
DTSTAMP:20260419T182026
CREATED:20190830T234559Z
LAST-MODIFIED:20250408T022415Z
UID:10001573-1734769800-1734773400@thecitizen.com
SUMMARY:Overeaters Anonymous 12-step program
DESCRIPTION:OVEREATERS ANONYMOUS offers a 12-step program of recovery from compulsive eating. Meetings are free.\nOvereaters Anonymous meets twice a week at St. Andrews in the Pines Episcopal Church\, 316 North Peachtree Parkway\, Peachtree City\, at 6:30 p.m. on Tuesdays and 8:30 a.m. on Saturdays.\nFor information about the Peachtree City meetings\, call Bonita at: 404-234-7545 or Mike at 770-268-1430.\nFor information\, visit standrews316.org/ministries/outreach. \n 
URL:https://thecitizen.com/event/overeaters-anonymous-12-step-program-2022-06-18/2024-12-21/
CATEGORIES:Health
END:VEVENT
BEGIN:VEVENT
DTSTART;TZID=America/New_York:20241221T183000
DTEND;TZID=America/New_York:20241221T193000
DTSTAMP:20260419T182026
CREATED:20250702T225956Z
LAST-MODIFIED:20250702T225956Z
UID:10001835-1734805800-1734809400@thecitizen.com
SUMMARY:Overeaters Anonymous 12-step program
DESCRIPTION:OVEREATERS ANONYMOUS offers a 12-step program of recovery from compulsive eating. Meetings are free.\nOvereaters Anonymous meets twice a week at St. Andrews in the Pines Episcopal Church\, 316 North Peachtree Parkway\, Peachtree City\, at 6:30 p.m. on Tuesdays and 8:30 a.m. on Saturdays.\nFor information about the Peachtree City meetings\, call Bonita at: 404-234-7545 or Mike at 770-268-1430.\nFor information\, visit standrews316.org/ministries/outreach. \n 
URL:https://thecitizen.com/event/overeaters-anonymous-12-step-program-2022-06-18/2024-12-21/
CATEGORIES:Health
END:VEVENT
BEGIN:VEVENT
DTSTART;TZID=America/New_York:20241228T083000
DTEND;TZID=America/New_York:20241228T093000
DTSTAMP:20260419T182026
CREATED:20190830T234559Z
LAST-MODIFIED:20250408T022415Z
UID:10001574-1735374600-1735378200@thecitizen.com
SUMMARY:Overeaters Anonymous 12-step program
DESCRIPTION:OVEREATERS ANONYMOUS offers a 12-step program of recovery from compulsive eating. Meetings are free.\nOvereaters Anonymous meets twice a week at St. Andrews in the Pines Episcopal Church\, 316 North Peachtree Parkway\, Peachtree City\, at 6:30 p.m. on Tuesdays and 8:30 a.m. on Saturdays.\nFor information about the Peachtree City meetings\, call Bonita at: 404-234-7545 or Mike at 770-268-1430.\nFor information\, visit standrews316.org/ministries/outreach. \n 
URL:https://thecitizen.com/event/overeaters-anonymous-12-step-program-2022-06-18/2024-12-28/
CATEGORIES:Health
END:VEVENT
BEGIN:VEVENT
DTSTART;TZID=America/New_York:20241228T183000
DTEND;TZID=America/New_York:20241228T193000
DTSTAMP:20260419T182026
CREATED:20250702T225956Z
LAST-MODIFIED:20250702T225956Z
UID:10001836-1735410600-1735414200@thecitizen.com
SUMMARY:Overeaters Anonymous 12-step program
DESCRIPTION:OVEREATERS ANONYMOUS offers a 12-step program of recovery from compulsive eating. Meetings are free.\nOvereaters Anonymous meets twice a week at St. Andrews in the Pines Episcopal Church\, 316 North Peachtree Parkway\, Peachtree City\, at 6:30 p.m. on Tuesdays and 8:30 a.m. on Saturdays.\nFor information about the Peachtree City meetings\, call Bonita at: 404-234-7545 or Mike at 770-268-1430.\nFor information\, visit standrews316.org/ministries/outreach. \n 
URL:https://thecitizen.com/event/overeaters-anonymous-12-step-program-2022-06-18/2024-12-28/
CATEGORIES:Health
END:VEVENT
BEGIN:VEVENT
DTSTART;TZID=America/New_York:20250104T083000
DTEND;TZID=America/New_York:20250104T093000
DTSTAMP:20260419T182026
CREATED:20190830T234559Z
LAST-MODIFIED:20250408T022415Z
UID:10001575-1735979400-1735983000@thecitizen.com
SUMMARY:Overeaters Anonymous 12-step program
DESCRIPTION:OVEREATERS ANONYMOUS offers a 12-step program of recovery from compulsive eating. Meetings are free.\nOvereaters Anonymous meets twice a week at St. Andrews in the Pines Episcopal Church\, 316 North Peachtree Parkway\, Peachtree City\, at 6:30 p.m. on Tuesdays and 8:30 a.m. on Saturdays.\nFor information about the Peachtree City meetings\, call Bonita at: 404-234-7545 or Mike at 770-268-1430.\nFor information\, visit standrews316.org/ministries/outreach. \n 
URL:https://thecitizen.com/event/overeaters-anonymous-12-step-program-2022-06-18/2025-01-04/
CATEGORIES:Health
END:VEVENT
BEGIN:VEVENT
DTSTART;TZID=America/New_York:20250104T183000
DTEND;TZID=America/New_York:20250104T193000
DTSTAMP:20260419T182026
CREATED:20250702T225956Z
LAST-MODIFIED:20250702T225956Z
UID:10001837-1736015400-1736019000@thecitizen.com
SUMMARY:Overeaters Anonymous 12-step program
DESCRIPTION:OVEREATERS ANONYMOUS offers a 12-step program of recovery from compulsive eating. Meetings are free.\nOvereaters Anonymous meets twice a week at St. Andrews in the Pines Episcopal Church\, 316 North Peachtree Parkway\, Peachtree City\, at 6:30 p.m. on Tuesdays and 8:30 a.m. on Saturdays.\nFor information about the Peachtree City meetings\, call Bonita at: 404-234-7545 or Mike at 770-268-1430.\nFor information\, visit standrews316.org/ministries/outreach. \n 
URL:https://thecitizen.com/event/overeaters-anonymous-12-step-program-2022-06-18/2025-01-04/
CATEGORIES:Health
END:VEVENT
END:VCALENDAR