BEGIN:VCALENDAR
VERSION:2.0
PRODID:-//The Citizen - ECPv6.15.20//NONSGML v1.0//EN
CALSCALE:GREGORIAN
METHOD:PUBLISH
X-WR-CALNAME:The Citizen
X-ORIGINAL-URL:https://thecitizen.com
X-WR-CALDESC:Events for The Citizen
REFRESH-INTERVAL;VALUE=DURATION:PT1H
X-Robots-Tag:noindex
X-PUBLISHED-TTL:PT1H
BEGIN:VTIMEZONE
TZID:America/New_York
BEGIN:DAYLIGHT
TZOFFSETFROM:-0500
TZOFFSETTO:-0400
TZNAME:EDT
DTSTART:20230312T070000
END:DAYLIGHT
BEGIN:STANDARD
TZOFFSETFROM:-0400
TZOFFSETTO:-0500
TZNAME:EST
DTSTART:20231105T060000
END:STANDARD
BEGIN:DAYLIGHT
TZOFFSETFROM:-0500
TZOFFSETTO:-0400
TZNAME:EDT
DTSTART:20240310T070000
END:DAYLIGHT
BEGIN:STANDARD
TZOFFSETFROM:-0400
TZOFFSETTO:-0500
TZNAME:EST
DTSTART:20241103T060000
END:STANDARD
BEGIN:DAYLIGHT
TZOFFSETFROM:-0500
TZOFFSETTO:-0400
TZNAME:EDT
DTSTART:20250309T070000
END:DAYLIGHT
BEGIN:STANDARD
TZOFFSETFROM:-0400
TZOFFSETTO:-0500
TZNAME:EST
DTSTART:20251102T060000
END:STANDARD
END:VTIMEZONE
BEGIN:VEVENT
DTSTART;TZID=America/New_York:20240420T083000
DTEND;TZID=America/New_York:20240420T093000
DTSTAMP:20260424T002105
CREATED:20190830T234559Z
LAST-MODIFIED:20250408T022415Z
UID:10001538-1713601800-1713605400@thecitizen.com
SUMMARY:Overeaters Anonymous 12-step program
DESCRIPTION:OVEREATERS ANONYMOUS offers a 12-step program of recovery from compulsive eating. Meetings are free.\nOvereaters Anonymous meets twice a week at St. Andrews in the Pines Episcopal Church\, 316 North Peachtree Parkway\, Peachtree City\, at 6:30 p.m. on Tuesdays and 8:30 a.m. on Saturdays.\nFor information about the Peachtree City meetings\, call Bonita at: 404-234-7545 or Mike at 770-268-1430.\nFor information\, visit standrews316.org/ministries/outreach. \n 
URL:https://thecitizen.com/event/overeaters-anonymous-12-step-program-2022-06-18/2024-04-20/
CATEGORIES:Health
END:VEVENT
BEGIN:VEVENT
DTSTART;TZID=America/New_York:20240420T183000
DTEND;TZID=America/New_York:20240420T193000
DTSTAMP:20260424T002105
CREATED:20250702T225956Z
LAST-MODIFIED:20250702T225956Z
UID:10001800-1713637800-1713641400@thecitizen.com
SUMMARY:Overeaters Anonymous 12-step program
DESCRIPTION:OVEREATERS ANONYMOUS offers a 12-step program of recovery from compulsive eating. Meetings are free.\nOvereaters Anonymous meets twice a week at St. Andrews in the Pines Episcopal Church\, 316 North Peachtree Parkway\, Peachtree City\, at 6:30 p.m. on Tuesdays and 8:30 a.m. on Saturdays.\nFor information about the Peachtree City meetings\, call Bonita at: 404-234-7545 or Mike at 770-268-1430.\nFor information\, visit standrews316.org/ministries/outreach. \n 
URL:https://thecitizen.com/event/overeaters-anonymous-12-step-program-2022-06-18/2024-04-20/
CATEGORIES:Health
END:VEVENT
BEGIN:VEVENT
DTSTART;TZID=America/New_York:20240427T083000
DTEND;TZID=America/New_York:20240427T093000
DTSTAMP:20260424T002105
CREATED:20190830T234559Z
LAST-MODIFIED:20250408T022415Z
UID:10001539-1714206600-1714210200@thecitizen.com
SUMMARY:Overeaters Anonymous 12-step program
DESCRIPTION:OVEREATERS ANONYMOUS offers a 12-step program of recovery from compulsive eating. Meetings are free.\nOvereaters Anonymous meets twice a week at St. Andrews in the Pines Episcopal Church\, 316 North Peachtree Parkway\, Peachtree City\, at 6:30 p.m. on Tuesdays and 8:30 a.m. on Saturdays.\nFor information about the Peachtree City meetings\, call Bonita at: 404-234-7545 or Mike at 770-268-1430.\nFor information\, visit standrews316.org/ministries/outreach. \n 
URL:https://thecitizen.com/event/overeaters-anonymous-12-step-program-2022-06-18/2024-04-27/
CATEGORIES:Health
END:VEVENT
BEGIN:VEVENT
DTSTART;TZID=America/New_York:20240427T183000
DTEND;TZID=America/New_York:20240427T193000
DTSTAMP:20260424T002105
CREATED:20250702T225956Z
LAST-MODIFIED:20250702T225956Z
UID:10001801-1714242600-1714246200@thecitizen.com
SUMMARY:Overeaters Anonymous 12-step program
DESCRIPTION:OVEREATERS ANONYMOUS offers a 12-step program of recovery from compulsive eating. Meetings are free.\nOvereaters Anonymous meets twice a week at St. Andrews in the Pines Episcopal Church\, 316 North Peachtree Parkway\, Peachtree City\, at 6:30 p.m. on Tuesdays and 8:30 a.m. on Saturdays.\nFor information about the Peachtree City meetings\, call Bonita at: 404-234-7545 or Mike at 770-268-1430.\nFor information\, visit standrews316.org/ministries/outreach. \n 
URL:https://thecitizen.com/event/overeaters-anonymous-12-step-program-2022-06-18/2024-04-27/
CATEGORIES:Health
END:VEVENT
BEGIN:VEVENT
DTSTART;TZID=America/New_York:20240504T083000
DTEND;TZID=America/New_York:20240504T093000
DTSTAMP:20260424T002105
CREATED:20190830T234559Z
LAST-MODIFIED:20250408T022415Z
UID:10001540-1714811400-1714815000@thecitizen.com
SUMMARY:Overeaters Anonymous 12-step program
DESCRIPTION:OVEREATERS ANONYMOUS offers a 12-step program of recovery from compulsive eating. Meetings are free.\nOvereaters Anonymous meets twice a week at St. Andrews in the Pines Episcopal Church\, 316 North Peachtree Parkway\, Peachtree City\, at 6:30 p.m. on Tuesdays and 8:30 a.m. on Saturdays.\nFor information about the Peachtree City meetings\, call Bonita at: 404-234-7545 or Mike at 770-268-1430.\nFor information\, visit standrews316.org/ministries/outreach. \n 
URL:https://thecitizen.com/event/overeaters-anonymous-12-step-program-2022-06-18/2024-05-04/
CATEGORIES:Health
END:VEVENT
BEGIN:VEVENT
DTSTART;TZID=America/New_York:20240504T183000
DTEND;TZID=America/New_York:20240504T193000
DTSTAMP:20260424T002105
CREATED:20250702T225956Z
LAST-MODIFIED:20250702T225956Z
UID:10001802-1714847400-1714851000@thecitizen.com
SUMMARY:Overeaters Anonymous 12-step program
DESCRIPTION:OVEREATERS ANONYMOUS offers a 12-step program of recovery from compulsive eating. Meetings are free.\nOvereaters Anonymous meets twice a week at St. Andrews in the Pines Episcopal Church\, 316 North Peachtree Parkway\, Peachtree City\, at 6:30 p.m. on Tuesdays and 8:30 a.m. on Saturdays.\nFor information about the Peachtree City meetings\, call Bonita at: 404-234-7545 or Mike at 770-268-1430.\nFor information\, visit standrews316.org/ministries/outreach. \n 
URL:https://thecitizen.com/event/overeaters-anonymous-12-step-program-2022-06-18/2024-05-04/
CATEGORIES:Health
END:VEVENT
BEGIN:VEVENT
DTSTART;TZID=America/New_York:20240511T083000
DTEND;TZID=America/New_York:20240511T093000
DTSTAMP:20260424T002105
CREATED:20190830T234559Z
LAST-MODIFIED:20250408T022415Z
UID:10001541-1715416200-1715419800@thecitizen.com
SUMMARY:Overeaters Anonymous 12-step program
DESCRIPTION:OVEREATERS ANONYMOUS offers a 12-step program of recovery from compulsive eating. Meetings are free.\nOvereaters Anonymous meets twice a week at St. Andrews in the Pines Episcopal Church\, 316 North Peachtree Parkway\, Peachtree City\, at 6:30 p.m. on Tuesdays and 8:30 a.m. on Saturdays.\nFor information about the Peachtree City meetings\, call Bonita at: 404-234-7545 or Mike at 770-268-1430.\nFor information\, visit standrews316.org/ministries/outreach. \n 
URL:https://thecitizen.com/event/overeaters-anonymous-12-step-program-2022-06-18/2024-05-11/
CATEGORIES:Health
END:VEVENT
BEGIN:VEVENT
DTSTART;TZID=America/New_York:20240511T183000
DTEND;TZID=America/New_York:20240511T193000
DTSTAMP:20260424T002105
CREATED:20250702T225956Z
LAST-MODIFIED:20250702T225956Z
UID:10001803-1715452200-1715455800@thecitizen.com
SUMMARY:Overeaters Anonymous 12-step program
DESCRIPTION:OVEREATERS ANONYMOUS offers a 12-step program of recovery from compulsive eating. Meetings are free.\nOvereaters Anonymous meets twice a week at St. Andrews in the Pines Episcopal Church\, 316 North Peachtree Parkway\, Peachtree City\, at 6:30 p.m. on Tuesdays and 8:30 a.m. on Saturdays.\nFor information about the Peachtree City meetings\, call Bonita at: 404-234-7545 or Mike at 770-268-1430.\nFor information\, visit standrews316.org/ministries/outreach. \n 
URL:https://thecitizen.com/event/overeaters-anonymous-12-step-program-2022-06-18/2024-05-11/
CATEGORIES:Health
END:VEVENT
BEGIN:VEVENT
DTSTART;TZID=America/New_York:20240518T083000
DTEND;TZID=America/New_York:20240518T093000
DTSTAMP:20260424T002105
CREATED:20190830T234559Z
LAST-MODIFIED:20250408T022415Z
UID:10001542-1716021000-1716024600@thecitizen.com
SUMMARY:Overeaters Anonymous 12-step program
DESCRIPTION:OVEREATERS ANONYMOUS offers a 12-step program of recovery from compulsive eating. Meetings are free.\nOvereaters Anonymous meets twice a week at St. Andrews in the Pines Episcopal Church\, 316 North Peachtree Parkway\, Peachtree City\, at 6:30 p.m. on Tuesdays and 8:30 a.m. on Saturdays.\nFor information about the Peachtree City meetings\, call Bonita at: 404-234-7545 or Mike at 770-268-1430.\nFor information\, visit standrews316.org/ministries/outreach. \n 
URL:https://thecitizen.com/event/overeaters-anonymous-12-step-program-2022-06-18/2024-05-18/
CATEGORIES:Health
END:VEVENT
BEGIN:VEVENT
DTSTART;TZID=America/New_York:20240518T183000
DTEND;TZID=America/New_York:20240518T193000
DTSTAMP:20260424T002105
CREATED:20250702T225956Z
LAST-MODIFIED:20250702T225956Z
UID:10001804-1716057000-1716060600@thecitizen.com
SUMMARY:Overeaters Anonymous 12-step program
DESCRIPTION:OVEREATERS ANONYMOUS offers a 12-step program of recovery from compulsive eating. Meetings are free.\nOvereaters Anonymous meets twice a week at St. Andrews in the Pines Episcopal Church\, 316 North Peachtree Parkway\, Peachtree City\, at 6:30 p.m. on Tuesdays and 8:30 a.m. on Saturdays.\nFor information about the Peachtree City meetings\, call Bonita at: 404-234-7545 or Mike at 770-268-1430.\nFor information\, visit standrews316.org/ministries/outreach. \n 
URL:https://thecitizen.com/event/overeaters-anonymous-12-step-program-2022-06-18/2024-05-18/
CATEGORIES:Health
END:VEVENT
BEGIN:VEVENT
DTSTART;TZID=America/New_York:20240525T083000
DTEND;TZID=America/New_York:20240525T093000
DTSTAMP:20260424T002105
CREATED:20190830T234559Z
LAST-MODIFIED:20250408T022415Z
UID:10001543-1716625800-1716629400@thecitizen.com
SUMMARY:Overeaters Anonymous 12-step program
DESCRIPTION:OVEREATERS ANONYMOUS offers a 12-step program of recovery from compulsive eating. Meetings are free.\nOvereaters Anonymous meets twice a week at St. Andrews in the Pines Episcopal Church\, 316 North Peachtree Parkway\, Peachtree City\, at 6:30 p.m. on Tuesdays and 8:30 a.m. on Saturdays.\nFor information about the Peachtree City meetings\, call Bonita at: 404-234-7545 or Mike at 770-268-1430.\nFor information\, visit standrews316.org/ministries/outreach. \n 
URL:https://thecitizen.com/event/overeaters-anonymous-12-step-program-2022-06-18/2024-05-25/
CATEGORIES:Health
END:VEVENT
BEGIN:VEVENT
DTSTART;TZID=America/New_York:20240525T183000
DTEND;TZID=America/New_York:20240525T193000
DTSTAMP:20260424T002105
CREATED:20250702T225956Z
LAST-MODIFIED:20250702T225956Z
UID:10001805-1716661800-1716665400@thecitizen.com
SUMMARY:Overeaters Anonymous 12-step program
DESCRIPTION:OVEREATERS ANONYMOUS offers a 12-step program of recovery from compulsive eating. Meetings are free.\nOvereaters Anonymous meets twice a week at St. Andrews in the Pines Episcopal Church\, 316 North Peachtree Parkway\, Peachtree City\, at 6:30 p.m. on Tuesdays and 8:30 a.m. on Saturdays.\nFor information about the Peachtree City meetings\, call Bonita at: 404-234-7545 or Mike at 770-268-1430.\nFor information\, visit standrews316.org/ministries/outreach. \n 
URL:https://thecitizen.com/event/overeaters-anonymous-12-step-program-2022-06-18/2024-05-25/
CATEGORIES:Health
END:VEVENT
BEGIN:VEVENT
DTSTART;TZID=America/New_York:20240601T083000
DTEND;TZID=America/New_York:20240601T093000
DTSTAMP:20260424T002105
CREATED:20190830T234559Z
LAST-MODIFIED:20250408T022415Z
UID:10001544-1717230600-1717234200@thecitizen.com
SUMMARY:Overeaters Anonymous 12-step program
DESCRIPTION:OVEREATERS ANONYMOUS offers a 12-step program of recovery from compulsive eating. Meetings are free.\nOvereaters Anonymous meets twice a week at St. Andrews in the Pines Episcopal Church\, 316 North Peachtree Parkway\, Peachtree City\, at 6:30 p.m. on Tuesdays and 8:30 a.m. on Saturdays.\nFor information about the Peachtree City meetings\, call Bonita at: 404-234-7545 or Mike at 770-268-1430.\nFor information\, visit standrews316.org/ministries/outreach. \n 
URL:https://thecitizen.com/event/overeaters-anonymous-12-step-program-2022-06-18/2024-06-01/
CATEGORIES:Health
END:VEVENT
BEGIN:VEVENT
DTSTART;TZID=America/New_York:20240601T183000
DTEND;TZID=America/New_York:20240601T193000
DTSTAMP:20260424T002105
CREATED:20250702T225956Z
LAST-MODIFIED:20250702T225956Z
UID:10001806-1717266600-1717270200@thecitizen.com
SUMMARY:Overeaters Anonymous 12-step program
DESCRIPTION:OVEREATERS ANONYMOUS offers a 12-step program of recovery from compulsive eating. Meetings are free.\nOvereaters Anonymous meets twice a week at St. Andrews in the Pines Episcopal Church\, 316 North Peachtree Parkway\, Peachtree City\, at 6:30 p.m. on Tuesdays and 8:30 a.m. on Saturdays.\nFor information about the Peachtree City meetings\, call Bonita at: 404-234-7545 or Mike at 770-268-1430.\nFor information\, visit standrews316.org/ministries/outreach. \n 
URL:https://thecitizen.com/event/overeaters-anonymous-12-step-program-2022-06-18/2024-06-01/
CATEGORIES:Health
END:VEVENT
BEGIN:VEVENT
DTSTART;TZID=America/New_York:20240608T083000
DTEND;TZID=America/New_York:20240608T093000
DTSTAMP:20260424T002105
CREATED:20190830T234559Z
LAST-MODIFIED:20250408T022415Z
UID:10001545-1717835400-1717839000@thecitizen.com
SUMMARY:Overeaters Anonymous 12-step program
DESCRIPTION:OVEREATERS ANONYMOUS offers a 12-step program of recovery from compulsive eating. Meetings are free.\nOvereaters Anonymous meets twice a week at St. Andrews in the Pines Episcopal Church\, 316 North Peachtree Parkway\, Peachtree City\, at 6:30 p.m. on Tuesdays and 8:30 a.m. on Saturdays.\nFor information about the Peachtree City meetings\, call Bonita at: 404-234-7545 or Mike at 770-268-1430.\nFor information\, visit standrews316.org/ministries/outreach. \n 
URL:https://thecitizen.com/event/overeaters-anonymous-12-step-program-2022-06-18/2024-06-08/
CATEGORIES:Health
END:VEVENT
BEGIN:VEVENT
DTSTART;TZID=America/New_York:20240608T183000
DTEND;TZID=America/New_York:20240608T193000
DTSTAMP:20260424T002105
CREATED:20250702T225956Z
LAST-MODIFIED:20250702T225956Z
UID:10001807-1717871400-1717875000@thecitizen.com
SUMMARY:Overeaters Anonymous 12-step program
DESCRIPTION:OVEREATERS ANONYMOUS offers a 12-step program of recovery from compulsive eating. Meetings are free.\nOvereaters Anonymous meets twice a week at St. Andrews in the Pines Episcopal Church\, 316 North Peachtree Parkway\, Peachtree City\, at 6:30 p.m. on Tuesdays and 8:30 a.m. on Saturdays.\nFor information about the Peachtree City meetings\, call Bonita at: 404-234-7545 or Mike at 770-268-1430.\nFor information\, visit standrews316.org/ministries/outreach. \n 
URL:https://thecitizen.com/event/overeaters-anonymous-12-step-program-2022-06-18/2024-06-08/
CATEGORIES:Health
END:VEVENT
BEGIN:VEVENT
DTSTART;TZID=America/New_York:20240615T083000
DTEND;TZID=America/New_York:20240615T093000
DTSTAMP:20260424T002105
CREATED:20190830T234559Z
LAST-MODIFIED:20250408T022415Z
UID:10001546-1718440200-1718443800@thecitizen.com
SUMMARY:Overeaters Anonymous 12-step program
DESCRIPTION:OVEREATERS ANONYMOUS offers a 12-step program of recovery from compulsive eating. Meetings are free.\nOvereaters Anonymous meets twice a week at St. Andrews in the Pines Episcopal Church\, 316 North Peachtree Parkway\, Peachtree City\, at 6:30 p.m. on Tuesdays and 8:30 a.m. on Saturdays.\nFor information about the Peachtree City meetings\, call Bonita at: 404-234-7545 or Mike at 770-268-1430.\nFor information\, visit standrews316.org/ministries/outreach. \n 
URL:https://thecitizen.com/event/overeaters-anonymous-12-step-program-2022-06-18/2024-06-15/
CATEGORIES:Health
END:VEVENT
BEGIN:VEVENT
DTSTART;TZID=America/New_York:20240615T183000
DTEND;TZID=America/New_York:20240615T193000
DTSTAMP:20260424T002105
CREATED:20250702T225956Z
LAST-MODIFIED:20250702T225956Z
UID:10001808-1718476200-1718479800@thecitizen.com
SUMMARY:Overeaters Anonymous 12-step program
DESCRIPTION:OVEREATERS ANONYMOUS offers a 12-step program of recovery from compulsive eating. Meetings are free.\nOvereaters Anonymous meets twice a week at St. Andrews in the Pines Episcopal Church\, 316 North Peachtree Parkway\, Peachtree City\, at 6:30 p.m. on Tuesdays and 8:30 a.m. on Saturdays.\nFor information about the Peachtree City meetings\, call Bonita at: 404-234-7545 or Mike at 770-268-1430.\nFor information\, visit standrews316.org/ministries/outreach. \n 
URL:https://thecitizen.com/event/overeaters-anonymous-12-step-program-2022-06-18/2024-06-15/
CATEGORIES:Health
END:VEVENT
BEGIN:VEVENT
DTSTART;TZID=America/New_York:20240622T083000
DTEND;TZID=America/New_York:20240622T093000
DTSTAMP:20260424T002105
CREATED:20190830T234559Z
LAST-MODIFIED:20250408T022415Z
UID:10001547-1719045000-1719048600@thecitizen.com
SUMMARY:Overeaters Anonymous 12-step program
DESCRIPTION:OVEREATERS ANONYMOUS offers a 12-step program of recovery from compulsive eating. Meetings are free.\nOvereaters Anonymous meets twice a week at St. Andrews in the Pines Episcopal Church\, 316 North Peachtree Parkway\, Peachtree City\, at 6:30 p.m. on Tuesdays and 8:30 a.m. on Saturdays.\nFor information about the Peachtree City meetings\, call Bonita at: 404-234-7545 or Mike at 770-268-1430.\nFor information\, visit standrews316.org/ministries/outreach. \n 
URL:https://thecitizen.com/event/overeaters-anonymous-12-step-program-2022-06-18/2024-06-22/
CATEGORIES:Health
END:VEVENT
BEGIN:VEVENT
DTSTART;TZID=America/New_York:20240622T183000
DTEND;TZID=America/New_York:20240622T193000
DTSTAMP:20260424T002105
CREATED:20250702T225956Z
LAST-MODIFIED:20250702T225956Z
UID:10001809-1719081000-1719084600@thecitizen.com
SUMMARY:Overeaters Anonymous 12-step program
DESCRIPTION:OVEREATERS ANONYMOUS offers a 12-step program of recovery from compulsive eating. Meetings are free.\nOvereaters Anonymous meets twice a week at St. Andrews in the Pines Episcopal Church\, 316 North Peachtree Parkway\, Peachtree City\, at 6:30 p.m. on Tuesdays and 8:30 a.m. on Saturdays.\nFor information about the Peachtree City meetings\, call Bonita at: 404-234-7545 or Mike at 770-268-1430.\nFor information\, visit standrews316.org/ministries/outreach. \n 
URL:https://thecitizen.com/event/overeaters-anonymous-12-step-program-2022-06-18/2024-06-22/
CATEGORIES:Health
END:VEVENT
BEGIN:VEVENT
DTSTART;TZID=America/New_York:20240629T083000
DTEND;TZID=America/New_York:20240629T093000
DTSTAMP:20260424T002105
CREATED:20190830T234559Z
LAST-MODIFIED:20250408T022415Z
UID:10001548-1719649800-1719653400@thecitizen.com
SUMMARY:Overeaters Anonymous 12-step program
DESCRIPTION:OVEREATERS ANONYMOUS offers a 12-step program of recovery from compulsive eating. Meetings are free.\nOvereaters Anonymous meets twice a week at St. Andrews in the Pines Episcopal Church\, 316 North Peachtree Parkway\, Peachtree City\, at 6:30 p.m. on Tuesdays and 8:30 a.m. on Saturdays.\nFor information about the Peachtree City meetings\, call Bonita at: 404-234-7545 or Mike at 770-268-1430.\nFor information\, visit standrews316.org/ministries/outreach. \n 
URL:https://thecitizen.com/event/overeaters-anonymous-12-step-program-2022-06-18/2024-06-29/
CATEGORIES:Health
END:VEVENT
BEGIN:VEVENT
DTSTART;TZID=America/New_York:20240629T183000
DTEND;TZID=America/New_York:20240629T193000
DTSTAMP:20260424T002105
CREATED:20250702T225956Z
LAST-MODIFIED:20250702T225956Z
UID:10001810-1719685800-1719689400@thecitizen.com
SUMMARY:Overeaters Anonymous 12-step program
DESCRIPTION:OVEREATERS ANONYMOUS offers a 12-step program of recovery from compulsive eating. Meetings are free.\nOvereaters Anonymous meets twice a week at St. Andrews in the Pines Episcopal Church\, 316 North Peachtree Parkway\, Peachtree City\, at 6:30 p.m. on Tuesdays and 8:30 a.m. on Saturdays.\nFor information about the Peachtree City meetings\, call Bonita at: 404-234-7545 or Mike at 770-268-1430.\nFor information\, visit standrews316.org/ministries/outreach. \n 
URL:https://thecitizen.com/event/overeaters-anonymous-12-step-program-2022-06-18/2024-06-29/
CATEGORIES:Health
END:VEVENT
BEGIN:VEVENT
DTSTART;TZID=America/New_York:20240706T083000
DTEND;TZID=America/New_York:20240706T093000
DTSTAMP:20260424T002105
CREATED:20190830T234559Z
LAST-MODIFIED:20250408T022415Z
UID:10001549-1720254600-1720258200@thecitizen.com
SUMMARY:Overeaters Anonymous 12-step program
DESCRIPTION:OVEREATERS ANONYMOUS offers a 12-step program of recovery from compulsive eating. Meetings are free.\nOvereaters Anonymous meets twice a week at St. Andrews in the Pines Episcopal Church\, 316 North Peachtree Parkway\, Peachtree City\, at 6:30 p.m. on Tuesdays and 8:30 a.m. on Saturdays.\nFor information about the Peachtree City meetings\, call Bonita at: 404-234-7545 or Mike at 770-268-1430.\nFor information\, visit standrews316.org/ministries/outreach. \n 
URL:https://thecitizen.com/event/overeaters-anonymous-12-step-program-2022-06-18/2024-07-06/
CATEGORIES:Health
END:VEVENT
BEGIN:VEVENT
DTSTART;TZID=America/New_York:20240706T183000
DTEND;TZID=America/New_York:20240706T193000
DTSTAMP:20260424T002105
CREATED:20250702T225956Z
LAST-MODIFIED:20250702T225956Z
UID:10001811-1720290600-1720294200@thecitizen.com
SUMMARY:Overeaters Anonymous 12-step program
DESCRIPTION:OVEREATERS ANONYMOUS offers a 12-step program of recovery from compulsive eating. Meetings are free.\nOvereaters Anonymous meets twice a week at St. Andrews in the Pines Episcopal Church\, 316 North Peachtree Parkway\, Peachtree City\, at 6:30 p.m. on Tuesdays and 8:30 a.m. on Saturdays.\nFor information about the Peachtree City meetings\, call Bonita at: 404-234-7545 or Mike at 770-268-1430.\nFor information\, visit standrews316.org/ministries/outreach. \n 
URL:https://thecitizen.com/event/overeaters-anonymous-12-step-program-2022-06-18/2024-07-06/
CATEGORIES:Health
END:VEVENT
BEGIN:VEVENT
DTSTART;TZID=America/New_York:20240713T083000
DTEND;TZID=America/New_York:20240713T093000
DTSTAMP:20260424T002105
CREATED:20190830T234559Z
LAST-MODIFIED:20250408T022415Z
UID:10001550-1720859400-1720863000@thecitizen.com
SUMMARY:Overeaters Anonymous 12-step program
DESCRIPTION:OVEREATERS ANONYMOUS offers a 12-step program of recovery from compulsive eating. Meetings are free.\nOvereaters Anonymous meets twice a week at St. Andrews in the Pines Episcopal Church\, 316 North Peachtree Parkway\, Peachtree City\, at 6:30 p.m. on Tuesdays and 8:30 a.m. on Saturdays.\nFor information about the Peachtree City meetings\, call Bonita at: 404-234-7545 or Mike at 770-268-1430.\nFor information\, visit standrews316.org/ministries/outreach. \n 
URL:https://thecitizen.com/event/overeaters-anonymous-12-step-program-2022-06-18/2024-07-13/
CATEGORIES:Health
END:VEVENT
BEGIN:VEVENT
DTSTART;TZID=America/New_York:20240713T183000
DTEND;TZID=America/New_York:20240713T193000
DTSTAMP:20260424T002105
CREATED:20250702T225956Z
LAST-MODIFIED:20250702T225956Z
UID:10001812-1720895400-1720899000@thecitizen.com
SUMMARY:Overeaters Anonymous 12-step program
DESCRIPTION:OVEREATERS ANONYMOUS offers a 12-step program of recovery from compulsive eating. Meetings are free.\nOvereaters Anonymous meets twice a week at St. Andrews in the Pines Episcopal Church\, 316 North Peachtree Parkway\, Peachtree City\, at 6:30 p.m. on Tuesdays and 8:30 a.m. on Saturdays.\nFor information about the Peachtree City meetings\, call Bonita at: 404-234-7545 or Mike at 770-268-1430.\nFor information\, visit standrews316.org/ministries/outreach. \n 
URL:https://thecitizen.com/event/overeaters-anonymous-12-step-program-2022-06-18/2024-07-13/
CATEGORIES:Health
END:VEVENT
BEGIN:VEVENT
DTSTART;TZID=America/New_York:20240720T083000
DTEND;TZID=America/New_York:20240720T093000
DTSTAMP:20260424T002105
CREATED:20190830T234559Z
LAST-MODIFIED:20250408T022415Z
UID:10001551-1721464200-1721467800@thecitizen.com
SUMMARY:Overeaters Anonymous 12-step program
DESCRIPTION:OVEREATERS ANONYMOUS offers a 12-step program of recovery from compulsive eating. Meetings are free.\nOvereaters Anonymous meets twice a week at St. Andrews in the Pines Episcopal Church\, 316 North Peachtree Parkway\, Peachtree City\, at 6:30 p.m. on Tuesdays and 8:30 a.m. on Saturdays.\nFor information about the Peachtree City meetings\, call Bonita at: 404-234-7545 or Mike at 770-268-1430.\nFor information\, visit standrews316.org/ministries/outreach. \n 
URL:https://thecitizen.com/event/overeaters-anonymous-12-step-program-2022-06-18/2024-07-20/
CATEGORIES:Health
END:VEVENT
BEGIN:VEVENT
DTSTART;TZID=America/New_York:20240720T183000
DTEND;TZID=America/New_York:20240720T193000
DTSTAMP:20260424T002105
CREATED:20250702T225956Z
LAST-MODIFIED:20250702T225956Z
UID:10001813-1721500200-1721503800@thecitizen.com
SUMMARY:Overeaters Anonymous 12-step program
DESCRIPTION:OVEREATERS ANONYMOUS offers a 12-step program of recovery from compulsive eating. Meetings are free.\nOvereaters Anonymous meets twice a week at St. Andrews in the Pines Episcopal Church\, 316 North Peachtree Parkway\, Peachtree City\, at 6:30 p.m. on Tuesdays and 8:30 a.m. on Saturdays.\nFor information about the Peachtree City meetings\, call Bonita at: 404-234-7545 or Mike at 770-268-1430.\nFor information\, visit standrews316.org/ministries/outreach. \n 
URL:https://thecitizen.com/event/overeaters-anonymous-12-step-program-2022-06-18/2024-07-20/
CATEGORIES:Health
END:VEVENT
BEGIN:VEVENT
DTSTART;TZID=America/New_York:20240727T083000
DTEND;TZID=America/New_York:20240727T093000
DTSTAMP:20260424T002105
CREATED:20190830T234559Z
LAST-MODIFIED:20250408T022415Z
UID:10001552-1722069000-1722072600@thecitizen.com
SUMMARY:Overeaters Anonymous 12-step program
DESCRIPTION:OVEREATERS ANONYMOUS offers a 12-step program of recovery from compulsive eating. Meetings are free.\nOvereaters Anonymous meets twice a week at St. Andrews in the Pines Episcopal Church\, 316 North Peachtree Parkway\, Peachtree City\, at 6:30 p.m. on Tuesdays and 8:30 a.m. on Saturdays.\nFor information about the Peachtree City meetings\, call Bonita at: 404-234-7545 or Mike at 770-268-1430.\nFor information\, visit standrews316.org/ministries/outreach. \n 
URL:https://thecitizen.com/event/overeaters-anonymous-12-step-program-2022-06-18/2024-07-27/
CATEGORIES:Health
END:VEVENT
BEGIN:VEVENT
DTSTART;TZID=America/New_York:20240727T183000
DTEND;TZID=America/New_York:20240727T193000
DTSTAMP:20260424T002105
CREATED:20250702T225956Z
LAST-MODIFIED:20250702T225956Z
UID:10001814-1722105000-1722108600@thecitizen.com
SUMMARY:Overeaters Anonymous 12-step program
DESCRIPTION:OVEREATERS ANONYMOUS offers a 12-step program of recovery from compulsive eating. Meetings are free.\nOvereaters Anonymous meets twice a week at St. Andrews in the Pines Episcopal Church\, 316 North Peachtree Parkway\, Peachtree City\, at 6:30 p.m. on Tuesdays and 8:30 a.m. on Saturdays.\nFor information about the Peachtree City meetings\, call Bonita at: 404-234-7545 or Mike at 770-268-1430.\nFor information\, visit standrews316.org/ministries/outreach. \n 
URL:https://thecitizen.com/event/overeaters-anonymous-12-step-program-2022-06-18/2024-07-27/
CATEGORIES:Health
END:VEVENT
END:VCALENDAR