BEGIN:VCALENDAR
VERSION:2.0
PRODID:-//The Citizen - ECPv6.15.20//NONSGML v1.0//EN
CALSCALE:GREGORIAN
METHOD:PUBLISH
X-WR-CALNAME:The Citizen
X-ORIGINAL-URL:https://thecitizen.com
X-WR-CALDESC:Events for The Citizen
REFRESH-INTERVAL;VALUE=DURATION:PT1H
X-Robots-Tag:noindex
X-PUBLISHED-TTL:PT1H
BEGIN:VTIMEZONE
TZID:America/New_York
BEGIN:DAYLIGHT
TZOFFSETFROM:-0500
TZOFFSETTO:-0400
TZNAME:EDT
DTSTART:20220313T070000
END:DAYLIGHT
BEGIN:STANDARD
TZOFFSETFROM:-0400
TZOFFSETTO:-0500
TZNAME:EST
DTSTART:20221106T060000
END:STANDARD
BEGIN:DAYLIGHT
TZOFFSETFROM:-0500
TZOFFSETTO:-0400
TZNAME:EDT
DTSTART:20230312T070000
END:DAYLIGHT
BEGIN:STANDARD
TZOFFSETFROM:-0400
TZOFFSETTO:-0500
TZNAME:EST
DTSTART:20231105T060000
END:STANDARD
BEGIN:DAYLIGHT
TZOFFSETFROM:-0500
TZOFFSETTO:-0400
TZNAME:EDT
DTSTART:20240310T070000
END:DAYLIGHT
BEGIN:STANDARD
TZOFFSETFROM:-0400
TZOFFSETTO:-0500
TZNAME:EST
DTSTART:20241103T060000
END:STANDARD
END:VTIMEZONE
BEGIN:VEVENT
DTSTART;TZID=America/New_York:20230610T083000
DTEND;TZID=America/New_York:20230610T093000
DTSTAMP:20260425T235839
CREATED:20190830T234559Z
LAST-MODIFIED:20250408T022415Z
UID:10001493-1686385800-1686389400@thecitizen.com
SUMMARY:Overeaters Anonymous 12-step program
DESCRIPTION:OVEREATERS ANONYMOUS offers a 12-step program of recovery from compulsive eating. Meetings are free.\nOvereaters Anonymous meets twice a week at St. Andrews in the Pines Episcopal Church\, 316 North Peachtree Parkway\, Peachtree City\, at 6:30 p.m. on Tuesdays and 8:30 a.m. on Saturdays.\nFor information about the Peachtree City meetings\, call Bonita at: 404-234-7545 or Mike at 770-268-1430.\nFor information\, visit standrews316.org/ministries/outreach. \n 
URL:https://thecitizen.com/event/overeaters-anonymous-12-step-program-2022-06-18/2023-06-10/
CATEGORIES:Health
END:VEVENT
BEGIN:VEVENT
DTSTART;TZID=America/New_York:20230610T183000
DTEND;TZID=America/New_York:20230610T193000
DTSTAMP:20260425T235839
CREATED:20250702T225956Z
LAST-MODIFIED:20250702T225956Z
UID:10001755-1686421800-1686425400@thecitizen.com
SUMMARY:Overeaters Anonymous 12-step program
DESCRIPTION:OVEREATERS ANONYMOUS offers a 12-step program of recovery from compulsive eating. Meetings are free.\nOvereaters Anonymous meets twice a week at St. Andrews in the Pines Episcopal Church\, 316 North Peachtree Parkway\, Peachtree City\, at 6:30 p.m. on Tuesdays and 8:30 a.m. on Saturdays.\nFor information about the Peachtree City meetings\, call Bonita at: 404-234-7545 or Mike at 770-268-1430.\nFor information\, visit standrews316.org/ministries/outreach. \n 
URL:https://thecitizen.com/event/overeaters-anonymous-12-step-program-2022-06-18/2023-06-10/
CATEGORIES:Health
END:VEVENT
BEGIN:VEVENT
DTSTART;TZID=America/New_York:20230617T083000
DTEND;TZID=America/New_York:20230617T093000
DTSTAMP:20260425T235839
CREATED:20190830T234559Z
LAST-MODIFIED:20250408T022415Z
UID:10001494-1686990600-1686994200@thecitizen.com
SUMMARY:Overeaters Anonymous 12-step program
DESCRIPTION:OVEREATERS ANONYMOUS offers a 12-step program of recovery from compulsive eating. Meetings are free.\nOvereaters Anonymous meets twice a week at St. Andrews in the Pines Episcopal Church\, 316 North Peachtree Parkway\, Peachtree City\, at 6:30 p.m. on Tuesdays and 8:30 a.m. on Saturdays.\nFor information about the Peachtree City meetings\, call Bonita at: 404-234-7545 or Mike at 770-268-1430.\nFor information\, visit standrews316.org/ministries/outreach. \n 
URL:https://thecitizen.com/event/overeaters-anonymous-12-step-program-2022-06-18/2023-06-17/
CATEGORIES:Health
END:VEVENT
BEGIN:VEVENT
DTSTART;TZID=America/New_York:20230617T183000
DTEND;TZID=America/New_York:20230617T193000
DTSTAMP:20260425T235839
CREATED:20250702T225956Z
LAST-MODIFIED:20250702T225956Z
UID:10001756-1687026600-1687030200@thecitizen.com
SUMMARY:Overeaters Anonymous 12-step program
DESCRIPTION:OVEREATERS ANONYMOUS offers a 12-step program of recovery from compulsive eating. Meetings are free.\nOvereaters Anonymous meets twice a week at St. Andrews in the Pines Episcopal Church\, 316 North Peachtree Parkway\, Peachtree City\, at 6:30 p.m. on Tuesdays and 8:30 a.m. on Saturdays.\nFor information about the Peachtree City meetings\, call Bonita at: 404-234-7545 or Mike at 770-268-1430.\nFor information\, visit standrews316.org/ministries/outreach. \n 
URL:https://thecitizen.com/event/overeaters-anonymous-12-step-program-2022-06-18/2023-06-17/
CATEGORIES:Health
END:VEVENT
BEGIN:VEVENT
DTSTART;TZID=America/New_York:20230624T083000
DTEND;TZID=America/New_York:20230624T093000
DTSTAMP:20260425T235839
CREATED:20190830T234559Z
LAST-MODIFIED:20250408T022415Z
UID:10001495-1687595400-1687599000@thecitizen.com
SUMMARY:Overeaters Anonymous 12-step program
DESCRIPTION:OVEREATERS ANONYMOUS offers a 12-step program of recovery from compulsive eating. Meetings are free.\nOvereaters Anonymous meets twice a week at St. Andrews in the Pines Episcopal Church\, 316 North Peachtree Parkway\, Peachtree City\, at 6:30 p.m. on Tuesdays and 8:30 a.m. on Saturdays.\nFor information about the Peachtree City meetings\, call Bonita at: 404-234-7545 or Mike at 770-268-1430.\nFor information\, visit standrews316.org/ministries/outreach. \n 
URL:https://thecitizen.com/event/overeaters-anonymous-12-step-program-2022-06-18/2023-06-24/
CATEGORIES:Health
END:VEVENT
BEGIN:VEVENT
DTSTART;TZID=America/New_York:20230624T183000
DTEND;TZID=America/New_York:20230624T193000
DTSTAMP:20260425T235839
CREATED:20250702T225956Z
LAST-MODIFIED:20250702T225956Z
UID:10001757-1687631400-1687635000@thecitizen.com
SUMMARY:Overeaters Anonymous 12-step program
DESCRIPTION:OVEREATERS ANONYMOUS offers a 12-step program of recovery from compulsive eating. Meetings are free.\nOvereaters Anonymous meets twice a week at St. Andrews in the Pines Episcopal Church\, 316 North Peachtree Parkway\, Peachtree City\, at 6:30 p.m. on Tuesdays and 8:30 a.m. on Saturdays.\nFor information about the Peachtree City meetings\, call Bonita at: 404-234-7545 or Mike at 770-268-1430.\nFor information\, visit standrews316.org/ministries/outreach. \n 
URL:https://thecitizen.com/event/overeaters-anonymous-12-step-program-2022-06-18/2023-06-24/
CATEGORIES:Health
END:VEVENT
BEGIN:VEVENT
DTSTART;TZID=America/New_York:20230701T083000
DTEND;TZID=America/New_York:20230701T093000
DTSTAMP:20260425T235839
CREATED:20190830T234559Z
LAST-MODIFIED:20250408T022415Z
UID:10001496-1688200200-1688203800@thecitizen.com
SUMMARY:Overeaters Anonymous 12-step program
DESCRIPTION:OVEREATERS ANONYMOUS offers a 12-step program of recovery from compulsive eating. Meetings are free.\nOvereaters Anonymous meets twice a week at St. Andrews in the Pines Episcopal Church\, 316 North Peachtree Parkway\, Peachtree City\, at 6:30 p.m. on Tuesdays and 8:30 a.m. on Saturdays.\nFor information about the Peachtree City meetings\, call Bonita at: 404-234-7545 or Mike at 770-268-1430.\nFor information\, visit standrews316.org/ministries/outreach. \n 
URL:https://thecitizen.com/event/overeaters-anonymous-12-step-program-2022-06-18/2023-07-01/
CATEGORIES:Health
END:VEVENT
BEGIN:VEVENT
DTSTART;TZID=America/New_York:20230701T183000
DTEND;TZID=America/New_York:20230701T193000
DTSTAMP:20260425T235839
CREATED:20250702T225956Z
LAST-MODIFIED:20250702T225956Z
UID:10001758-1688236200-1688239800@thecitizen.com
SUMMARY:Overeaters Anonymous 12-step program
DESCRIPTION:OVEREATERS ANONYMOUS offers a 12-step program of recovery from compulsive eating. Meetings are free.\nOvereaters Anonymous meets twice a week at St. Andrews in the Pines Episcopal Church\, 316 North Peachtree Parkway\, Peachtree City\, at 6:30 p.m. on Tuesdays and 8:30 a.m. on Saturdays.\nFor information about the Peachtree City meetings\, call Bonita at: 404-234-7545 or Mike at 770-268-1430.\nFor information\, visit standrews316.org/ministries/outreach. \n 
URL:https://thecitizen.com/event/overeaters-anonymous-12-step-program-2022-06-18/2023-07-01/
CATEGORIES:Health
END:VEVENT
BEGIN:VEVENT
DTSTART;TZID=America/New_York:20230708T083000
DTEND;TZID=America/New_York:20230708T093000
DTSTAMP:20260425T235839
CREATED:20190830T234559Z
LAST-MODIFIED:20250408T022415Z
UID:10001497-1688805000-1688808600@thecitizen.com
SUMMARY:Overeaters Anonymous 12-step program
DESCRIPTION:OVEREATERS ANONYMOUS offers a 12-step program of recovery from compulsive eating. Meetings are free.\nOvereaters Anonymous meets twice a week at St. Andrews in the Pines Episcopal Church\, 316 North Peachtree Parkway\, Peachtree City\, at 6:30 p.m. on Tuesdays and 8:30 a.m. on Saturdays.\nFor information about the Peachtree City meetings\, call Bonita at: 404-234-7545 or Mike at 770-268-1430.\nFor information\, visit standrews316.org/ministries/outreach. \n 
URL:https://thecitizen.com/event/overeaters-anonymous-12-step-program-2022-06-18/2023-07-08/
CATEGORIES:Health
END:VEVENT
BEGIN:VEVENT
DTSTART;TZID=America/New_York:20230708T183000
DTEND;TZID=America/New_York:20230708T193000
DTSTAMP:20260425T235839
CREATED:20250702T225956Z
LAST-MODIFIED:20250702T225956Z
UID:10001759-1688841000-1688844600@thecitizen.com
SUMMARY:Overeaters Anonymous 12-step program
DESCRIPTION:OVEREATERS ANONYMOUS offers a 12-step program of recovery from compulsive eating. Meetings are free.\nOvereaters Anonymous meets twice a week at St. Andrews in the Pines Episcopal Church\, 316 North Peachtree Parkway\, Peachtree City\, at 6:30 p.m. on Tuesdays and 8:30 a.m. on Saturdays.\nFor information about the Peachtree City meetings\, call Bonita at: 404-234-7545 or Mike at 770-268-1430.\nFor information\, visit standrews316.org/ministries/outreach. \n 
URL:https://thecitizen.com/event/overeaters-anonymous-12-step-program-2022-06-18/2023-07-08/
CATEGORIES:Health
END:VEVENT
BEGIN:VEVENT
DTSTART;TZID=America/New_York:20230715T083000
DTEND;TZID=America/New_York:20230715T093000
DTSTAMP:20260425T235839
CREATED:20190830T234559Z
LAST-MODIFIED:20250408T022415Z
UID:10001498-1689409800-1689413400@thecitizen.com
SUMMARY:Overeaters Anonymous 12-step program
DESCRIPTION:OVEREATERS ANONYMOUS offers a 12-step program of recovery from compulsive eating. Meetings are free.\nOvereaters Anonymous meets twice a week at St. Andrews in the Pines Episcopal Church\, 316 North Peachtree Parkway\, Peachtree City\, at 6:30 p.m. on Tuesdays and 8:30 a.m. on Saturdays.\nFor information about the Peachtree City meetings\, call Bonita at: 404-234-7545 or Mike at 770-268-1430.\nFor information\, visit standrews316.org/ministries/outreach. \n 
URL:https://thecitizen.com/event/overeaters-anonymous-12-step-program-2022-06-18/2023-07-15/
CATEGORIES:Health
END:VEVENT
BEGIN:VEVENT
DTSTART;TZID=America/New_York:20230715T183000
DTEND;TZID=America/New_York:20230715T193000
DTSTAMP:20260425T235839
CREATED:20250702T225956Z
LAST-MODIFIED:20250702T225956Z
UID:10001760-1689445800-1689449400@thecitizen.com
SUMMARY:Overeaters Anonymous 12-step program
DESCRIPTION:OVEREATERS ANONYMOUS offers a 12-step program of recovery from compulsive eating. Meetings are free.\nOvereaters Anonymous meets twice a week at St. Andrews in the Pines Episcopal Church\, 316 North Peachtree Parkway\, Peachtree City\, at 6:30 p.m. on Tuesdays and 8:30 a.m. on Saturdays.\nFor information about the Peachtree City meetings\, call Bonita at: 404-234-7545 or Mike at 770-268-1430.\nFor information\, visit standrews316.org/ministries/outreach. \n 
URL:https://thecitizen.com/event/overeaters-anonymous-12-step-program-2022-06-18/2023-07-15/
CATEGORIES:Health
END:VEVENT
BEGIN:VEVENT
DTSTART;TZID=America/New_York:20230722T083000
DTEND;TZID=America/New_York:20230722T093000
DTSTAMP:20260425T235839
CREATED:20190830T234559Z
LAST-MODIFIED:20250408T022415Z
UID:10001499-1690014600-1690018200@thecitizen.com
SUMMARY:Overeaters Anonymous 12-step program
DESCRIPTION:OVEREATERS ANONYMOUS offers a 12-step program of recovery from compulsive eating. Meetings are free.\nOvereaters Anonymous meets twice a week at St. Andrews in the Pines Episcopal Church\, 316 North Peachtree Parkway\, Peachtree City\, at 6:30 p.m. on Tuesdays and 8:30 a.m. on Saturdays.\nFor information about the Peachtree City meetings\, call Bonita at: 404-234-7545 or Mike at 770-268-1430.\nFor information\, visit standrews316.org/ministries/outreach. \n 
URL:https://thecitizen.com/event/overeaters-anonymous-12-step-program-2022-06-18/2023-07-22/
CATEGORIES:Health
END:VEVENT
BEGIN:VEVENT
DTSTART;TZID=America/New_York:20230722T183000
DTEND;TZID=America/New_York:20230722T193000
DTSTAMP:20260425T235839
CREATED:20250702T225956Z
LAST-MODIFIED:20250702T225956Z
UID:10001761-1690050600-1690054200@thecitizen.com
SUMMARY:Overeaters Anonymous 12-step program
DESCRIPTION:OVEREATERS ANONYMOUS offers a 12-step program of recovery from compulsive eating. Meetings are free.\nOvereaters Anonymous meets twice a week at St. Andrews in the Pines Episcopal Church\, 316 North Peachtree Parkway\, Peachtree City\, at 6:30 p.m. on Tuesdays and 8:30 a.m. on Saturdays.\nFor information about the Peachtree City meetings\, call Bonita at: 404-234-7545 or Mike at 770-268-1430.\nFor information\, visit standrews316.org/ministries/outreach. \n 
URL:https://thecitizen.com/event/overeaters-anonymous-12-step-program-2022-06-18/2023-07-22/
CATEGORIES:Health
END:VEVENT
BEGIN:VEVENT
DTSTART;TZID=America/New_York:20230729T083000
DTEND;TZID=America/New_York:20230729T093000
DTSTAMP:20260425T235839
CREATED:20190830T234559Z
LAST-MODIFIED:20250408T022415Z
UID:10001500-1690619400-1690623000@thecitizen.com
SUMMARY:Overeaters Anonymous 12-step program
DESCRIPTION:OVEREATERS ANONYMOUS offers a 12-step program of recovery from compulsive eating. Meetings are free.\nOvereaters Anonymous meets twice a week at St. Andrews in the Pines Episcopal Church\, 316 North Peachtree Parkway\, Peachtree City\, at 6:30 p.m. on Tuesdays and 8:30 a.m. on Saturdays.\nFor information about the Peachtree City meetings\, call Bonita at: 404-234-7545 or Mike at 770-268-1430.\nFor information\, visit standrews316.org/ministries/outreach. \n 
URL:https://thecitizen.com/event/overeaters-anonymous-12-step-program-2022-06-18/2023-07-29/
CATEGORIES:Health
END:VEVENT
BEGIN:VEVENT
DTSTART;TZID=America/New_York:20230729T183000
DTEND;TZID=America/New_York:20230729T193000
DTSTAMP:20260425T235839
CREATED:20250702T225956Z
LAST-MODIFIED:20250702T225956Z
UID:10001762-1690655400-1690659000@thecitizen.com
SUMMARY:Overeaters Anonymous 12-step program
DESCRIPTION:OVEREATERS ANONYMOUS offers a 12-step program of recovery from compulsive eating. Meetings are free.\nOvereaters Anonymous meets twice a week at St. Andrews in the Pines Episcopal Church\, 316 North Peachtree Parkway\, Peachtree City\, at 6:30 p.m. on Tuesdays and 8:30 a.m. on Saturdays.\nFor information about the Peachtree City meetings\, call Bonita at: 404-234-7545 or Mike at 770-268-1430.\nFor information\, visit standrews316.org/ministries/outreach. \n 
URL:https://thecitizen.com/event/overeaters-anonymous-12-step-program-2022-06-18/2023-07-29/
CATEGORIES:Health
END:VEVENT
BEGIN:VEVENT
DTSTART;TZID=America/New_York:20230805T083000
DTEND;TZID=America/New_York:20230805T093000
DTSTAMP:20260425T235839
CREATED:20190830T234559Z
LAST-MODIFIED:20250408T022415Z
UID:10001501-1691224200-1691227800@thecitizen.com
SUMMARY:Overeaters Anonymous 12-step program
DESCRIPTION:OVEREATERS ANONYMOUS offers a 12-step program of recovery from compulsive eating. Meetings are free.\nOvereaters Anonymous meets twice a week at St. Andrews in the Pines Episcopal Church\, 316 North Peachtree Parkway\, Peachtree City\, at 6:30 p.m. on Tuesdays and 8:30 a.m. on Saturdays.\nFor information about the Peachtree City meetings\, call Bonita at: 404-234-7545 or Mike at 770-268-1430.\nFor information\, visit standrews316.org/ministries/outreach. \n 
URL:https://thecitizen.com/event/overeaters-anonymous-12-step-program-2022-06-18/2023-08-05/
CATEGORIES:Health
END:VEVENT
BEGIN:VEVENT
DTSTART;TZID=America/New_York:20230805T183000
DTEND;TZID=America/New_York:20230805T193000
DTSTAMP:20260425T235839
CREATED:20250702T225956Z
LAST-MODIFIED:20250702T225956Z
UID:10001763-1691260200-1691263800@thecitizen.com
SUMMARY:Overeaters Anonymous 12-step program
DESCRIPTION:OVEREATERS ANONYMOUS offers a 12-step program of recovery from compulsive eating. Meetings are free.\nOvereaters Anonymous meets twice a week at St. Andrews in the Pines Episcopal Church\, 316 North Peachtree Parkway\, Peachtree City\, at 6:30 p.m. on Tuesdays and 8:30 a.m. on Saturdays.\nFor information about the Peachtree City meetings\, call Bonita at: 404-234-7545 or Mike at 770-268-1430.\nFor information\, visit standrews316.org/ministries/outreach. \n 
URL:https://thecitizen.com/event/overeaters-anonymous-12-step-program-2022-06-18/2023-08-05/
CATEGORIES:Health
END:VEVENT
BEGIN:VEVENT
DTSTART;TZID=America/New_York:20230812T083000
DTEND;TZID=America/New_York:20230812T093000
DTSTAMP:20260425T235839
CREATED:20190830T234559Z
LAST-MODIFIED:20250408T022415Z
UID:10001502-1691829000-1691832600@thecitizen.com
SUMMARY:Overeaters Anonymous 12-step program
DESCRIPTION:OVEREATERS ANONYMOUS offers a 12-step program of recovery from compulsive eating. Meetings are free.\nOvereaters Anonymous meets twice a week at St. Andrews in the Pines Episcopal Church\, 316 North Peachtree Parkway\, Peachtree City\, at 6:30 p.m. on Tuesdays and 8:30 a.m. on Saturdays.\nFor information about the Peachtree City meetings\, call Bonita at: 404-234-7545 or Mike at 770-268-1430.\nFor information\, visit standrews316.org/ministries/outreach. \n 
URL:https://thecitizen.com/event/overeaters-anonymous-12-step-program-2022-06-18/2023-08-12/
CATEGORIES:Health
END:VEVENT
BEGIN:VEVENT
DTSTART;TZID=America/New_York:20230812T183000
DTEND;TZID=America/New_York:20230812T193000
DTSTAMP:20260425T235839
CREATED:20250702T225956Z
LAST-MODIFIED:20250702T225956Z
UID:10001764-1691865000-1691868600@thecitizen.com
SUMMARY:Overeaters Anonymous 12-step program
DESCRIPTION:OVEREATERS ANONYMOUS offers a 12-step program of recovery from compulsive eating. Meetings are free.\nOvereaters Anonymous meets twice a week at St. Andrews in the Pines Episcopal Church\, 316 North Peachtree Parkway\, Peachtree City\, at 6:30 p.m. on Tuesdays and 8:30 a.m. on Saturdays.\nFor information about the Peachtree City meetings\, call Bonita at: 404-234-7545 or Mike at 770-268-1430.\nFor information\, visit standrews316.org/ministries/outreach. \n 
URL:https://thecitizen.com/event/overeaters-anonymous-12-step-program-2022-06-18/2023-08-12/
CATEGORIES:Health
END:VEVENT
BEGIN:VEVENT
DTSTART;TZID=America/New_York:20230819T083000
DTEND;TZID=America/New_York:20230819T093000
DTSTAMP:20260425T235839
CREATED:20190830T234559Z
LAST-MODIFIED:20250408T022415Z
UID:10001503-1692433800-1692437400@thecitizen.com
SUMMARY:Overeaters Anonymous 12-step program
DESCRIPTION:OVEREATERS ANONYMOUS offers a 12-step program of recovery from compulsive eating. Meetings are free.\nOvereaters Anonymous meets twice a week at St. Andrews in the Pines Episcopal Church\, 316 North Peachtree Parkway\, Peachtree City\, at 6:30 p.m. on Tuesdays and 8:30 a.m. on Saturdays.\nFor information about the Peachtree City meetings\, call Bonita at: 404-234-7545 or Mike at 770-268-1430.\nFor information\, visit standrews316.org/ministries/outreach. \n 
URL:https://thecitizen.com/event/overeaters-anonymous-12-step-program-2022-06-18/2023-08-19/
CATEGORIES:Health
END:VEVENT
BEGIN:VEVENT
DTSTART;TZID=America/New_York:20230819T183000
DTEND;TZID=America/New_York:20230819T193000
DTSTAMP:20260425T235839
CREATED:20250702T225956Z
LAST-MODIFIED:20250702T225956Z
UID:10001765-1692469800-1692473400@thecitizen.com
SUMMARY:Overeaters Anonymous 12-step program
DESCRIPTION:OVEREATERS ANONYMOUS offers a 12-step program of recovery from compulsive eating. Meetings are free.\nOvereaters Anonymous meets twice a week at St. Andrews in the Pines Episcopal Church\, 316 North Peachtree Parkway\, Peachtree City\, at 6:30 p.m. on Tuesdays and 8:30 a.m. on Saturdays.\nFor information about the Peachtree City meetings\, call Bonita at: 404-234-7545 or Mike at 770-268-1430.\nFor information\, visit standrews316.org/ministries/outreach. \n 
URL:https://thecitizen.com/event/overeaters-anonymous-12-step-program-2022-06-18/2023-08-19/
CATEGORIES:Health
END:VEVENT
BEGIN:VEVENT
DTSTART;TZID=America/New_York:20230826T083000
DTEND;TZID=America/New_York:20230826T093000
DTSTAMP:20260425T235839
CREATED:20190830T234559Z
LAST-MODIFIED:20250408T022415Z
UID:10001504-1693038600-1693042200@thecitizen.com
SUMMARY:Overeaters Anonymous 12-step program
DESCRIPTION:OVEREATERS ANONYMOUS offers a 12-step program of recovery from compulsive eating. Meetings are free.\nOvereaters Anonymous meets twice a week at St. Andrews in the Pines Episcopal Church\, 316 North Peachtree Parkway\, Peachtree City\, at 6:30 p.m. on Tuesdays and 8:30 a.m. on Saturdays.\nFor information about the Peachtree City meetings\, call Bonita at: 404-234-7545 or Mike at 770-268-1430.\nFor information\, visit standrews316.org/ministries/outreach. \n 
URL:https://thecitizen.com/event/overeaters-anonymous-12-step-program-2022-06-18/2023-08-26/
CATEGORIES:Health
END:VEVENT
BEGIN:VEVENT
DTSTART;TZID=America/New_York:20230826T183000
DTEND;TZID=America/New_York:20230826T193000
DTSTAMP:20260425T235839
CREATED:20250702T225956Z
LAST-MODIFIED:20250702T225956Z
UID:10001766-1693074600-1693078200@thecitizen.com
SUMMARY:Overeaters Anonymous 12-step program
DESCRIPTION:OVEREATERS ANONYMOUS offers a 12-step program of recovery from compulsive eating. Meetings are free.\nOvereaters Anonymous meets twice a week at St. Andrews in the Pines Episcopal Church\, 316 North Peachtree Parkway\, Peachtree City\, at 6:30 p.m. on Tuesdays and 8:30 a.m. on Saturdays.\nFor information about the Peachtree City meetings\, call Bonita at: 404-234-7545 or Mike at 770-268-1430.\nFor information\, visit standrews316.org/ministries/outreach. \n 
URL:https://thecitizen.com/event/overeaters-anonymous-12-step-program-2022-06-18/2023-08-26/
CATEGORIES:Health
END:VEVENT
BEGIN:VEVENT
DTSTART;TZID=America/New_York:20230902T083000
DTEND;TZID=America/New_York:20230902T093000
DTSTAMP:20260425T235839
CREATED:20190830T234559Z
LAST-MODIFIED:20250408T022415Z
UID:10001505-1693643400-1693647000@thecitizen.com
SUMMARY:Overeaters Anonymous 12-step program
DESCRIPTION:OVEREATERS ANONYMOUS offers a 12-step program of recovery from compulsive eating. Meetings are free.\nOvereaters Anonymous meets twice a week at St. Andrews in the Pines Episcopal Church\, 316 North Peachtree Parkway\, Peachtree City\, at 6:30 p.m. on Tuesdays and 8:30 a.m. on Saturdays.\nFor information about the Peachtree City meetings\, call Bonita at: 404-234-7545 or Mike at 770-268-1430.\nFor information\, visit standrews316.org/ministries/outreach. \n 
URL:https://thecitizen.com/event/overeaters-anonymous-12-step-program-2022-06-18/2023-09-02/
CATEGORIES:Health
END:VEVENT
BEGIN:VEVENT
DTSTART;TZID=America/New_York:20230902T183000
DTEND;TZID=America/New_York:20230902T193000
DTSTAMP:20260425T235839
CREATED:20250702T225956Z
LAST-MODIFIED:20250702T225956Z
UID:10001767-1693679400-1693683000@thecitizen.com
SUMMARY:Overeaters Anonymous 12-step program
DESCRIPTION:OVEREATERS ANONYMOUS offers a 12-step program of recovery from compulsive eating. Meetings are free.\nOvereaters Anonymous meets twice a week at St. Andrews in the Pines Episcopal Church\, 316 North Peachtree Parkway\, Peachtree City\, at 6:30 p.m. on Tuesdays and 8:30 a.m. on Saturdays.\nFor information about the Peachtree City meetings\, call Bonita at: 404-234-7545 or Mike at 770-268-1430.\nFor information\, visit standrews316.org/ministries/outreach. \n 
URL:https://thecitizen.com/event/overeaters-anonymous-12-step-program-2022-06-18/2023-09-02/
CATEGORIES:Health
END:VEVENT
BEGIN:VEVENT
DTSTART;TZID=America/New_York:20230909T083000
DTEND;TZID=America/New_York:20230909T093000
DTSTAMP:20260425T235839
CREATED:20190830T234559Z
LAST-MODIFIED:20250408T022415Z
UID:10001506-1694248200-1694251800@thecitizen.com
SUMMARY:Overeaters Anonymous 12-step program
DESCRIPTION:OVEREATERS ANONYMOUS offers a 12-step program of recovery from compulsive eating. Meetings are free.\nOvereaters Anonymous meets twice a week at St. Andrews in the Pines Episcopal Church\, 316 North Peachtree Parkway\, Peachtree City\, at 6:30 p.m. on Tuesdays and 8:30 a.m. on Saturdays.\nFor information about the Peachtree City meetings\, call Bonita at: 404-234-7545 or Mike at 770-268-1430.\nFor information\, visit standrews316.org/ministries/outreach. \n 
URL:https://thecitizen.com/event/overeaters-anonymous-12-step-program-2022-06-18/2023-09-09/
CATEGORIES:Health
END:VEVENT
BEGIN:VEVENT
DTSTART;TZID=America/New_York:20230909T183000
DTEND;TZID=America/New_York:20230909T193000
DTSTAMP:20260425T235839
CREATED:20250702T225956Z
LAST-MODIFIED:20250702T225956Z
UID:10001768-1694284200-1694287800@thecitizen.com
SUMMARY:Overeaters Anonymous 12-step program
DESCRIPTION:OVEREATERS ANONYMOUS offers a 12-step program of recovery from compulsive eating. Meetings are free.\nOvereaters Anonymous meets twice a week at St. Andrews in the Pines Episcopal Church\, 316 North Peachtree Parkway\, Peachtree City\, at 6:30 p.m. on Tuesdays and 8:30 a.m. on Saturdays.\nFor information about the Peachtree City meetings\, call Bonita at: 404-234-7545 or Mike at 770-268-1430.\nFor information\, visit standrews316.org/ministries/outreach. \n 
URL:https://thecitizen.com/event/overeaters-anonymous-12-step-program-2022-06-18/2023-09-09/
CATEGORIES:Health
END:VEVENT
BEGIN:VEVENT
DTSTART;TZID=America/New_York:20230916T083000
DTEND;TZID=America/New_York:20230916T093000
DTSTAMP:20260425T235839
CREATED:20190830T234559Z
LAST-MODIFIED:20250408T022415Z
UID:10001507-1694853000-1694856600@thecitizen.com
SUMMARY:Overeaters Anonymous 12-step program
DESCRIPTION:OVEREATERS ANONYMOUS offers a 12-step program of recovery from compulsive eating. Meetings are free.\nOvereaters Anonymous meets twice a week at St. Andrews in the Pines Episcopal Church\, 316 North Peachtree Parkway\, Peachtree City\, at 6:30 p.m. on Tuesdays and 8:30 a.m. on Saturdays.\nFor information about the Peachtree City meetings\, call Bonita at: 404-234-7545 or Mike at 770-268-1430.\nFor information\, visit standrews316.org/ministries/outreach. \n 
URL:https://thecitizen.com/event/overeaters-anonymous-12-step-program-2022-06-18/2023-09-16/
CATEGORIES:Health
END:VEVENT
BEGIN:VEVENT
DTSTART;TZID=America/New_York:20230916T183000
DTEND;TZID=America/New_York:20230916T193000
DTSTAMP:20260425T235839
CREATED:20250702T225956Z
LAST-MODIFIED:20250702T225956Z
UID:10001769-1694889000-1694892600@thecitizen.com
SUMMARY:Overeaters Anonymous 12-step program
DESCRIPTION:OVEREATERS ANONYMOUS offers a 12-step program of recovery from compulsive eating. Meetings are free.\nOvereaters Anonymous meets twice a week at St. Andrews in the Pines Episcopal Church\, 316 North Peachtree Parkway\, Peachtree City\, at 6:30 p.m. on Tuesdays and 8:30 a.m. on Saturdays.\nFor information about the Peachtree City meetings\, call Bonita at: 404-234-7545 or Mike at 770-268-1430.\nFor information\, visit standrews316.org/ministries/outreach. \n 
URL:https://thecitizen.com/event/overeaters-anonymous-12-step-program-2022-06-18/2023-09-16/
CATEGORIES:Health
END:VEVENT
END:VCALENDAR