BEGIN:VCALENDAR
VERSION:2.0
PRODID:-//The Citizen - ECPv6.15.20//NONSGML v1.0//EN
CALSCALE:GREGORIAN
METHOD:PUBLISH
X-WR-CALNAME:The Citizen
X-ORIGINAL-URL:https://thecitizen.com
X-WR-CALDESC:Events for The Citizen
REFRESH-INTERVAL;VALUE=DURATION:PT1H
X-Robots-Tag:noindex
X-PUBLISHED-TTL:PT1H
BEGIN:VTIMEZONE
TZID:America/New_York
BEGIN:DAYLIGHT
TZOFFSETFROM:-0500
TZOFFSETTO:-0400
TZNAME:EDT
DTSTART:20180311T070000
END:DAYLIGHT
BEGIN:STANDARD
TZOFFSETFROM:-0400
TZOFFSETTO:-0500
TZNAME:EST
DTSTART:20181104T060000
END:STANDARD
BEGIN:DAYLIGHT
TZOFFSETFROM:-0500
TZOFFSETTO:-0400
TZNAME:EDT
DTSTART:20190310T070000
END:DAYLIGHT
BEGIN:STANDARD
TZOFFSETFROM:-0400
TZOFFSETTO:-0500
TZNAME:EST
DTSTART:20191103T060000
END:STANDARD
BEGIN:DAYLIGHT
TZOFFSETFROM:-0500
TZOFFSETTO:-0400
TZNAME:EDT
DTSTART:20200308T070000
END:DAYLIGHT
BEGIN:STANDARD
TZOFFSETFROM:-0400
TZOFFSETTO:-0500
TZNAME:EST
DTSTART:20201101T060000
END:STANDARD
BEGIN:DAYLIGHT
TZOFFSETFROM:-0500
TZOFFSETTO:-0400
TZNAME:EDT
DTSTART:20210314T070000
END:DAYLIGHT
BEGIN:STANDARD
TZOFFSETFROM:-0400
TZOFFSETTO:-0500
TZNAME:EST
DTSTART:20211107T060000
END:STANDARD
END:VTIMEZONE
BEGIN:VEVENT
DTSTART;TZID=America/New_York:20200105T103000
DTEND;TZID=America/New_York:20200105T120000
DTSTAMP:20260424T082910
CREATED:20191215T224814Z
LAST-MODIFIED:20191215T231500Z
UID:10000779-1578220200-1578225600@thecitizen.com
SUMMARY:All Saints Christmas Celebrations
DESCRIPTION:The congregation at All Saints Anglican Church will celebrate the birth of Christ with several services. \nA service for families will be held at 5 p.m. on Christmas Eve\, with nursery provided. \nChristmas Lessons and Carols will be celebrated at 10:30 p.m. Christmas Eve followed by a midnight candlelight mass at 11 p.m. \nA Children’s Epiphany Pageant will be held at 10:30 a.m. on Sunday\, January 5. \nAll are invited to attend.
URL:https://thecitizen.com/event/all-saints-christmas-celebrations/2020-01-05/
LOCATION:All Saints Anglican Church\, 149 Ebenezer Rd.\, Fayetteville\, GA\, 30215\, United States
CATEGORIES:Christmas,Church,Holidays
ATTACH;FMTTYPE=image/jpeg:https://thecitizen.com/wpimport/wp-content/uploads/2019/12/AllSaints-970x250-120419.jpg
GEO:33.43507;-84.547642
X-APPLE-STRUCTURED-LOCATION;VALUE=URI;X-ADDRESS=All Saints Anglican Church 149 Ebenezer Rd. Fayetteville GA 30215 United States;X-APPLE-RADIUS=500;X-TITLE=149 Ebenezer Rd.:geo:-84.547642,33.43507
END:VEVENT
BEGIN:VEVENT
DTSTART;TZID=America/New_York:20191231T200000
DTEND;TZID=America/New_York:20191231T233000
DTSTAMP:20260424T082910
CREATED:20191215T155922Z
LAST-MODIFIED:20191215T155922Z
UID:10000683-1577822400-1577835000@thecitizen.com
SUMMARY:Merrill Chapel UMC sets Christmas Eve and New Year’s Eve services
DESCRIPTION:Merrill Chapel United Methodist Church of Fayetteville will be holding its Annual Christmas Eve Candlelight Service Tuesday\, December 24\, 2019 at 7:00 p.m. and the Watch Night Live Performance on New Year’s Eve Tuesday\, December 31\, 2019 at 8:00 p.m. \nThe church is located at 430 South Jeff Davis Drive in Fayetteville. Alpheia Murray is the pastor.
URL:https://thecitizen.com/event/merrill-chapel-umc-sets-christmas-eve-and-new-years-eve-services/2019-12-31/
LOCATION:GA
CATEGORIES:Christmas,Church,Holidays
ATTACH;FMTTYPE=image/jpeg:https://thecitizen.com/wpimport/wp-content/uploads/2017/12/news_stock-art_12-20-17_Christmas-His-name-will-be-called.jpg
END:VEVENT
BEGIN:VEVENT
DTSTART;TZID=America/New_York:20191224T223000
DTEND;TZID=America/New_York:20191224T233000
DTSTAMP:20260424T082910
CREATED:20191215T224814Z
LAST-MODIFIED:20191215T231500Z
UID:10000778-1577226600-1577230200@thecitizen.com
SUMMARY:All Saints Christmas Celebrations
DESCRIPTION:The congregation at All Saints Anglican Church will celebrate the birth of Christ with several services. \nA service for families will be held at 5 p.m. on Christmas Eve\, with nursery provided. \nChristmas Lessons and Carols will be celebrated at 10:30 p.m. Christmas Eve followed by a midnight candlelight mass at 11 p.m. \nA Children’s Epiphany Pageant will be held at 10:30 a.m. on Sunday\, January 5. \nAll are invited to attend.
URL:https://thecitizen.com/event/all-saints-christmas-celebrations/2019-12-24/2/
LOCATION:All Saints Anglican Church\, 149 Ebenezer Rd.\, Fayetteville\, GA\, 30215\, United States
CATEGORIES:Christmas,Church,Holidays
ATTACH;FMTTYPE=image/jpeg:https://thecitizen.com/wpimport/wp-content/uploads/2019/12/AllSaints-970x250-120419.jpg
GEO:33.43507;-84.547642
X-APPLE-STRUCTURED-LOCATION;VALUE=URI;X-ADDRESS=All Saints Anglican Church 149 Ebenezer Rd. Fayetteville GA 30215 United States;X-APPLE-RADIUS=500;X-TITLE=149 Ebenezer Rd.:geo:-84.547642,33.43507
END:VEVENT
BEGIN:VEVENT
DTSTART;TZID=America/New_York:20191224T190000
DTEND;TZID=America/New_York:20191224T200000
DTSTAMP:20260424T082910
CREATED:20191215T155922Z
LAST-MODIFIED:20191215T155922Z
UID:10000682-1577214000-1577217600@thecitizen.com
SUMMARY:Merrill Chapel UMC sets Christmas Eve and New Year’s Eve services
DESCRIPTION:Merrill Chapel United Methodist Church of Fayetteville will be holding its Annual Christmas Eve Candlelight Service Tuesday\, December 24\, 2019 at 7:00 p.m. and the Watch Night Live Performance on New Year’s Eve Tuesday\, December 31\, 2019 at 8:00 p.m. \nThe church is located at 430 South Jeff Davis Drive in Fayetteville. Alpheia Murray is the pastor.
URL:https://thecitizen.com/event/merrill-chapel-umc-sets-christmas-eve-and-new-years-eve-services/2019-12-24/
LOCATION:GA
CATEGORIES:Christmas,Church,Holidays
ATTACH;FMTTYPE=image/jpeg:https://thecitizen.com/wpimport/wp-content/uploads/2017/12/news_stock-art_12-20-17_Christmas-His-name-will-be-called.jpg
END:VEVENT
BEGIN:VEVENT
DTSTART;TZID=America/New_York:20191224T180000
DTEND;TZID=America/New_York:20191224T190000
DTSTAMP:20260424T082910
CREATED:20191215T231340Z
LAST-MODIFIED:20191215T231340Z
UID:10002216-1577210400-1577214000@thecitizen.com
SUMMARY:Christmas at Carriage Lane
DESCRIPTION:Come celebrate the birth of the Savoir with the congregation at Carriage Lane Presbyterian Church. An advent sermon series\, “Songs for the Savior\,” continues in December on Sundays at 11 a.m. \nA Christmas Eve Candlelight Service will be held at 6 p.m. \nEnjoy inspiring music and hear the Christmas message proclaimed from Scripture. \nFor more information\, call 770-631-4618 or visit www.carriagelanepres.org
URL:https://thecitizen.com/event/christmas-at-carriage-lane/2019-12-24/
LOCATION:Carriage Lane Presbyterian Church\, 101 Carriage Lane\, Peachtree City\, GA
CATEGORIES:Christmas,Church,Holidays,Peachtree City,Religion
ATTACH;FMTTYPE=image/jpeg:https://thecitizen.com/wpimport/wp-content/uploads/2019/12/CarriageLane-970x250-120419.jpg
GEO:33.418571;-84.557971
X-APPLE-STRUCTURED-LOCATION;VALUE=URI;X-ADDRESS=Carriage Lane Presbyterian Church 101 Carriage Lane Peachtree City GA;X-APPLE-RADIUS=500;X-TITLE=101 Carriage Lane:geo:-84.557971,33.418571
END:VEVENT
BEGIN:VEVENT
DTSTART;TZID=America/New_York:20191224T170000
DTEND;TZID=America/New_York:20191224T183000
DTSTAMP:20260424T082910
CREATED:20191215T224814Z
LAST-MODIFIED:20191215T231500Z
UID:10000777-1577206800-1577212200@thecitizen.com
SUMMARY:All Saints Christmas Celebrations
DESCRIPTION:The congregation at All Saints Anglican Church will celebrate the birth of Christ with several services. \nA service for families will be held at 5 p.m. on Christmas Eve\, with nursery provided. \nChristmas Lessons and Carols will be celebrated at 10:30 p.m. Christmas Eve followed by a midnight candlelight mass at 11 p.m. \nA Children’s Epiphany Pageant will be held at 10:30 a.m. on Sunday\, January 5. \nAll are invited to attend.
URL:https://thecitizen.com/event/all-saints-christmas-celebrations/2019-12-24/1/
LOCATION:All Saints Anglican Church\, 149 Ebenezer Rd.\, Fayetteville\, GA\, 30215\, United States
CATEGORIES:Christmas,Church,Holidays
ATTACH;FMTTYPE=image/jpeg:https://thecitizen.com/wpimport/wp-content/uploads/2019/12/AllSaints-970x250-120419.jpg
GEO:33.43507;-84.547642
X-APPLE-STRUCTURED-LOCATION;VALUE=URI;X-ADDRESS=All Saints Anglican Church 149 Ebenezer Rd. Fayetteville GA 30215 United States;X-APPLE-RADIUS=500;X-TITLE=149 Ebenezer Rd.:geo:-84.547642,33.43507
END:VEVENT
BEGIN:VEVENT
DTSTART;TZID=America/New_York:20191222T110000
DTEND;TZID=America/New_York:20191222T123000
DTSTAMP:20260424T082910
CREATED:20191215T231340Z
LAST-MODIFIED:20191215T231340Z
UID:10002215-1577012400-1577017800@thecitizen.com
SUMMARY:Christmas at Carriage Lane
DESCRIPTION:Come celebrate the birth of the Savoir with the congregation at Carriage Lane Presbyterian Church. An advent sermon series\, “Songs for the Savior\,” continues in December on Sundays at 11 a.m. \nA Christmas Eve Candlelight Service will be held at 6 p.m. \nEnjoy inspiring music and hear the Christmas message proclaimed from Scripture. \nFor more information\, call 770-631-4618 or visit www.carriagelanepres.org
URL:https://thecitizen.com/event/christmas-at-carriage-lane/2019-12-22/
LOCATION:Carriage Lane Presbyterian Church\, 101 Carriage Lane\, Peachtree City\, GA
CATEGORIES:Christmas,Church,Holidays,Peachtree City,Religion
ATTACH;FMTTYPE=image/jpeg:https://thecitizen.com/wpimport/wp-content/uploads/2019/12/CarriageLane-970x250-120419.jpg
GEO:33.418571;-84.557971
X-APPLE-STRUCTURED-LOCATION;VALUE=URI;X-ADDRESS=Carriage Lane Presbyterian Church 101 Carriage Lane Peachtree City GA;X-APPLE-RADIUS=500;X-TITLE=101 Carriage Lane:geo:-84.557971,33.418571
END:VEVENT
BEGIN:VEVENT
DTSTART;TZID=America/New_York:20191215T190000
DTEND;TZID=America/New_York:20191215T210000
DTSTAMP:20260424T082910
CREATED:20191125T004019Z
LAST-MODIFIED:20191208T233929Z
UID:10000210-1576436400-1576443600@thecitizen.com
SUMMARY:New Hope Christmas Tree
DESCRIPTION:The New Hope Christmas Tree is an original story centered around a family reunion in the snowy mountains of Colorado. As with most family reunions\, there is a lot of drama\, singing\, laughing fun. \nThis is a presentation your whole family will enjoy as we together discover the importance of family and Christmas. Join us for one of our 8 performances from December 10 – 15. Free Tickets are available at newhopebc.org/tree. \nLocation: \nNew Hope Baptist Church – North Campus \n551 New Hope Road \nFayetteville\, GA 30214 \n770.461.4337
URL:https://thecitizen.com/event/new-hope-christmas-tree/2019-12-15/2/
LOCATION:New Hope Baptist Church – North Campus\, 551 New Hope Road\, Fayetteville\, Georgia\, 30214
CATEGORIES:Christmas,Church,Community,Fayetteville,Holidays,Kid-friendly,Live Performances,Music
ATTACH;FMTTYPE=image/jpeg:https://thecitizen.com/wpimport/wp-content/uploads/2019/11/2019-new-hope-baptist-tree-performances.jpg
END:VEVENT
BEGIN:VEVENT
DTSTART;TZID=America/New_York:20191215T180000
DTEND;TZID=America/New_York:20191215T200000
DTSTAMP:20260424T082910
CREATED:20191125T004605Z
LAST-MODIFIED:20191125T004605Z
UID:10000213-1576432800-1576440000@thecitizen.com
SUMMARY:Festival of the Nativity
DESCRIPTION:FESTIVAL OF THE NATIVITY\, Friday\, December 13 – Sunday\, December 15\, 6 to 8 p.m. (Friday and Saturday)\, 4 – 8 p.m. (Sunday)\, Church of Jesus Christ of Latter-Day Saints\, 101 S. Peachtree Parkway\, Peachtree City. \nJoin in the festivities for this 7th annual free event and view hundreds of nativities from around the world\, while enjoying an assortment of Christmas music from various local churches\, schools and community groups. For more information\, go to festivalofthenativity.org.
URL:https://thecitizen.com/event/festival-of-the-nativity/2019-12-15/
LOCATION:Church of Jesus Christ of Latter Day Saints\, 101 Peachtree Parkway\, Peachtree City\, GA\, 30269\, United States
CATEGORIES:Christmas,Church,Free Events,Holidays,Peachtree City
ATTACH;FMTTYPE=image/jpeg:https://thecitizen.com/wpimport/wp-content/uploads/2017/02/news_120316_FestivalNativity_color.jpg
GEO:33.407635;-84.569808
X-APPLE-STRUCTURED-LOCATION;VALUE=URI;X-ADDRESS=Church of Jesus Christ of Latter Day Saints 101 Peachtree Parkway Peachtree City GA 30269 United States;X-APPLE-RADIUS=500;X-TITLE=101 Peachtree Parkway:geo:-84.569808,33.407635
END:VEVENT
BEGIN:VEVENT
DTSTART;TZID=America/New_York:20191215T150000
DTEND;TZID=America/New_York:20191215T170000
DTSTAMP:20260424T082910
CREATED:20191207T170200Z
LAST-MODIFIED:20191207T170200Z
UID:10002312-1576422000-1576429200@thecitizen.com
SUMMARY:Free Christmas concert at North Fayette UMC
DESCRIPTION:The Peachtree Wind Ensemble invites you to A Very Merry Christmas Celebration Christmas Concert December 14 at 7 p.m. and December 15 at 3 p.m.\, featuring The Agape Ringers Handbell Choir\, Mike Danielle\, conductor. \nThe free concert will be at North Fayette United Methodist Church\, 847 New Hope Road\, Fayetteville. \nAdmission is free.
URL:https://thecitizen.com/event/free-christmas-concert-at-north-fayette-umc/2019-12-15/
LOCATION:GA
CATEGORIES:Christmas,Concerts
ATTACH;FMTTYPE=image/jpeg:https://thecitizen.com/wpimport/wp-content/uploads/2019/12/120719_2019-A-Very-Merry-Christmas-Celebration-Flyer.jpg
END:VEVENT
BEGIN:VEVENT
DTSTART;TZID=America/New_York:20191215T150000
DTEND;TZID=America/New_York:20191215T170000
DTSTAMP:20260424T082910
CREATED:20191125T004019Z
LAST-MODIFIED:20191208T233929Z
UID:10000209-1576422000-1576429200@thecitizen.com
SUMMARY:New Hope Christmas Tree
DESCRIPTION:The New Hope Christmas Tree is an original story centered around a family reunion in the snowy mountains of Colorado. As with most family reunions\, there is a lot of drama\, singing\, laughing fun. \nThis is a presentation your whole family will enjoy as we together discover the importance of family and Christmas. Join us for one of our 8 performances from December 10 – 15. Free Tickets are available at newhopebc.org/tree. \nLocation: \nNew Hope Baptist Church – North Campus \n551 New Hope Road \nFayetteville\, GA 30214 \n770.461.4337
URL:https://thecitizen.com/event/new-hope-christmas-tree/2019-12-15/1/
LOCATION:New Hope Baptist Church – North Campus\, 551 New Hope Road\, Fayetteville\, Georgia\, 30214
CATEGORIES:Christmas,Church,Community,Fayetteville,Holidays,Kid-friendly,Live Performances,Music
ATTACH;FMTTYPE=image/jpeg:https://thecitizen.com/wpimport/wp-content/uploads/2019/11/2019-new-hope-baptist-tree-performances.jpg
END:VEVENT
BEGIN:VEVENT
DTSTART;TZID=America/New_York:20191215T103000
DTEND;TZID=America/New_York:20191215T123000
DTSTAMP:20260424T082910
CREATED:20191125T005426Z
LAST-MODIFIED:20191125T005426Z
UID:10000215-1576405800-1576413000@thecitizen.com
SUMMARY:Moravian Love Feast
DESCRIPTION:MORAVIAN LOVE FEAST\, Saturday\, December 14\, 6 p.m. (Music prelude begins at 5:30)\, and Sunday\, Dec. 15\, 11 a.m. (Music prelude at 10:30 a.m.)\, Christ Our Shepherd Lutheran Church\, 101 N. Peachtree City Pkwy.\, Peachtree City. \nThe Love Feast has been a tradition in the Moravian Church since 1727. All who attend are served a specially-baked Love Feast bun and either Moravian-recipe coffee or apple juice. The service concludes with all adults receiving beeswax candles dressed with red ruffs. \nThe event includes Christmas music in several styles. These groups play a prelude 30 minutes before the Love Feast\, beginning with carols by the combined church band outside the sanctuary. The congregation joins in singing beloved carols. \nAll are welcome to this free event. Free tickets are available and guarantee an empty seat until ten minutes before the Love Feast begins. For more information\, visit coslutheran.org.
URL:https://thecitizen.com/event/moravian-love-feast/2019-12-15/
LOCATION:Christ Our Shepherd Lutheran Church\, 101 N. Peachtree Parkway\, Peachtree City\, GA\, 30269\, United States
CATEGORIES:Christmas,Church,Free Events,Holidays,Music,Peachtree City
ATTACH;FMTTYPE=image/jpeg:https://thecitizen.com/wpimport/wp-content/uploads/imagesdrup/field/image/Reli_COS-choir-Moravian.jpg
GEO:33.4077284;-84.5697307
X-APPLE-STRUCTURED-LOCATION;VALUE=URI;X-ADDRESS=Christ Our Shepherd Lutheran Church 101 N. Peachtree Parkway Peachtree City GA 30269 United States;X-APPLE-RADIUS=500;X-TITLE=101 N. Peachtree Parkway:geo:-84.5697307,33.4077284
END:VEVENT
BEGIN:VEVENT
DTSTART;TZID=America/New_York:20191214T190000
DTEND;TZID=America/New_York:20191214T210000
DTSTAMP:20260424T082910
CREATED:20191207T170200Z
LAST-MODIFIED:20191207T170200Z
UID:10002311-1576350000-1576357200@thecitizen.com
SUMMARY:Free Christmas concert at North Fayette UMC
DESCRIPTION:The Peachtree Wind Ensemble invites you to A Very Merry Christmas Celebration Christmas Concert December 14 at 7 p.m. and December 15 at 3 p.m.\, featuring The Agape Ringers Handbell Choir\, Mike Danielle\, conductor. \nThe free concert will be at North Fayette United Methodist Church\, 847 New Hope Road\, Fayetteville. \nAdmission is free.
URL:https://thecitizen.com/event/free-christmas-concert-at-north-fayette-umc/2019-12-14/
LOCATION:GA
CATEGORIES:Christmas,Concerts
ATTACH;FMTTYPE=image/jpeg:https://thecitizen.com/wpimport/wp-content/uploads/2019/12/120719_2019-A-Very-Merry-Christmas-Celebration-Flyer.jpg
END:VEVENT
BEGIN:VEVENT
DTSTART;TZID=America/New_York:20191214T190000
DTEND;TZID=America/New_York:20191214T210000
DTSTAMP:20260424T082910
CREATED:20191125T004019Z
LAST-MODIFIED:20191208T233929Z
UID:10000208-1576350000-1576357200@thecitizen.com
SUMMARY:New Hope Christmas Tree
DESCRIPTION:The New Hope Christmas Tree is an original story centered around a family reunion in the snowy mountains of Colorado. As with most family reunions\, there is a lot of drama\, singing\, laughing fun. \nThis is a presentation your whole family will enjoy as we together discover the importance of family and Christmas. Join us for one of our 8 performances from December 10 – 15. Free Tickets are available at newhopebc.org/tree. \nLocation: \nNew Hope Baptist Church – North Campus \n551 New Hope Road \nFayetteville\, GA 30214 \n770.461.4337
URL:https://thecitizen.com/event/new-hope-christmas-tree/2019-12-14/2/
LOCATION:New Hope Baptist Church – North Campus\, 551 New Hope Road\, Fayetteville\, Georgia\, 30214
CATEGORIES:Christmas,Church,Community,Fayetteville,Holidays,Kid-friendly,Live Performances,Music
ATTACH;FMTTYPE=image/jpeg:https://thecitizen.com/wpimport/wp-content/uploads/2019/11/2019-new-hope-baptist-tree-performances.jpg
END:VEVENT
BEGIN:VEVENT
DTSTART;TZID=America/New_York:20191214T180000
DTEND;TZID=America/New_York:20191214T200000
DTSTAMP:20260424T082910
CREATED:20191125T004605Z
LAST-MODIFIED:20191125T004605Z
UID:10000212-1576346400-1576353600@thecitizen.com
SUMMARY:Festival of the Nativity
DESCRIPTION:FESTIVAL OF THE NATIVITY\, Friday\, December 13 – Sunday\, December 15\, 6 to 8 p.m. (Friday and Saturday)\, 4 – 8 p.m. (Sunday)\, Church of Jesus Christ of Latter-Day Saints\, 101 S. Peachtree Parkway\, Peachtree City. \nJoin in the festivities for this 7th annual free event and view hundreds of nativities from around the world\, while enjoying an assortment of Christmas music from various local churches\, schools and community groups. For more information\, go to festivalofthenativity.org.
URL:https://thecitizen.com/event/festival-of-the-nativity/2019-12-14/
LOCATION:Church of Jesus Christ of Latter Day Saints\, 101 Peachtree Parkway\, Peachtree City\, GA\, 30269\, United States
CATEGORIES:Christmas,Church,Free Events,Holidays,Peachtree City
ATTACH;FMTTYPE=image/jpeg:https://thecitizen.com/wpimport/wp-content/uploads/2017/02/news_120316_FestivalNativity_color.jpg
GEO:33.407635;-84.569808
X-APPLE-STRUCTURED-LOCATION;VALUE=URI;X-ADDRESS=Church of Jesus Christ of Latter Day Saints 101 Peachtree Parkway Peachtree City GA 30269 United States;X-APPLE-RADIUS=500;X-TITLE=101 Peachtree Parkway:geo:-84.569808,33.407635
END:VEVENT
BEGIN:VEVENT
DTSTART;TZID=America/New_York:20191214T173000
DTEND;TZID=America/New_York:20191214T193000
DTSTAMP:20260424T082910
CREATED:20191125T005426Z
LAST-MODIFIED:20191125T005426Z
UID:10000214-1576344600-1576351800@thecitizen.com
SUMMARY:Moravian Love Feast
DESCRIPTION:MORAVIAN LOVE FEAST\, Saturday\, December 14\, 6 p.m. (Music prelude begins at 5:30)\, and Sunday\, Dec. 15\, 11 a.m. (Music prelude at 10:30 a.m.)\, Christ Our Shepherd Lutheran Church\, 101 N. Peachtree City Pkwy.\, Peachtree City. \nThe Love Feast has been a tradition in the Moravian Church since 1727. All who attend are served a specially-baked Love Feast bun and either Moravian-recipe coffee or apple juice. The service concludes with all adults receiving beeswax candles dressed with red ruffs. \nThe event includes Christmas music in several styles. These groups play a prelude 30 minutes before the Love Feast\, beginning with carols by the combined church band outside the sanctuary. The congregation joins in singing beloved carols. \nAll are welcome to this free event. Free tickets are available and guarantee an empty seat until ten minutes before the Love Feast begins. For more information\, visit coslutheran.org.
URL:https://thecitizen.com/event/moravian-love-feast/2019-12-14/
LOCATION:Christ Our Shepherd Lutheran Church\, 101 N. Peachtree Parkway\, Peachtree City\, GA\, 30269\, United States
CATEGORIES:Christmas,Church,Free Events,Holidays,Music,Peachtree City
ATTACH;FMTTYPE=image/jpeg:https://thecitizen.com/wpimport/wp-content/uploads/imagesdrup/field/image/Reli_COS-choir-Moravian.jpg
GEO:33.4077284;-84.5697307
X-APPLE-STRUCTURED-LOCATION;VALUE=URI;X-ADDRESS=Christ Our Shepherd Lutheran Church 101 N. Peachtree Parkway Peachtree City GA 30269 United States;X-APPLE-RADIUS=500;X-TITLE=101 N. Peachtree Parkway:geo:-84.5697307,33.4077284
END:VEVENT
BEGIN:VEVENT
DTSTART;TZID=America/New_York:20191214T150000
DTEND;TZID=America/New_York:20191214T170000
DTSTAMP:20260424T082910
CREATED:20191125T004019Z
LAST-MODIFIED:20191208T233929Z
UID:10000207-1576335600-1576342800@thecitizen.com
SUMMARY:New Hope Christmas Tree
DESCRIPTION:The New Hope Christmas Tree is an original story centered around a family reunion in the snowy mountains of Colorado. As with most family reunions\, there is a lot of drama\, singing\, laughing fun. \nThis is a presentation your whole family will enjoy as we together discover the importance of family and Christmas. Join us for one of our 8 performances from December 10 – 15. Free Tickets are available at newhopebc.org/tree. \nLocation: \nNew Hope Baptist Church – North Campus \n551 New Hope Road \nFayetteville\, GA 30214 \n770.461.4337
URL:https://thecitizen.com/event/new-hope-christmas-tree/2019-12-14/1/
LOCATION:New Hope Baptist Church – North Campus\, 551 New Hope Road\, Fayetteville\, Georgia\, 30214
CATEGORIES:Christmas,Church,Community,Fayetteville,Holidays,Kid-friendly,Live Performances,Music
ATTACH;FMTTYPE=image/jpeg:https://thecitizen.com/wpimport/wp-content/uploads/2019/11/2019-new-hope-baptist-tree-performances.jpg
END:VEVENT
BEGIN:VEVENT
DTSTART;TZID=America/New_York:20191213T190000
DTEND;TZID=America/New_York:20191213T210000
DTSTAMP:20260424T082910
CREATED:20191125T004019Z
LAST-MODIFIED:20191208T233929Z
UID:10000206-1576263600-1576270800@thecitizen.com
SUMMARY:New Hope Christmas Tree
DESCRIPTION:The New Hope Christmas Tree is an original story centered around a family reunion in the snowy mountains of Colorado. As with most family reunions\, there is a lot of drama\, singing\, laughing fun. \nThis is a presentation your whole family will enjoy as we together discover the importance of family and Christmas. Join us for one of our 8 performances from December 10 – 15. Free Tickets are available at newhopebc.org/tree. \nLocation: \nNew Hope Baptist Church – North Campus \n551 New Hope Road \nFayetteville\, GA 30214 \n770.461.4337
URL:https://thecitizen.com/event/new-hope-christmas-tree/2019-12-13/
LOCATION:New Hope Baptist Church – North Campus\, 551 New Hope Road\, Fayetteville\, Georgia\, 30214
CATEGORIES:Christmas,Church,Community,Fayetteville,Holidays,Kid-friendly,Live Performances,Music
ATTACH;FMTTYPE=image/jpeg:https://thecitizen.com/wpimport/wp-content/uploads/2019/11/2019-new-hope-baptist-tree-performances.jpg
END:VEVENT
BEGIN:VEVENT
DTSTART;TZID=America/New_York:20191213T180000
DTEND;TZID=America/New_York:20191213T200000
DTSTAMP:20260424T082910
CREATED:20191125T004605Z
LAST-MODIFIED:20191125T004605Z
UID:10000211-1576260000-1576267200@thecitizen.com
SUMMARY:Festival of the Nativity
DESCRIPTION:FESTIVAL OF THE NATIVITY\, Friday\, December 13 – Sunday\, December 15\, 6 to 8 p.m. (Friday and Saturday)\, 4 – 8 p.m. (Sunday)\, Church of Jesus Christ of Latter-Day Saints\, 101 S. Peachtree Parkway\, Peachtree City. \nJoin in the festivities for this 7th annual free event and view hundreds of nativities from around the world\, while enjoying an assortment of Christmas music from various local churches\, schools and community groups. For more information\, go to festivalofthenativity.org.
URL:https://thecitizen.com/event/festival-of-the-nativity/2019-12-13/
LOCATION:Church of Jesus Christ of Latter Day Saints\, 101 Peachtree Parkway\, Peachtree City\, GA\, 30269\, United States
CATEGORIES:Christmas,Church,Free Events,Holidays,Peachtree City
ATTACH;FMTTYPE=image/jpeg:https://thecitizen.com/wpimport/wp-content/uploads/2017/02/news_120316_FestivalNativity_color.jpg
GEO:33.407635;-84.569808
X-APPLE-STRUCTURED-LOCATION;VALUE=URI;X-ADDRESS=Church of Jesus Christ of Latter Day Saints 101 Peachtree Parkway Peachtree City GA 30269 United States;X-APPLE-RADIUS=500;X-TITLE=101 Peachtree Parkway:geo:-84.569808,33.407635
END:VEVENT
BEGIN:VEVENT
DTSTART;TZID=America/New_York:20191212T190000
DTEND;TZID=America/New_York:20191212T210000
DTSTAMP:20260424T082910
CREATED:20191125T004019Z
LAST-MODIFIED:20191208T233929Z
UID:10000205-1576177200-1576184400@thecitizen.com
SUMMARY:New Hope Christmas Tree
DESCRIPTION:The New Hope Christmas Tree is an original story centered around a family reunion in the snowy mountains of Colorado. As with most family reunions\, there is a lot of drama\, singing\, laughing fun. \nThis is a presentation your whole family will enjoy as we together discover the importance of family and Christmas. Join us for one of our 8 performances from December 10 – 15. Free Tickets are available at newhopebc.org/tree. \nLocation: \nNew Hope Baptist Church – North Campus \n551 New Hope Road \nFayetteville\, GA 30214 \n770.461.4337
URL:https://thecitizen.com/event/new-hope-christmas-tree/2019-12-12/
LOCATION:New Hope Baptist Church – North Campus\, 551 New Hope Road\, Fayetteville\, Georgia\, 30214
CATEGORIES:Christmas,Church,Community,Fayetteville,Holidays,Kid-friendly,Live Performances,Music
ATTACH;FMTTYPE=image/jpeg:https://thecitizen.com/wpimport/wp-content/uploads/2019/11/2019-new-hope-baptist-tree-performances.jpg
END:VEVENT
BEGIN:VEVENT
DTSTART;TZID=America/New_York:20191211T190000
DTEND;TZID=America/New_York:20191211T210000
DTSTAMP:20260424T082910
CREATED:20191125T004019Z
LAST-MODIFIED:20191208T233929Z
UID:10000204-1576090800-1576098000@thecitizen.com
SUMMARY:New Hope Christmas Tree
DESCRIPTION:The New Hope Christmas Tree is an original story centered around a family reunion in the snowy mountains of Colorado. As with most family reunions\, there is a lot of drama\, singing\, laughing fun. \nThis is a presentation your whole family will enjoy as we together discover the importance of family and Christmas. Join us for one of our 8 performances from December 10 – 15. Free Tickets are available at newhopebc.org/tree. \nLocation: \nNew Hope Baptist Church – North Campus \n551 New Hope Road \nFayetteville\, GA 30214 \n770.461.4337
URL:https://thecitizen.com/event/new-hope-christmas-tree/2019-12-11/
LOCATION:New Hope Baptist Church – North Campus\, 551 New Hope Road\, Fayetteville\, Georgia\, 30214
CATEGORIES:Christmas,Church,Community,Fayetteville,Holidays,Kid-friendly,Live Performances,Music
ATTACH;FMTTYPE=image/jpeg:https://thecitizen.com/wpimport/wp-content/uploads/2019/11/2019-new-hope-baptist-tree-performances.jpg
END:VEVENT
BEGIN:VEVENT
DTSTART;TZID=America/New_York:20191210T190000
DTEND;TZID=America/New_York:20191210T210000
DTSTAMP:20260424T082910
CREATED:20191125T004019Z
LAST-MODIFIED:20191208T233929Z
UID:10000203-1576004400-1576011600@thecitizen.com
SUMMARY:New Hope Christmas Tree
DESCRIPTION:The New Hope Christmas Tree is an original story centered around a family reunion in the snowy mountains of Colorado. As with most family reunions\, there is a lot of drama\, singing\, laughing fun. \nThis is a presentation your whole family will enjoy as we together discover the importance of family and Christmas. Join us for one of our 8 performances from December 10 – 15. Free Tickets are available at newhopebc.org/tree. \nLocation: \nNew Hope Baptist Church – North Campus \n551 New Hope Road \nFayetteville\, GA 30214 \n770.461.4337
URL:https://thecitizen.com/event/new-hope-christmas-tree/2019-12-10/
LOCATION:New Hope Baptist Church – North Campus\, 551 New Hope Road\, Fayetteville\, Georgia\, 30214
CATEGORIES:Christmas,Church,Community,Fayetteville,Holidays,Kid-friendly,Live Performances,Music
ATTACH;FMTTYPE=image/jpeg:https://thecitizen.com/wpimport/wp-content/uploads/2019/11/2019-new-hope-baptist-tree-performances.jpg
END:VEVENT
END:VCALENDAR