BEGIN:VCALENDAR
VERSION:2.0
PRODID:-//The Citizen - ECPv6.15.20//NONSGML v1.0//EN
CALSCALE:GREGORIAN
METHOD:PUBLISH
X-ORIGINAL-URL:https://thecitizen.com
X-WR-CALDESC:Events for The Citizen
REFRESH-INTERVAL;VALUE=DURATION:PT1H
X-Robots-Tag:noindex
X-PUBLISHED-TTL:PT1H
BEGIN:VTIMEZONE
TZID:America/New_York
BEGIN:DAYLIGHT
TZOFFSETFROM:-0500
TZOFFSETTO:-0400
TZNAME:EDT
DTSTART:20180311T070000
END:DAYLIGHT
BEGIN:STANDARD
TZOFFSETFROM:-0400
TZOFFSETTO:-0500
TZNAME:EST
DTSTART:20181104T060000
END:STANDARD
BEGIN:DAYLIGHT
TZOFFSETFROM:-0500
TZOFFSETTO:-0400
TZNAME:EDT
DTSTART:20190310T070000
END:DAYLIGHT
BEGIN:STANDARD
TZOFFSETFROM:-0400
TZOFFSETTO:-0500
TZNAME:EST
DTSTART:20191103T060000
END:STANDARD
BEGIN:DAYLIGHT
TZOFFSETFROM:-0500
TZOFFSETTO:-0400
TZNAME:EDT
DTSTART:20200308T070000
END:DAYLIGHT
BEGIN:STANDARD
TZOFFSETFROM:-0400
TZOFFSETTO:-0500
TZNAME:EST
DTSTART:20201101T060000
END:STANDARD
END:VTIMEZONE
BEGIN:VEVENT
DTSTART;TZID=America/New_York:20191221T090000
DTEND;TZID=America/New_York:20191221T160000
DTSTAMP:20260420T002810
CREATED:20191121T003815Z
LAST-MODIFIED:20191121T003815Z
UID:10000201-1576918800-1576944000@thecitizen.com
SUMMARY:Peachtree City Santa Run
DESCRIPTION:SANTA RUN\, Saturdays\, December 7\, 14\, and 21\, and Sundays\, Dec. 8\, 15\, and 22\, various times\, Peachtree City. Don’t forget to watch for Santa visiting Peachtree City atop one of the Peachtree City Volunteer Fire Department trucks. The Santa Run will make its rounds throughout the city on Saturdays and Sundays in December\, leading up to Christmas. Donations of food and toys will be accepted to help support local charities. For more information\, visit pcfd.com.
URL:https://thecitizen.com/event/peachtree-city-santa-run/2019-12-21/
LOCATION:GA
CATEGORIES:Community,Holidays,Nonprofits,Peachtree City,Sunday,Weekend
ATTACH;FMTTYPE=image/jpeg:https://thecitizen.com/wpimport/wp-content/uploads/2018/12/news_120518_PTC-Santa-in-shades.jpg
END:VEVENT
BEGIN:VEVENT
DTSTART;TZID=America/New_York:20191221T150000
DTEND;TZID=America/New_York:20191221T170000
DTSTAMP:20260420T002810
CREATED:20250702T225947Z
LAST-MODIFIED:20250702T225947Z
UID:10000265-1576940400-1576947600@thecitizen.com
SUMMARY:Sanders Family Christmas
DESCRIPTION:The heartfelt holiday musical\, Sanders Family Christmas is the sequel to the bluegrass hit\,Smoke on the Mountain! Sanders Family Christmas opens November 22 and runs through December 22 at The Legacy Theatre in Tyrone. \n“Sanders Family Christmas is a great holiday show for everyone. The cast is full of talented actor/musicians. I think the best part is seeing these characters play all the music live as well as act and sing.” says Mark Smith\, director. “We’ve produced Smoke on the Mountain and Sanders Family Christmas before\, and they’ve both been audience favorites. So\, we decided it was time to bring back the Sanders family for Christmas!” \nSanders Family Christmas runs November 22 through December 22 with performances Fridays & Saturdays at 8 pm and Saturdays & Sundays at 3 pm. Adult tickets are $30-$40\, Senior & Student discounts are available as well as discounts for groups. Tickets can be purchased online at www.thelegacytheatre.org or by calling the Box Office at 404-895-1473. The Legacy Theatre is located at 1175 Senoia Rd. in Tyrone\, GA.
URL:https://thecitizen.com/event/sanders-family-christmas/2019-12-21/
LOCATION:The Legacy Theatre\, 1175 Senoia Road\, Tyrone\, GA\, 30290\, United States
CATEGORIES:Arts,Friday Night,Holidays,Live Performances,Music,Saturday Night,Sunday,Theater
ATTACH;FMTTYPE=image/jpeg:https://thecitizen.com/wpimport/wp-content/uploads/2019/11/Sanders_Family_Christmas_Legacy_Theatre_2019.jpg
GEO:33.4891702;-84.5826316
X-APPLE-STRUCTURED-LOCATION;VALUE=URI;X-ADDRESS=The Legacy Theatre 1175 Senoia Road Tyrone GA 30290 United States;X-APPLE-RADIUS=500;X-TITLE=1175 Senoia Road:geo:-84.5826316,33.4891702
END:VEVENT
BEGIN:VEVENT
DTSTART;TZID=America/New_York:20191221T200000
DTEND;TZID=America/New_York:20191221T220000
DTSTAMP:20260420T002810
CREATED:20191118T185526Z
LAST-MODIFIED:20191118T185647Z
UID:10000252-1576958400-1576965600@thecitizen.com
SUMMARY:Sanders Family Christmas
DESCRIPTION:The heartfelt holiday musical\, Sanders Family Christmas is the sequel to the bluegrass hit\,Smoke on the Mountain! Sanders Family Christmas opens November 22 and runs through December 22 at The Legacy Theatre in Tyrone. \n“Sanders Family Christmas is a great holiday show for everyone. The cast is full of talented actor/musicians. I think the best part is seeing these characters play all the music live as well as act and sing.” says Mark Smith\, director. “We’ve produced Smoke on the Mountain and Sanders Family Christmas before\, and they’ve both been audience favorites. So\, we decided it was time to bring back the Sanders family for Christmas!” \nSanders Family Christmas runs November 22 through December 22 with performances Fridays & Saturdays at 8 pm and Saturdays & Sundays at 3 pm. Adult tickets are $30-$40\, Senior & Student discounts are available as well as discounts for groups. Tickets can be purchased online at www.thelegacytheatre.org or by calling the Box Office at 404-895-1473. The Legacy Theatre is located at 1175 Senoia Rd. in Tyrone\, GA.
URL:https://thecitizen.com/event/sanders-family-christmas/2019-12-21/
LOCATION:The Legacy Theatre\, 1175 Senoia Road\, Tyrone\, GA\, 30290\, United States
CATEGORIES:Arts,Friday Night,Holidays,Live Performances,Music,Saturday Night,Sunday,Theater
ATTACH;FMTTYPE=image/jpeg:https://thecitizen.com/wpimport/wp-content/uploads/2019/11/Sanders_Family_Christmas_Legacy_Theatre_2019.jpg
GEO:33.4891702;-84.5826316
X-APPLE-STRUCTURED-LOCATION;VALUE=URI;X-ADDRESS=The Legacy Theatre 1175 Senoia Road Tyrone GA 30290 United States;X-APPLE-RADIUS=500;X-TITLE=1175 Senoia Road:geo:-84.5826316,33.4891702
END:VEVENT
END:VCALENDAR