BEGIN:VCALENDAR
VERSION:2.0
PRODID:-//The Citizen - ECPv6.15.20//NONSGML v1.0//EN
CALSCALE:GREGORIAN
METHOD:PUBLISH
X-ORIGINAL-URL:https://thecitizen.com
X-WR-CALDESC:Events for The Citizen
REFRESH-INTERVAL;VALUE=DURATION:PT1H
X-Robots-Tag:noindex
X-PUBLISHED-TTL:PT1H
BEGIN:VTIMEZONE
TZID:America/New_York
BEGIN:DAYLIGHT
TZOFFSETFROM:-0500
TZOFFSETTO:-0400
TZNAME:EDT
DTSTART:20180311T070000
END:DAYLIGHT
BEGIN:STANDARD
TZOFFSETFROM:-0400
TZOFFSETTO:-0500
TZNAME:EST
DTSTART:20181104T060000
END:STANDARD
BEGIN:DAYLIGHT
TZOFFSETFROM:-0500
TZOFFSETTO:-0400
TZNAME:EDT
DTSTART:20190310T070000
END:DAYLIGHT
BEGIN:STANDARD
TZOFFSETFROM:-0400
TZOFFSETTO:-0500
TZNAME:EST
DTSTART:20191103T060000
END:STANDARD
BEGIN:DAYLIGHT
TZOFFSETFROM:-0500
TZOFFSETTO:-0400
TZNAME:EDT
DTSTART:20200308T070000
END:DAYLIGHT
BEGIN:STANDARD
TZOFFSETFROM:-0400
TZOFFSETTO:-0500
TZNAME:EST
DTSTART:20201101T060000
END:STANDARD
END:VTIMEZONE
BEGIN:VEVENT
DTSTART;TZID=America/New_York:20191212T120000
DTEND;TZID=America/New_York:20191212T130000
DTSTAMP:20260420T091021
CREATED:20190830T230354Z
LAST-MODIFIED:20250408T022306Z
UID:10000795-1576152000-1576155600@thecitizen.com
SUMMARY:Rotary Club of Peachtree City meets on Thursdays
DESCRIPTION:ROTARY CLUB OF PEACHTREE CITY meets Thursdays at 12 p.m. at Peachtree Center Conference Center\, 2443 Highway 54 West\, Peachtree City. Rotary’s main objective is service in the community\, in the workplace\, and around the globe. The 1.2 million Rotarians who make up more than 34\,000 Rotary clubs in nearly every country in the world share a dedication to the ideal of  Service above Self. Rotary clubs are open to people of all cultures and ethnicities and are not affiliated with any political or religious organizations. \nFor more information\, visit www.peachtreecityrotary.org.
URL:https://thecitizen.com/event/rotary-club-of-peachtree-city-meets-on-thursdays/2019-12-12/
LOCATION:Peachtree City Atlanta Hotel and Conference Center\, 2443 Highway 54 West\, Peachtree City\, GA\, 30269\, United States
ATTACH;FMTTYPE=image/jpeg:https://thecitizen.com/wpimport/wp-content/uploads/2017/01/peachtree-city-rotary-club.jpg
GEO:33.404684;-84.5759171
X-APPLE-STRUCTURED-LOCATION;VALUE=URI;X-ADDRESS=Peachtree City Atlanta Hotel and Conference Center 2443 Highway 54 West Peachtree City GA 30269 United States;X-APPLE-RADIUS=500;X-TITLE=2443 Highway 54 West:geo:-84.5759171,33.404684
END:VEVENT
BEGIN:VEVENT
DTSTART;TZID=America/New_York:20191212T173000
DTEND;TZID=America/New_York:20191212T210000
DTSTAMP:20260420T091021
CREATED:20191121T000004Z
LAST-MODIFIED:20191201T222742Z
UID:10000274-1576171800-1576184400@thecitizen.com
SUMMARY:Toy Drive
DESCRIPTION:LIGHT UP THE NIGHT TOY DRIVE\, Nov. 29\, 30 and Dec. 5\, 6\, 12\, 13 and 14\, 5:30 – 9:00 p.m.\, Wal-Mart Peachtree City \nThe Peachtree City Police Department and the CERT Program are teaming up for the annual Light Up the Night Toy Drive. Bring a new\, unwrapped toy and help make a child’s holiday season a little brighter this year. Dates subject to change based on weather. \nFor more information\, contact Asst. Chief Stan Pye at spye@peachtree-city.org.
URL:https://thecitizen.com/event/toy-drive/2019-12-12/
LOCATION:Walmart\, 2717 Ga. 54\, Peachtree City\, Georgia\, 30269
CATEGORIES:Community,Holidays
ATTACH;FMTTYPE=image/jpeg:https://thecitizen.com/wpimport/wp-content/uploads/imagesdrup/field/image/151202ToyDrive_web.jpg
END:VEVENT
BEGIN:VEVENT
DTSTART;TZID=America/New_York:20191212T190000
DTEND;TZID=America/New_York:20191212T210000
DTSTAMP:20260420T091021
CREATED:20191125T004019Z
LAST-MODIFIED:20191208T233929Z
UID:10000205-1576177200-1576184400@thecitizen.com
SUMMARY:New Hope Christmas Tree
DESCRIPTION:The New Hope Christmas Tree is an original story centered around a family reunion in the snowy mountains of Colorado. As with most family reunions\, there is a lot of drama\, singing\, laughing fun. \nThis is a presentation your whole family will enjoy as we together discover the importance of family and Christmas. Join us for one of our 8 performances from December 10 – 15. Free Tickets are available at newhopebc.org/tree. \nLocation: \nNew Hope Baptist Church – North Campus \n551 New Hope Road \nFayetteville\, GA 30214 \n770.461.4337
URL:https://thecitizen.com/event/new-hope-christmas-tree/2019-12-12/
LOCATION:New Hope Baptist Church – North Campus\, 551 New Hope Road\, Fayetteville\, Georgia\, 30214
CATEGORIES:Christmas,Church,Community,Fayetteville,Holidays,Kid-friendly,Live Performances,Music
ATTACH;FMTTYPE=image/jpeg:https://thecitizen.com/wpimport/wp-content/uploads/2019/11/2019-new-hope-baptist-tree-performances.jpg
END:VEVENT
BEGIN:VEVENT
DTSTART;TZID=America/New_York:20191212T200000
DTEND;TZID=America/New_York:20191212T220000
DTSTAMP:20260420T091021
CREATED:20191201T233755Z
LAST-MODIFIED:20191208T233653Z
UID:10002209-1576180800-1576188000@thecitizen.com
SUMMARY:A Tuna Christmas
DESCRIPTION:“A Tuna Christmas” opens December 5 at Southside Theatre Guild. \nWritten by Jaston Williams\, Joe Sears\, and Ed Howard\, and originally produced by Charles H. Duggan\, “A Tuna Christmas” takes place in the made-up town of Tuna\, Texas\, where two men\, Aries Struvie and Thurston Wheeler\, run a local radio station. It’s Christmas time in Tuna and a lot is going on. \nThe show stars Sharpsburgh’s Glen Heath and Fayetteville’s Jason Lindsey. \n“A Tuna Christmas” runs Thursdays through Sundays\, December 5 -15\, at Southside Theatre Guild in Fairburn. Showtimes are 8 pm Thursday through Saturday and 2:30 pm on Sundays. \nTickets are $12 for students\, $15 for Thursday performances and $20 for weekend shows if purchased online. \nVisit stgplays.com for tickets and additional information.
URL:https://thecitizen.com/event/a-tuna-christmas/2019-12-12/
LOCATION:Southside Theatre Guild\, 20 W. Campbellton St.\, Fairburn\, GA\, 30213\, United States
CATEGORIES:Arts,Friday Night,Holidays,Live Performances,Saturday Night,Sunday,Theater
ATTACH;FMTTYPE=image/jpeg:https://thecitizen.com/wpimport/wp-content/uploads/2019/12/a-tuna-christmas.jpg
GEO:33.5671605;-84.582259
X-APPLE-STRUCTURED-LOCATION;VALUE=URI;X-ADDRESS=Southside Theatre Guild 20 W. Campbellton St. Fairburn GA 30213 United States;X-APPLE-RADIUS=500;X-TITLE=20 W. Campbellton St.:geo:-84.582259,33.5671605
END:VEVENT
END:VCALENDAR