BEGIN:VCALENDAR
VERSION:2.0
PRODID:-//The Citizen - ECPv6.15.20//NONSGML v1.0//EN
CALSCALE:GREGORIAN
METHOD:PUBLISH
X-WR-CALNAME:The Citizen
X-ORIGINAL-URL:https://thecitizen.com
X-WR-CALDESC:Events for The Citizen
REFRESH-INTERVAL;VALUE=DURATION:PT1H
X-Robots-Tag:noindex
X-PUBLISHED-TTL:PT1H
BEGIN:VTIMEZONE
TZID:America/New_York
BEGIN:DAYLIGHT
TZOFFSETFROM:-0500
TZOFFSETTO:-0400
TZNAME:EDT
DTSTART:20180311T070000
END:DAYLIGHT
BEGIN:STANDARD
TZOFFSETFROM:-0400
TZOFFSETTO:-0500
TZNAME:EST
DTSTART:20181104T060000
END:STANDARD
BEGIN:DAYLIGHT
TZOFFSETFROM:-0500
TZOFFSETTO:-0400
TZNAME:EDT
DTSTART:20190310T070000
END:DAYLIGHT
BEGIN:STANDARD
TZOFFSETFROM:-0400
TZOFFSETTO:-0500
TZNAME:EST
DTSTART:20191103T060000
END:STANDARD
BEGIN:DAYLIGHT
TZOFFSETFROM:-0500
TZOFFSETTO:-0400
TZNAME:EDT
DTSTART:20200308T070000
END:DAYLIGHT
BEGIN:STANDARD
TZOFFSETFROM:-0400
TZOFFSETTO:-0500
TZNAME:EST
DTSTART:20201101T060000
END:STANDARD
END:VTIMEZONE
BEGIN:VEVENT
DTSTART;TZID=America/New_York:20191210T190000
DTEND;TZID=America/New_York:20191210T210000
DTSTAMP:20260420T181946
CREATED:20191125T004019Z
LAST-MODIFIED:20191208T233929Z
UID:10000203-1576004400-1576011600@thecitizen.com
SUMMARY:New Hope Christmas Tree
DESCRIPTION:The New Hope Christmas Tree is an original story centered around a family reunion in the snowy mountains of Colorado. As with most family reunions\, there is a lot of drama\, singing\, laughing fun. \nThis is a presentation your whole family will enjoy as we together discover the importance of family and Christmas. Join us for one of our 8 performances from December 10 – 15. Free Tickets are available at newhopebc.org/tree. \nLocation: \nNew Hope Baptist Church – North Campus \n551 New Hope Road \nFayetteville\, GA 30214 \n770.461.4337
URL:https://thecitizen.com/event/new-hope-christmas-tree/2019-12-10/
LOCATION:New Hope Baptist Church – North Campus\, 551 New Hope Road\, Fayetteville\, Georgia\, 30214
CATEGORIES:Christmas,Church,Community,Fayetteville,Holidays,Kid-friendly,Live Performances,Music
ATTACH;FMTTYPE=image/jpeg:https://thecitizen.com/wpimport/wp-content/uploads/2019/11/2019-new-hope-baptist-tree-performances.jpg
END:VEVENT
END:VCALENDAR