BEGIN:VCALENDAR
VERSION:2.0
PRODID:-//The Citizen - ECPv6.15.20//NONSGML v1.0//EN
CALSCALE:GREGORIAN
METHOD:PUBLISH
X-WR-CALNAME:The Citizen
X-ORIGINAL-URL:https://thecitizen.com
X-WR-CALDESC:Events for The Citizen
REFRESH-INTERVAL;VALUE=DURATION:PT1H
X-Robots-Tag:noindex
X-PUBLISHED-TTL:PT1H
BEGIN:VTIMEZONE
TZID:America/New_York
BEGIN:DAYLIGHT
TZOFFSETFROM:-0500
TZOFFSETTO:-0400
TZNAME:EDT
DTSTART:20180311T070000
END:DAYLIGHT
BEGIN:STANDARD
TZOFFSETFROM:-0400
TZOFFSETTO:-0500
TZNAME:EST
DTSTART:20181104T060000
END:STANDARD
BEGIN:DAYLIGHT
TZOFFSETFROM:-0500
TZOFFSETTO:-0400
TZNAME:EDT
DTSTART:20190310T070000
END:DAYLIGHT
BEGIN:STANDARD
TZOFFSETFROM:-0400
TZOFFSETTO:-0500
TZNAME:EST
DTSTART:20191103T060000
END:STANDARD
BEGIN:DAYLIGHT
TZOFFSETFROM:-0500
TZOFFSETTO:-0400
TZNAME:EDT
DTSTART:20200308T070000
END:DAYLIGHT
BEGIN:STANDARD
TZOFFSETFROM:-0400
TZOFFSETTO:-0500
TZNAME:EST
DTSTART:20201101T060000
END:STANDARD
END:VTIMEZONE
BEGIN:VEVENT
DTSTART;VALUE=DATE:20191105
DTEND;VALUE=DATE:20191106
DTSTAMP:20260419T193912
CREATED:20191030T200057Z
LAST-MODIFIED:20191105T210617Z
UID:10000224-1572912000-1572998399@thecitizen.com
SUMMARY:2019 Fall Pastry Sale
DESCRIPTION:It’s holiday season! \nPlace your order at saintchristopherhoc.org and scroll to the bottom right to “Our Fall 2019 Pastry Sale.” \nFor newbies\, a sampler dozen is the best way to go! All items are locally prepared and make fabulous holiday gifts! Order deadline is November 15. \nAny questions call 817-690-6610 (ask for Dedee) or email wreay@yahoo.com.
URL:https://thecitizen.com/event/2019-fall-pastry-sale/2019-11-05/
LOCATION:GA
CATEGORIES:Church,Food,Fundraiser,Holidays,Nonprofits
ATTACH;FMTTYPE=image/jpeg:https://thecitizen.com/wpimport/wp-content/uploads/2019/10/Spanakopita_Saint_Christopher_HOC_Pastry_Sale.jpg
END:VEVENT
BEGIN:VEVENT
DTSTART;TZID=America/New_York:20191105T183000
DTEND;TZID=America/New_York:20191105T203000
DTSTAMP:20260419T193912
CREATED:20190901T140958Z
LAST-MODIFIED:20241205T183215Z
UID:10000353-1572978600-1572985800@thecitizen.com
SUMMARY:Envision Support Group for Visually Impaired
DESCRIPTION:ENVISION SUPPORT GROUP FOR THE VISUALLY IMPAIRED meets the 1st Tuesday of each month at 6:30 – 8:30 p.m. at Arbor Terrace\, 201 Crosstown Dr.\, Peachtree City in the multi-purpose room on the second floor. \nThe purpose of this group is to educate\, encourage and empower those who are experiencing vision loss. Family and friends are welcome. Transportation can be arranged. \nFor more information\, call Audrey Demmitt at 770-631-6455 or email audreymagoo@gmail.com.
URL:https://thecitizen.com/event/envision-support-group-for-visually-impaired/2019-11-05/
LOCATION:Arbor Terrace\, 201 Crosstown Drive\, Peachtree City\, Georgia\, 30269
CATEGORIES:Support Groups
ORGANIZER;CN="Audrey Demmitt":MAILTO:audreymagoo@gmail.com
END:VEVENT
END:VCALENDAR