BEGIN:VCALENDAR
VERSION:2.0
PRODID:-//The Citizen - ECPv6.15.20//NONSGML v1.0//EN
CALSCALE:GREGORIAN
METHOD:PUBLISH
X-WR-CALNAME:The Citizen
X-ORIGINAL-URL:https://thecitizen.com
X-WR-CALDESC:Events for The Citizen
REFRESH-INTERVAL;VALUE=DURATION:PT1H
X-Robots-Tag:noindex
X-PUBLISHED-TTL:PT1H
BEGIN:VTIMEZONE
TZID:America/New_York
BEGIN:DAYLIGHT
TZOFFSETFROM:-0500
TZOFFSETTO:-0400
TZNAME:EDT
DTSTART:20180311T070000
END:DAYLIGHT
BEGIN:STANDARD
TZOFFSETFROM:-0400
TZOFFSETTO:-0500
TZNAME:EST
DTSTART:20181104T060000
END:STANDARD
BEGIN:DAYLIGHT
TZOFFSETFROM:-0500
TZOFFSETTO:-0400
TZNAME:EDT
DTSTART:20190310T070000
END:DAYLIGHT
BEGIN:STANDARD
TZOFFSETFROM:-0400
TZOFFSETTO:-0500
TZNAME:EST
DTSTART:20191103T060000
END:STANDARD
BEGIN:DAYLIGHT
TZOFFSETFROM:-0500
TZOFFSETTO:-0400
TZNAME:EDT
DTSTART:20200308T070000
END:DAYLIGHT
BEGIN:STANDARD
TZOFFSETFROM:-0400
TZOFFSETTO:-0500
TZNAME:EST
DTSTART:20201101T060000
END:STANDARD
END:VTIMEZONE
BEGIN:VEVENT
DTSTART;TZID=America/New_York:20190929T150000
DTEND;TZID=America/New_York:20190929T170000
DTSTAMP:20260420T013117
CREATED:20250702T225949Z
LAST-MODIFIED:20250702T225949Z
UID:10000339-1569769200-1569776400@thecitizen.com
SUMMARY:The Complete Works of Shakespeare on stage at The Legacy
DESCRIPTION:London’s longest-running comedy! Join these madcap men in tights as they weave their wicked way through all of Shakespeare’s plays in one wild ride that will leave you breathless and helpless with laughter.\nThe Complete Works of Shakespeare runs September 20 through October 13 with performances Fridays and Saturdays at 8 pm and Saturdays and Sundays at 3 pm.\nAdult tickets are $30-$35. Senior and student discounts are available as well as discounts for groups of 20 or more.\nTickets and subscriptions are available at www.thelegacytheatre.org\nby calling the Box Office at 404-895-1473.\nThe Legacy Theatre is located at 1175 Senoia Rd. in Tyrone\, Georgia.
URL:https://thecitizen.com/event/complete-works-shakespeare-stage-legacy/2019-09-29/
LOCATION:GA
CATEGORIES:Arts,Live Performances,Theater
ATTACH;FMTTYPE=image/png:https://thecitizen.com/wpimport/wp-content/uploads/2019/09/complete-works-shakespeare-legacy-theatre.png
END:VEVENT
BEGIN:VEVENT
DTSTART;TZID=America/New_York:20190929T193000
DTEND;TZID=America/New_York:20190929T203000
DTSTAMP:20260420T013117
CREATED:20190906T100812Z
LAST-MODIFIED:20190906T101142Z
UID:10000555-1569785400-1569789000@thecitizen.com
SUMMARY:High Holy Holiday Schedule
DESCRIPTION:Congregation B’nai Israel wishes all Jews a Happy New Year and invites all to join us for High Holy Holidays for the year 5780. \nTickets can be acquired\, there is no charge but a donation is encouraged\, by calling the office\, (678) 817-7162\, and leaving your name and phone number for more information. There is no charge but a donation is encouraged. \nRabbi Lou Feldstein will officiate the services. \nService times are: \nErev Rosh Hashana – Sunday\, September 29\, 2019\, at 7:30 p.m. \nRosh Hashana – Monday\, September 30\, 2019\, at 10 a.m. \nKol Nidre – Tuesday\, October 8\, 2019\, at 7:30 p.m. \nYom Kippur – Wednesday\, October 9\, 2019:  morning service at 10 a.m.\, Yizkor/Afternoon service at 4 p.m.
URL:https://thecitizen.com/event/high-holy-holiday-schedule/2019-09-29/
LOCATION:Congregation Bnai Israel\, 1633 GA-54\, Jonesboro\, Georgia\, 30238
CATEGORIES:Religion
END:VEVENT
END:VCALENDAR